| Back to Multiple platform build/check report for BioC 3.11 |
|
This page was generated on 2020-10-16 11:59:00 -0400 (Fri, 16 Oct 2020).
| TO THE DEVELOPERS/MAINTAINERS OF THE SVAPLSseq PACKAGE: Please make sure to use the following settings in order to reproduce any error or warning you see on this page. |
| Package 1764/1905 | Hostname | OS / Arch | INSTALL | BUILD | CHECK | BUILD BIN | ||||||
| SVAPLSseq 1.14.0 Sutirtha Chakraborty
| malbec2 | Linux (Ubuntu 18.04.4 LTS) / x86_64 | OK | OK | ERROR | |||||||
| tokay2 | Windows Server 2012 R2 Standard / x64 | OK | OK | ERROR | [ OK ] | |||||||
| machv2 | macOS 10.14.6 Mojave / x86_64 | OK | OK | ERROR | OK |
| Package: SVAPLSseq |
| Version: 1.14.0 |
| Command: rm -rf SVAPLSseq.buildbin-libdir && mkdir SVAPLSseq.buildbin-libdir && C:\Users\biocbuild\bbs-3.11-bioc\R\bin\R.exe CMD INSTALL --merge-multiarch --build --library=SVAPLSseq.buildbin-libdir SVAPLSseq_1.14.0.tar.gz |
| StartedAt: 2020-10-16 11:26:47 -0400 (Fri, 16 Oct 2020) |
| EndedAt: 2020-10-16 11:27:31 -0400 (Fri, 16 Oct 2020) |
| EllapsedTime: 43.2 seconds |
| RetCode: 0 |
| Status: OK |
| PackageFile: SVAPLSseq_1.14.0.zip |
| PackageFileSize: 292.3 KiB |
##############################################################################
##############################################################################
###
### Running command:
###
### rm -rf SVAPLSseq.buildbin-libdir && mkdir SVAPLSseq.buildbin-libdir && C:\Users\biocbuild\bbs-3.11-bioc\R\bin\R.exe CMD INSTALL --merge-multiarch --build --library=SVAPLSseq.buildbin-libdir SVAPLSseq_1.14.0.tar.gz
###
##############################################################################
##############################################################################
install for i386
* installing *source* package 'SVAPLSseq' ...
** using staged installation
** R
** data
** inst
** byte-compile and prepare package for lazy loading
** help
*** installing help indices
converting help for package 'SVAPLSseq'
finding HTML links ... done
SVAPLSseq-package html
prop.vars html
pvs.adj html
pvs.unadj html
sig.features html
sim.dat html
surr html
svplsSurr-class html
svplsSurr html
svplsTest-class html
svplsTest html
** building package indices
** installing vignettes
** testing if installed package can be loaded from temporary location
** testing if installed package can be loaded from final location
** testing if installed package keeps a record of temporary installation path
install for x64
* installing *source* package 'SVAPLSseq' ...
** testing if installed package can be loaded
* MD5 sums
packaged installation of 'SVAPLSseq' as SVAPLSseq_1.14.0.zip
* DONE (SVAPLSseq)