| Back to Multiple platform build/check report for BioC 3.11 |
|
This page was generated on 2020-10-16 11:58:57 -0400 (Fri, 16 Oct 2020).
| TO THE DEVELOPERS/MAINTAINERS OF THE SQLDataFrame PACKAGE: Please make sure to use the following settings in order to reproduce any error or warning you see on this page. |
| Package 1724/1905 | Hostname | OS / Arch | INSTALL | BUILD | CHECK | BUILD BIN | ||||||
| SQLDataFrame 1.2.0 Qian Liu
| malbec2 | Linux (Ubuntu 18.04.4 LTS) / x86_64 | OK | OK | WARNINGS | |||||||
| tokay2 | Windows Server 2012 R2 Standard / x64 | OK | OK | WARNINGS | [ OK ] | |||||||
| machv2 | macOS 10.14.6 Mojave / x86_64 | OK | OK | WARNINGS | OK |
| Package: SQLDataFrame |
| Version: 1.2.0 |
| Command: rm -rf SQLDataFrame.buildbin-libdir && mkdir SQLDataFrame.buildbin-libdir && C:\Users\biocbuild\bbs-3.11-bioc\R\bin\R.exe CMD INSTALL --merge-multiarch --build --library=SQLDataFrame.buildbin-libdir SQLDataFrame_1.2.0.tar.gz |
| StartedAt: 2020-10-16 11:24:13 -0400 (Fri, 16 Oct 2020) |
| EndedAt: 2020-10-16 11:24:57 -0400 (Fri, 16 Oct 2020) |
| EllapsedTime: 43.7 seconds |
| RetCode: 0 |
| Status: OK |
| PackageFile: SQLDataFrame_1.2.0.zip |
| PackageFileSize: 874.9 KiB |
##############################################################################
##############################################################################
###
### Running command:
###
### rm -rf SQLDataFrame.buildbin-libdir && mkdir SQLDataFrame.buildbin-libdir && C:\Users\biocbuild\bbs-3.11-bioc\R\bin\R.exe CMD INSTALL --merge-multiarch --build --library=SQLDataFrame.buildbin-libdir SQLDataFrame_1.2.0.tar.gz
###
##############################################################################
##############################################################################
install for i386
* installing *source* package 'SQLDataFrame' ...
** using staged installation
** R
** inst
** byte-compile and prepare package for lazy loading
** help
*** installing help indices
converting help for package 'SQLDataFrame'
finding HTML links ... done
SQLDataFrame-class html
SQLDataFrame-methods html
joinSQLDataFrame html
makeSQLDataFrame html
rbindSQLDataFrame html
saveSQLDataFrame html
unionSQLDataFrame html
** building package indices
** installing vignettes
** testing if installed package can be loaded from temporary location
** testing if installed package can be loaded from final location
** testing if installed package keeps a record of temporary installation path
install for x64
* installing *source* package 'SQLDataFrame' ...
** testing if installed package can be loaded
* MD5 sums
packaged installation of 'SQLDataFrame' as SQLDataFrame_1.2.0.zip
* DONE (SQLDataFrame)