| Back to Multiple platform build/check report for BioC 3.11 |
|
This page was generated on 2020-10-17 11:59:41 -0400 (Sat, 17 Oct 2020).
| TO THE DEVELOPERS/MAINTAINERS OF THE SPONGE PACKAGE: Please make sure to use the following settings in order to reproduce any error or warning you see on this page. |
| Package 1721/1905 | Hostname | OS / Arch | INSTALL | BUILD | CHECK | BUILD BIN | ||||||
| SPONGE 1.10.0 Markus List
| malbec2 | Linux (Ubuntu 18.04.4 LTS) / x86_64 | OK | OK | OK | |||||||
| tokay2 | Windows Server 2012 R2 Standard / x64 | OK | OK | OK | NA | |||||||
| machv2 | macOS 10.14.6 Mojave / x86_64 | OK | OK | [ OK ] | OK |
| Package: SPONGE |
| Version: 1.10.0 |
| Command: /Library/Frameworks/R.framework/Versions/Current/Resources/bin/R CMD check --install=check:SPONGE.install-out.txt --library=/Library/Frameworks/R.framework/Versions/Current/Resources/library --no-vignettes --timings SPONGE_1.10.0.tar.gz |
| StartedAt: 2020-10-17 05:35:48 -0400 (Sat, 17 Oct 2020) |
| EndedAt: 2020-10-17 05:41:49 -0400 (Sat, 17 Oct 2020) |
| EllapsedTime: 360.4 seconds |
| RetCode: 0 |
| Status: OK |
| CheckDir: SPONGE.Rcheck |
| Warnings: 0 |
##############################################################################
##############################################################################
###
### Running command:
###
### /Library/Frameworks/R.framework/Versions/Current/Resources/bin/R CMD check --install=check:SPONGE.install-out.txt --library=/Library/Frameworks/R.framework/Versions/Current/Resources/library --no-vignettes --timings SPONGE_1.10.0.tar.gz
###
##############################################################################
##############################################################################
* using log directory ‘/Users/biocbuild/bbs-3.11-bioc/meat/SPONGE.Rcheck’
* using R version 4.0.3 (2020-10-10)
* using platform: x86_64-apple-darwin17.0 (64-bit)
* using session charset: UTF-8
* using option ‘--no-vignettes’
* checking for file ‘SPONGE/DESCRIPTION’ ... OK
* checking extension type ... Package
* this is package ‘SPONGE’ version ‘1.10.0’
* checking package namespace information ... OK
* checking package dependencies ... OK
* checking if this is a source package ... OK
* checking if there is a namespace ... OK
* checking for hidden files and directories ... OK
* checking for portable file names ... OK
* checking for sufficient/correct file permissions ... OK
* checking whether package ‘SPONGE’ can be installed ... OK
* checking installed package size ... NOTE
installed size is 8.3Mb
sub-directories of 1Mb or more:
data 8.0Mb
* checking package directory ... OK
* checking ‘build’ directory ... OK
* checking DESCRIPTION meta-information ... OK
* checking top-level files ... OK
* checking for left-over files ... OK
* checking index information ... OK
* checking package subdirectories ... OK
* checking R files for non-ASCII characters ... OK
* checking R files for syntax errors ... OK
* checking whether the package can be loaded ... OK
* checking whether the package can be loaded with stated dependencies ... OK
* checking whether the package can be unloaded cleanly ... OK
* checking whether the namespace can be loaded with stated dependencies ... OK
* checking whether the namespace can be unloaded cleanly ... OK
* checking dependencies in R code ... OK
* checking S3 generic/method consistency ... OK
* checking replacement functions ... OK
* checking foreign function calls ... OK
* checking R code for possible problems ... NOTE
checkLambda: no visible binding for global variable ‘i’
check_and_convert_expression_data: no visible global function
definition for ‘is’
check_and_convert_expression_data: no visible global function
definition for ‘attach.big.matrix’
check_and_convert_expression_data: no visible global function
definition for ‘mwhich’
compute_p_values: no visible binding for global variable ‘cor_cut’
compute_p_values: no visible binding for global variable ‘df_cut’
compute_p_values: no visible global function definition for ‘J’
compute_p_values: no visible binding for global variable ‘.I’
compute_p_values: no visible binding for global variable ‘.EACHI’
compute_p_values: no visible binding for global variable ‘p.val’
compute_p_values: no visible global function definition for ‘:=’
compute_p_values: no visible binding for global variable ‘p.adj’
determine_cutoffs_for_null_model_partitioning: no visible global
function definition for ‘:=’
determine_cutoffs_for_null_model_partitioning: no visible binding for
global variable ‘cor_cut’
determine_cutoffs_for_null_model_partitioning: no visible binding for
global variable ‘df_cut’
fn_elasticnet: no visible binding for global variable ‘alpha’
fn_gene_miRNA_F_test: no visible binding for global variable ‘mirna’
fn_get_model_coef: no visible binding for global variable ‘gene’
isplitDT2 : nextEl: no visible global function definition for ‘.’
processChunk: no visible binding for global variable ‘geneA_idx’
processChunk: no visible binding for global variable ‘geneB_idx’
processChunk: no visible binding for global variable ‘geneA’
processChunk: no visible binding for global variable ‘geneB’
processChunk: no visible binding for global variable ‘mirna’
sample_zero_mscor_cov: no visible binding for global variable
‘solution’
sample_zero_mscor_cov: no visible global function definition for ‘ginv’
sample_zero_mscor_cov: no visible binding for global variable ‘i’
sample_zero_mscor_data: no visible binding for global variable
‘cov.matrix’
sponge: no visible global function definition for ‘is’
sponge: no visible binding for global variable ‘i’
sponge: no visible global function definition for ‘attach.big.matrix’
sponge: no visible binding for global variable ‘gene_combis’
sponge_build_null_model: no visible binding for global variable
‘precomputed_cov_matrices’
sponge_build_null_model: no visible binding for global variable
‘cov.matrices.m’
sponge_build_null_model: no visible binding for global variable
‘cov.matrices.k’
sponge_build_null_model: no visible binding for global variable ‘m’
sponge_build_null_model: no visible binding for global variable ‘k’
sponge_compute_p_values: no visible binding for global variable ‘dt.m’
sponge_compute_p_values: no visible global function definition for ‘:=’
sponge_compute_p_values: no visible binding for global variable
‘cor_cut’
sponge_compute_p_values: no visible binding for global variable
‘df_cut’
sponge_gene_miRNA_interaction_filter: no visible global function
definition for ‘is’
sponge_gene_miRNA_interaction_filter: no visible binding for global
variable ‘chunk’
sponge_gene_miRNA_interaction_filter: no visible binding for global
variable ‘g_expr_batch’
sponge_gene_miRNA_interaction_filter : <anonymous>: no visible binding
for global variable ‘g_expr_batch’
sponge_gene_miRNA_interaction_filter: no visible binding for global
variable ‘gene’
sponge_gene_miRNA_interaction_filter: no visible binding for global
variable ‘g_expr’
sponge_network: no visible binding for global variable ‘gene’
sponge_network: no visible binding for global variable ‘mir’
sponge_plot_network_centralities: no visible global function definition
for ‘head’
sponge_plot_simulation_results: no visible binding for global variable
‘mscor’
sponge_run_benchmark: no visible binding for global variable
‘precomputed_cov_matrices’
sponge_run_benchmark: no visible binding for global variable
‘elastic.net’
sponge_run_benchmark: no visible binding for global variable
‘each.miRNA’
sponge_subsampling: no visible binding for global variable ‘sub.n’
sponge_subsampling: no visible binding for global variable ‘geneA’
sponge_subsampling: no visible binding for global variable ‘geneB’
Undefined global functions or variables:
. .EACHI .I := J alpha attach.big.matrix chunk cor_cut cov.matrices.k
cov.matrices.m cov.matrix df_cut dt.m each.miRNA elastic.net g_expr
g_expr_batch gene geneA geneA_idx geneB geneB_idx gene_combis ginv
head i is k m mir mirna mscor mwhich p.adj p.val
precomputed_cov_matrices solution sub.n
Consider adding
importFrom("methods", "is")
importFrom("utils", "head")
to your NAMESPACE file (and ensure that your DESCRIPTION Imports field
contains 'methods').
* checking Rd files ... OK
* checking Rd metadata ... OK
* checking Rd cross-references ... OK
* checking for missing documentation entries ... OK
* checking for code/documentation mismatches ... OK
* checking Rd \usage sections ... OK
* checking Rd contents ... OK
* checking for unstated dependencies in examples ... OK
* checking contents of ‘data’ directory ... OK
* checking data for non-ASCII characters ... OK
* checking data for ASCII and uncompressed saves ... OK
* checking files in ‘vignettes’ ... OK
* checking examples ... OK
Examples with CPU (user + system) or elapsed time > 5s
user system elapsed
sponge_gene_miRNA_interaction_filter 48.146 0.548 48.732
sponge_build_null_model 28.431 0.145 28.617
sponge_run_benchmark 17.059 0.146 17.220
* checking for unstated dependencies in ‘tests’ ... OK
* checking tests ...
Running ‘testthat.R’
OK
* checking for unstated dependencies in vignettes ... OK
* checking package vignettes in ‘inst/doc’ ... OK
* checking running R code from vignettes ... SKIPPED
* checking re-building of vignette outputs ... SKIPPED
* checking PDF version of manual ... OK
* DONE
Status: 2 NOTEs
See
‘/Users/biocbuild/bbs-3.11-bioc/meat/SPONGE.Rcheck/00check.log’
for details.
SPONGE.Rcheck/00install.out
############################################################################## ############################################################################## ### ### Running command: ### ### /Library/Frameworks/R.framework/Versions/Current/Resources/bin/R CMD INSTALL SPONGE ### ############################################################################## ############################################################################## * installing to library ‘/Library/Frameworks/R.framework/Versions/4.0/Resources/library’ * installing *source* package ‘SPONGE’ ... ** using staged installation ** R ** data *** moving datasets to lazyload DB ** inst ** byte-compile and prepare package for lazy loading ** help *** installing help indices ** building package indices ** installing vignettes ** testing if installed package can be loaded from temporary location ** testing if installed package can be loaded from final location ** testing if installed package keeps a record of temporary installation path * DONE (SPONGE)
SPONGE.Rcheck/tests/testthat.Rout
R version 4.0.3 (2020-10-10) -- "Bunny-Wunnies Freak Out"
Copyright (C) 2020 The R Foundation for Statistical Computing
Platform: x86_64-apple-darwin17.0 (64-bit)
R is free software and comes with ABSOLUTELY NO WARRANTY.
You are welcome to redistribute it under certain conditions.
Type 'license()' or 'licence()' for distribution details.
R is a collaborative project with many contributors.
Type 'contributors()' for more information and
'citation()' on how to cite R or R packages in publications.
Type 'demo()' for some demos, 'help()' for on-line help, or
'help.start()' for an HTML browser interface to help.
Type 'q()' to quit R.
> library(testthat)
> library(SPONGE)
>
> test_check("SPONGE")
══ testthat results ═══════════════════════════════════════════════════════════
[ OK: 163 | SKIPPED: 0 | WARNINGS: 1 | FAILED: 0 ]
>
> proc.time()
user system elapsed
117.285 1.413 137.224
SPONGE.Rcheck/SPONGE-Ex.timings
| name | user | system | elapsed | |
| check_and_convert_expression_data | 0.000 | 0.000 | 0.001 | |
| sample_zero_mscor_cov | 0.546 | 0.019 | 0.567 | |
| sample_zero_mscor_data | 2.572 | 0.113 | 2.687 | |
| sponge | 1.216 | 0.016 | 1.233 | |
| sponge_build_null_model | 28.431 | 0.145 | 28.617 | |
| sponge_compute_p_values | 0.455 | 0.017 | 0.473 | |
| sponge_edge_centralities | 0.016 | 0.006 | 0.022 | |
| sponge_gene_miRNA_interaction_filter | 48.146 | 0.548 | 48.732 | |
| sponge_network | 0.013 | 0.012 | 0.026 | |
| sponge_node_centralities | 0.007 | 0.001 | 0.008 | |
| sponge_plot_network | 0.227 | 0.024 | 0.254 | |
| sponge_plot_network_centralities | 0.000 | 0.001 | 0.000 | |
| sponge_plot_simulation_results | 3.956 | 0.047 | 4.006 | |
| sponge_run_benchmark | 17.059 | 0.146 | 17.220 | |
| sponge_subsampling | 1.086 | 0.024 | 1.111 | |