| Back to Multiple platform build/check report for BioC 3.11 |
|
This page was generated on 2020-10-17 11:55:50 -0400 (Sat, 17 Oct 2020).
| TO THE DEVELOPERS/MAINTAINERS OF THE SPLINTER PACKAGE: Please make sure to use the following settings in order to reproduce any error or warning you see on this page. |
| Package 1719/1905 | Hostname | OS / Arch | INSTALL | BUILD | CHECK | BUILD BIN | ||||||
| SPLINTER 1.14.0 Diana Low
| malbec2 | Linux (Ubuntu 18.04.4 LTS) / x86_64 | OK | OK | [ OK ] | |||||||
| tokay2 | Windows Server 2012 R2 Standard / x64 | OK | OK | WARNINGS | NA | |||||||
| machv2 | macOS 10.14.6 Mojave / x86_64 | OK | OK | OK | OK |
| Package: SPLINTER |
| Version: 1.14.0 |
| Command: /home/biocbuild/bbs-3.11-bioc/R/bin/R CMD check --install=check:SPLINTER.install-out.txt --library=/home/biocbuild/bbs-3.11-bioc/R/library --no-vignettes --timings SPLINTER_1.14.0.tar.gz |
| StartedAt: 2020-10-17 05:45:22 -0400 (Sat, 17 Oct 2020) |
| EndedAt: 2020-10-17 05:52:02 -0400 (Sat, 17 Oct 2020) |
| EllapsedTime: 399.9 seconds |
| RetCode: 0 |
| Status: OK |
| CheckDir: SPLINTER.Rcheck |
| Warnings: 0 |
##############################################################################
##############################################################################
###
### Running command:
###
### /home/biocbuild/bbs-3.11-bioc/R/bin/R CMD check --install=check:SPLINTER.install-out.txt --library=/home/biocbuild/bbs-3.11-bioc/R/library --no-vignettes --timings SPLINTER_1.14.0.tar.gz
###
##############################################################################
##############################################################################
* using log directory ‘/home/biocbuild/bbs-3.11-bioc/meat/SPLINTER.Rcheck’
* using R version 4.0.3 (2020-10-10)
* using platform: x86_64-pc-linux-gnu (64-bit)
* using session charset: UTF-8
* using option ‘--no-vignettes’
* checking for file ‘SPLINTER/DESCRIPTION’ ... OK
* checking extension type ... Package
* this is package ‘SPLINTER’ version ‘1.14.0’
* package encoding: UTF-8
* checking package namespace information ... OK
* checking package dependencies ... OK
* checking if this is a source package ... OK
* checking if there is a namespace ... OK
* checking for hidden files and directories ... OK
* checking for portable file names ... OK
* checking for sufficient/correct file permissions ... OK
* checking whether package ‘SPLINTER’ can be installed ... OK
* checking installed package size ... OK
* checking package directory ... OK
* checking ‘build’ directory ... OK
* checking DESCRIPTION meta-information ... OK
* checking top-level files ... OK
* checking for left-over files ... OK
* checking index information ... OK
* checking package subdirectories ... OK
* checking R files for non-ASCII characters ... OK
* checking R files for syntax errors ... OK
* checking whether the package can be loaded ... OK
* checking whether the package can be loaded with stated dependencies ... OK
* checking whether the package can be unloaded cleanly ... OK
* checking whether the namespace can be loaded with stated dependencies ... OK
* checking whether the namespace can be unloaded cleanly ... OK
* checking dependencies in R code ... OK
* checking S3 generic/method consistency ... OK
* checking replacement functions ... OK
* checking foreign function calls ... OK
* checking R code for possible problems ... OK
* checking Rd files ... OK
* checking Rd metadata ... OK
* checking Rd cross-references ... OK
* checking for missing documentation entries ... OK
* checking for code/documentation mismatches ... OK
* checking Rd \usage sections ... OK
* checking Rd contents ... OK
* checking for unstated dependencies in examples ... OK
* checking contents of ‘data’ directory ... OK
* checking data for non-ASCII characters ... OK
* checking data for ASCII and uncompressed saves ... OK
* checking files in ‘vignettes’ ... OK
* checking examples ... OK
Examples with CPU (user + system) or elapsed time > 5s
user system elapsed
eventPlot 13.184 0.159 13.378
getPCRsizes 12.449 0.148 12.798
* checking for unstated dependencies in vignettes ... OK
* checking package vignettes in ‘inst/doc’ ... OK
* checking running R code from vignettes ... SKIPPED
* checking re-building of vignette outputs ... SKIPPED
* checking PDF version of manual ... OK
* DONE
Status: OK
SPLINTER.Rcheck/00install.out
############################################################################## ############################################################################## ### ### Running command: ### ### /home/biocbuild/bbs-3.11-bioc/R/bin/R CMD INSTALL SPLINTER ### ############################################################################## ############################################################################## * installing to library ‘/home/biocbuild/bbs-3.11-bioc/R/library’ * installing *source* package ‘SPLINTER’ ... ** using staged installation ** R ** data *** moving datasets to lazyload DB ** inst ** byte-compile and prepare package for lazy loading Creating a generic function for 'toJSON' from package 'jsonlite' in package 'googleVis' ** help *** installing help indices ** building package indices ** installing vignettes ** testing if installed package can be loaded from temporary location Creating a generic function for 'toJSON' from package 'jsonlite' in package 'googleVis' ** testing if installed package can be loaded from final location Creating a generic function for 'toJSON' from package 'jsonlite' in package 'googleVis' ** testing if installed package keeps a record of temporary installation path * DONE (SPLINTER)
SPLINTER.Rcheck/SPLINTER-Ex.timings
| name | user | system | elapsed | |
| acceptor.m | 0.004 | 0.000 | 0.004 | |
| addEnsemblAnnotation | 0.010 | 0.000 | 0.026 | |
| callPrimer3 | 0 | 0 | 0 | |
| checkPrimer | 0.113 | 0.004 | 0.117 | |
| compatible_cds | 0.002 | 0.000 | 0.001 | |
| compatible_tx | 0.001 | 0.000 | 0.001 | |
| donor.m | 0.001 | 0.000 | 0.002 | |
| eventOutcomeCompare | 2.835 | 0.088 | 3.080 | |
| eventOutcomeTranslate | 0.729 | 0.048 | 0.777 | |
| eventPlot | 13.184 | 0.159 | 13.378 | |
| extendROI | 0.903 | 0.000 | 0.903 | |
| extractSpliceEvents | 0.003 | 0.000 | 0.003 | |
| extractSpliceSites | 0.096 | 0.000 | 0.097 | |
| findCompatibleEvents | 0.434 | 0.000 | 0.434 | |
| findCompatibleExon | 0.27 | 0.00 | 0.27 | |
| findTX | 0.022 | 0.000 | 0.023 | |
| getPCRsizes | 12.449 | 0.148 | 12.798 | |
| getRegionDNA | 0.317 | 0.000 | 0.318 | |
| insertRegion | 0.212 | 0.000 | 0.212 | |
| makeROI | 0.483 | 0.003 | 0.487 | |
| makeUniqueIDs | 0.006 | 0.000 | 0.005 | |
| pcr_result1 | 0.001 | 0.000 | 0.001 | |
| plot_seqlogo | 0.064 | 0.000 | 0.065 | |
| primers | 0.001 | 0.000 | 0.001 | |
| psiPlot | 0.226 | 0.004 | 0.229 | |
| region_minus_exon | 0.001 | 0.000 | 0.001 | |
| roi | 0.000 | 0.000 | 0.001 | |
| shapiroAcceptor | 0.488 | 0.004 | 0.518 | |
| shapiroDonor | 0.750 | 0.008 | 0.759 | |
| splice_data | 0.001 | 0.000 | 0.002 | |
| splice_fasta | 0.001 | 0.000 | 0.001 | |
| splitPCRhit | 0.018 | 0.000 | 0.018 | |
| thecds | 0.000 | 0.002 | 0.001 | |
| theexons | 0.001 | 0.000 | 0.001 | |
| valid_cds | 0.002 | 0.000 | 0.001 | |
| valid_tx | 0.002 | 0.000 | 0.001 | |