| Back to Multiple platform build/check report for BioC 3.11 | 
 | 
This page was generated on 2020-10-16 11:58:56 -0400 (Fri, 16 Oct 2020).
| TO THE DEVELOPERS/MAINTAINERS OF THE SPIA PACKAGE: Please make sure to use the following settings in order to reproduce any error or warning you see on this page. | 
| Package 1710/1905 | Hostname | OS / Arch | INSTALL | BUILD | CHECK | BUILD BIN | ||||||
| SPIA 2.40.0 Adi Laurentiu Tarca 
 | malbec2 | Linux (Ubuntu 18.04.4 LTS) / x86_64 | OK | OK | OK |  | ||||||
| tokay2 | Windows Server 2012 R2 Standard / x64 | OK | OK | OK | [ OK ] |  | ||||||
| machv2 | macOS 10.14.6 Mojave / x86_64 | OK | OK | OK | OK |  | 
| Package: SPIA | 
| Version: 2.40.0 | 
| Command: rm -rf SPIA.buildbin-libdir && mkdir SPIA.buildbin-libdir && C:\Users\biocbuild\bbs-3.11-bioc\R\bin\R.exe CMD INSTALL --merge-multiarch --build --library=SPIA.buildbin-libdir SPIA_2.40.0.tar.gz | 
| StartedAt: 2020-10-16 11:23:19 -0400 (Fri, 16 Oct 2020) | 
| EndedAt: 2020-10-16 11:23:49 -0400 (Fri, 16 Oct 2020) | 
| EllapsedTime: 29.2 seconds | 
| RetCode: 0 | 
| Status: OK | 
| PackageFile: SPIA_2.40.0.zip | 
| PackageFileSize: 2.485 MiB | 
##############################################################################
##############################################################################
###
### Running command:
###
###   rm -rf SPIA.buildbin-libdir && mkdir SPIA.buildbin-libdir && C:\Users\biocbuild\bbs-3.11-bioc\R\bin\R.exe CMD INSTALL --merge-multiarch --build --library=SPIA.buildbin-libdir SPIA_2.40.0.tar.gz
###
##############################################################################
##############################################################################
install for i386
* installing *source* package 'SPIA' ...
** using staged installation
** R
** data
** inst
** byte-compile and prepare package for lazy loading
** help
*** installing help indices
  converting help for package 'SPIA'
    finding HTML links ... done
    SPIA-internal                           html  
    Vessels                                 html  
    colorectalcancer                        html  
    combfunc                                html  
    makeSPIAdata                            html  
    plotP                                   html  
    spia                                    html  
** building package indices
** installing vignettes
** testing if installed package can be loaded from temporary location
** testing if installed package can be loaded from final location
** testing if installed package keeps a record of temporary installation path
install for x64
* installing *source* package 'SPIA' ...
** testing if installed package can be loaded
* MD5 sums
packaged installation of 'SPIA' as SPIA_2.40.0.zip
* DONE (SPIA)