| Back to Multiple platform build/check report for BioC 3.11 |
|
This page was generated on 2020-10-17 11:59:39 -0400 (Sat, 17 Oct 2020).
| TO THE DEVELOPERS/MAINTAINERS OF THE SLGI PACKAGE: Please make sure to use the following settings in order to reproduce any error or warning you see on this page. |
| Package 1681/1905 | Hostname | OS / Arch | INSTALL | BUILD | CHECK | BUILD BIN | ||||||
| SLGI 1.48.0 Nolwenn Le Meur
| malbec2 | Linux (Ubuntu 18.04.4 LTS) / x86_64 | OK | OK | OK | |||||||
| tokay2 | Windows Server 2012 R2 Standard / x64 | OK | OK | OK | NA | |||||||
| machv2 | macOS 10.14.6 Mojave / x86_64 | OK | OK | [ OK ] | OK |
| Package: SLGI |
| Version: 1.48.0 |
| Command: /Library/Frameworks/R.framework/Versions/Current/Resources/bin/R CMD check --install=check:SLGI.install-out.txt --library=/Library/Frameworks/R.framework/Versions/Current/Resources/library --no-vignettes --timings SLGI_1.48.0.tar.gz |
| StartedAt: 2020-10-17 05:26:30 -0400 (Sat, 17 Oct 2020) |
| EndedAt: 2020-10-17 05:31:12 -0400 (Sat, 17 Oct 2020) |
| EllapsedTime: 281.1 seconds |
| RetCode: 0 |
| Status: OK |
| CheckDir: SLGI.Rcheck |
| Warnings: 0 |
##############################################################################
##############################################################################
###
### Running command:
###
### /Library/Frameworks/R.framework/Versions/Current/Resources/bin/R CMD check --install=check:SLGI.install-out.txt --library=/Library/Frameworks/R.framework/Versions/Current/Resources/library --no-vignettes --timings SLGI_1.48.0.tar.gz
###
##############################################################################
##############################################################################
* using log directory ‘/Users/biocbuild/bbs-3.11-bioc/meat/SLGI.Rcheck’
* using R version 4.0.3 (2020-10-10)
* using platform: x86_64-apple-darwin17.0 (64-bit)
* using session charset: UTF-8
* using option ‘--no-vignettes’
* checking for file ‘SLGI/DESCRIPTION’ ... OK
* this is package ‘SLGI’ version ‘1.48.0’
* checking package namespace information ... OK
* checking package dependencies ... OK
* checking if this is a source package ... OK
* checking if there is a namespace ... OK
* checking for hidden files and directories ... OK
* checking for portable file names ... OK
* checking for sufficient/correct file permissions ... OK
* checking whether package ‘SLGI’ can be installed ... OK
* checking installed package size ... NOTE
installed size is 15.9Mb
sub-directories of 1Mb or more:
data 4.2Mb
extdata 11.3Mb
* checking package directory ... OK
* checking ‘build’ directory ... OK
* checking DESCRIPTION meta-information ... NOTE
Malformed Description field: should contain one or more complete sentences.
Packages listed in more than one of Depends, Imports, Suggests, Enhances:
‘ScISI’ ‘lattice’ ‘GO.db’
A package should be listed in only one of these fields.
* checking top-level files ... OK
* checking for left-over files ... OK
* checking index information ... OK
* checking package subdirectories ... OK
* checking R files for non-ASCII characters ... OK
* checking R files for syntax errors ... OK
* checking whether the package can be loaded ... OK
* checking whether the package can be loaded with stated dependencies ... OK
* checking whether the package can be unloaded cleanly ... OK
* checking whether the namespace can be loaded with stated dependencies ... OK
* checking whether the namespace can be unloaded cleanly ... OK
* checking dependencies in R code ... NOTE
'library' or 'require' call to ‘GO.db’ in package code.
Please use :: or requireNamespace() instead.
See section 'Suggested packages' in the 'Writing R Extensions' manual.
* checking S3 generic/method consistency ... OK
* checking replacement functions ... OK
* checking foreign function calls ... OK
* checking R code for possible problems ... OK
* checking Rd files ... OK
* checking Rd metadata ... OK
* checking Rd cross-references ... OK
* checking for missing documentation entries ... OK
* checking for code/documentation mismatches ... OK
* checking Rd \usage sections ... OK
* checking Rd contents ... OK
* checking for unstated dependencies in examples ... OK
* checking contents of ‘data’ directory ... OK
* checking data for non-ASCII characters ... OK
* checking data for ASCII and uncompressed saves ... OK
* checking sizes of PDF files under ‘inst/doc’ ... OK
* checking files in ‘vignettes’ ... OK
* checking examples ... OK
Examples with CPU (user + system) or elapsed time > 5s
user system elapsed
iSummary 21.761 1.265 23.123
siResult-class 9.473 2.479 11.970
plot 8.972 2.377 11.372
compare 9.050 2.285 11.356
modelSLGI 8.640 2.664 11.327
normInteraction 4.972 1.201 6.180
topInteraction 4.289 1.282 5.583
* checking for unstated dependencies in vignettes ... OK
* checking package vignettes in ‘inst/doc’ ... OK
* checking running R code from vignettes ... SKIPPED
* checking re-building of vignette outputs ... SKIPPED
* checking PDF version of manual ... OK
* DONE
Status: 3 NOTEs
See
‘/Users/biocbuild/bbs-3.11-bioc/meat/SLGI.Rcheck/00check.log’
for details.
SLGI.Rcheck/00install.out
############################################################################## ############################################################################## ### ### Running command: ### ### /Library/Frameworks/R.framework/Versions/Current/Resources/bin/R CMD INSTALL SLGI ### ############################################################################## ############################################################################## * installing to library ‘/Library/Frameworks/R.framework/Versions/4.0/Resources/library’ * installing *source* package ‘SLGI’ ... ** using staged installation ** R ** data ** inst ** byte-compile and prepare package for lazy loading No methods found in package ‘Biobase’ for request: ‘listlen’ when loading ‘RpsiXML’ No methods found in package ‘annotate’ for requests: ‘pubmed’, ‘buildPubMedAbst’ when loading ‘RpsiXML’ No methods found in package ‘BiocGenerics’ for request: ‘plot’ when loading ‘SLGI’ ** help *** installing help indices ** building package indices ** installing vignettes ** testing if installed package can be loaded from temporary location No methods found in package ‘Biobase’ for request: ‘listlen’ when loading ‘RpsiXML’ No methods found in package ‘annotate’ for requests: ‘pubmed’, ‘buildPubMedAbst’ when loading ‘RpsiXML’ No methods found in package ‘BiocGenerics’ for request: ‘plot’ when loading ‘SLGI’ ** testing if installed package can be loaded from final location No methods found in package ‘Biobase’ for request: ‘listlen’ when loading ‘RpsiXML’ No methods found in package ‘annotate’ for requests: ‘pubmed’, ‘buildPubMedAbst’ when loading ‘RpsiXML’ No methods found in package ‘BiocGenerics’ for request: ‘plot’ when loading ‘SLGI’ ** testing if installed package keeps a record of temporary installation path * DONE (SLGI)
SLGI.Rcheck/SLGI-Ex.timings
| name | user | system | elapsed | |
| Atong | 0.035 | 0.010 | 0.045 | |
| AtongFnDomain | 3.639 | 0.102 | 3.743 | |
| AtongPair | 0.720 | 0.016 | 0.737 | |
| SDL | 0.006 | 0.003 | 0.011 | |
| SGA | 0.007 | 0.003 | 0.010 | |
| SGD.SL | 0.150 | 0.005 | 0.155 | |
| TFmat | 0.109 | 0.005 | 0.114 | |
| byComplex | 0.368 | 0.046 | 0.415 | |
| comemberIn | 0.627 | 0.056 | 0.686 | |
| compare | 9.050 | 2.285 | 11.356 | |
| congruence | 0.002 | 0.000 | 0.002 | |
| createSquareMatrix | 0.065 | 0.013 | 0.077 | |
| domainDist | 2.943 | 0.028 | 2.972 | |
| essglist | 0.017 | 0.018 | 0.036 | |
| getInteraction | 0.003 | 0.001 | 0.004 | |
| getSharedDomains | 0.018 | 0.002 | 0.020 | |
| getSharedInteraction | 0.003 | 0.001 | 0.003 | |
| getTestedPairs | 0.016 | 0.002 | 0.018 | |
| getUniquePairs | 0.021 | 0.003 | 0.024 | |
| gi2005 | 0.287 | 0.015 | 0.303 | |
| gi2007 | 0.379 | 0.026 | 0.406 | |
| gi2Interactome | 0.001 | 0.000 | 0.001 | |
| hyperG | 0.008 | 0.001 | 0.009 | |
| iSummary | 21.761 | 1.265 | 23.123 | |
| modelSLGI | 8.640 | 2.664 | 11.327 | |
| normInteraction | 4.972 | 1.201 | 6.180 | |
| plot | 8.972 | 2.377 | 11.372 | |
| seqMatcherAlign | 0.000 | 0.001 | 0.001 | |
| sharedBy | 3.052 | 0.029 | 3.083 | |
| sharedInt | 0.004 | 0.001 | 0.005 | |
| siResult-class | 9.473 | 2.479 | 11.970 | |
| test2Interact | 0.004 | 0.001 | 0.005 | |
| topInteraction | 4.289 | 1.282 | 5.583 | |
| twoWayTable | 4.485 | 0.045 | 4.542 | |
| withinComplex | 0.422 | 0.031 | 0.452 | |