| Back to Multiple platform build/check report for BioC 3.11 |
|
This page was generated on 2020-10-17 11:57:49 -0400 (Sat, 17 Oct 2020).
| TO THE DEVELOPERS/MAINTAINERS OF THE SIM PACKAGE: Please make sure to use the following settings in order to reproduce any error or warning you see on this page. |
| Package 1661/1905 | Hostname | OS / Arch | INSTALL | BUILD | CHECK | BUILD BIN | ||||||
| SIM 1.58.0 Renee X. de Menezes
| malbec2 | Linux (Ubuntu 18.04.4 LTS) / x86_64 | OK | OK | OK | |||||||
| tokay2 | Windows Server 2012 R2 Standard / x64 | OK | [ OK ] | OK | NA | |||||||
| machv2 | macOS 10.14.6 Mojave / x86_64 | OK | OK | OK | OK |
| Package: SIM |
| Version: 1.58.0 |
| Command: chmod a+r SIM -R && C:\Users\biocbuild\bbs-3.11-bioc\R\bin\R.exe CMD build --keep-empty-dirs --no-resave-data SIM |
| StartedAt: 2020-10-17 00:39:31 -0400 (Sat, 17 Oct 2020) |
| EndedAt: 2020-10-17 00:40:35 -0400 (Sat, 17 Oct 2020) |
| EllapsedTime: 64.2 seconds |
| RetCode: 0 |
| Status: OK |
| PackageFile: SIM_1.58.0.tar.gz |
| PackageFileSize: 366.8 KiB |
############################################################################## ############################################################################## ### ### Running command: ### ### chmod a+r SIM -R && C:\Users\biocbuild\bbs-3.11-bioc\R\bin\R.exe CMD build --keep-empty-dirs --no-resave-data SIM ### ############################################################################## ############################################################################## * checking for file 'SIM/DESCRIPTION' ... OK * preparing 'SIM': * checking DESCRIPTION meta-information ... OK * cleaning src * installing the package to build vignettes * creating vignettes ... OK * cleaning src * checking for LF line-endings in source and make files and shell scripts * checking for empty or unneeded directories * looking to see if a 'data/datalist' file should be added * building 'SIM_1.58.0.tar.gz'