| Back to Multiple platform build/check report for BioC 3.11 | 
 | 
This page was generated on 2020-10-17 11:57:47 -0400 (Sat, 17 Oct 2020).
| TO THE DEVELOPERS/MAINTAINERS OF THE SDAMS PACKAGE: Please make sure to use the following settings in order to reproduce any error or warning you see on this page. | 
| Package 1617/1905 | Hostname | OS / Arch | INSTALL | BUILD | CHECK | BUILD BIN | ||||||
| SDAMS 1.8.0 Yuntong Li 
 | malbec2 | Linux (Ubuntu 18.04.4 LTS) / x86_64 | OK | OK | OK |  | ||||||
| tokay2 | Windows Server 2012 R2 Standard / x64 | [ OK ] | OK | OK | OK | |||||||
| machv2 | macOS 10.14.6 Mojave / x86_64 | OK | OK | OK | OK |  | 
| Package: SDAMS | 
| Version: 1.8.0 | 
| Command: C:\cygwin\bin\curl.exe -O https://malbec2.bioconductor.org/BBS/3.11/bioc/src/contrib/SDAMS_1.8.0.tar.gz && rm -rf SDAMS.buildbin-libdir && mkdir SDAMS.buildbin-libdir && C:\Users\biocbuild\bbs-3.11-bioc\R\bin\R.exe CMD INSTALL --merge-multiarch --build --library=SDAMS.buildbin-libdir SDAMS_1.8.0.tar.gz && C:\Users\biocbuild\bbs-3.11-bioc\R\bin\R.exe CMD INSTALL SDAMS_1.8.0.zip && rm SDAMS_1.8.0.tar.gz SDAMS_1.8.0.zip | 
| StartedAt: 2020-10-16 17:58:22 -0400 (Fri, 16 Oct 2020) | 
| EndedAt: 2020-10-16 17:59:09 -0400 (Fri, 16 Oct 2020) | 
| EllapsedTime: 46.6 seconds | 
| RetCode: 0 | 
| Status: OK | 
##############################################################################
##############################################################################
###
### Running command:
###
###   C:\cygwin\bin\curl.exe -O https://malbec2.bioconductor.org/BBS/3.11/bioc/src/contrib/SDAMS_1.8.0.tar.gz && rm -rf SDAMS.buildbin-libdir && mkdir SDAMS.buildbin-libdir && C:\Users\biocbuild\bbs-3.11-bioc\R\bin\R.exe CMD INSTALL --merge-multiarch --build --library=SDAMS.buildbin-libdir SDAMS_1.8.0.tar.gz && C:\Users\biocbuild\bbs-3.11-bioc\R\bin\R.exe CMD INSTALL SDAMS_1.8.0.zip && rm SDAMS_1.8.0.tar.gz SDAMS_1.8.0.zip
###
##############################################################################
##############################################################################
  % Total    % Received % Xferd  Average Speed   Time    Time     Time  Current
                                 Dload  Upload   Total   Spent    Left  Speed
  0     0    0     0    0     0      0      0 --:--:-- --:--:-- --:--:--     0
  0  461k    0     0    0     0      0      0 --:--:-- --:--:-- --:--:--     0
100  461k  100  461k    0     0   858k      0 --:--:-- --:--:-- --:--:--  868k
install for i386
* installing *source* package 'SDAMS' ...
** using staged installation
** R
** data
** inst
** byte-compile and prepare package for lazy loading
** help
*** installing help indices
  converting help for package 'SDAMS'
    finding HTML links ... done
    SDA                                     html  
    finding level-2 HTML links ... done
    SDAMS-package                           html  
    dataInput                               html  
    exampleData                             html  
** building package indices
** installing vignettes
** testing if installed package can be loaded from temporary location
** testing if installed package can be loaded from final location
** testing if installed package keeps a record of temporary installation path
install for x64
* installing *source* package 'SDAMS' ...
** testing if installed package can be loaded
* MD5 sums
packaged installation of 'SDAMS' as SDAMS_1.8.0.zip
* DONE (SDAMS)
* installing to library 'C:/Users/biocbuild/bbs-3.11-bioc/R/library'
package 'SDAMS' successfully unpacked and MD5 sums checked