| Back to Multiple platform build/check report for BioC 3.11 |
|
This page was generated on 2020-10-17 11:57:46 -0400 (Sat, 17 Oct 2020).
| TO THE DEVELOPERS/MAINTAINERS OF THE SCOPE PACKAGE: Please make sure to use the following settings in order to reproduce any error or warning you see on this page. |
| Package 1605/1905 | Hostname | OS / Arch | INSTALL | BUILD | CHECK | BUILD BIN | ||||||
| SCOPE 1.0.0 Rujin Wang
| malbec2 | Linux (Ubuntu 18.04.4 LTS) / x86_64 | OK | OK | OK | |||||||
| tokay2 | Windows Server 2012 R2 Standard / x64 | OK | OK | OK | [ OK ] | |||||||
| machv2 | macOS 10.14.6 Mojave / x86_64 | OK | OK | OK | OK |
| Package: SCOPE |
| Version: 1.0.0 |
| Command: rm -rf SCOPE.buildbin-libdir && mkdir SCOPE.buildbin-libdir && C:\Users\biocbuild\bbs-3.11-bioc\R\bin\R.exe CMD INSTALL --merge-multiarch --build --library=SCOPE.buildbin-libdir SCOPE_1.0.0.tar.gz |
| StartedAt: 2020-10-17 11:36:41 -0400 (Sat, 17 Oct 2020) |
| EndedAt: 2020-10-17 11:37:27 -0400 (Sat, 17 Oct 2020) |
| EllapsedTime: 45.7 seconds |
| RetCode: 0 |
| Status: OK |
| PackageFile: SCOPE_1.0.0.zip |
| PackageFileSize: 633.1 KiB |
##############################################################################
##############################################################################
###
### Running command:
###
### rm -rf SCOPE.buildbin-libdir && mkdir SCOPE.buildbin-libdir && C:\Users\biocbuild\bbs-3.11-bioc\R\bin\R.exe CMD INSTALL --merge-multiarch --build --library=SCOPE.buildbin-libdir SCOPE_1.0.0.tar.gz
###
##############################################################################
##############################################################################
install for i386
* installing *source* package 'SCOPE' ...
** using staged installation
** R
** data
*** moving datasets to lazyload DB
** inst
** byte-compile and prepare package for lazy loading
** help
*** installing help indices
converting help for package 'SCOPE'
finding HTML links ... done
QCmetric.scopeDemo html
Y_sim html
coverageObj.scopeDemo html
get_bam_bed html
get_coverage_scDNA html
get_gc html
get_gini html
get_mapp html
get_samp_QC html
iCN_sim html
initialize_ploidy html
initialize_ploidy_group html
normObj.scopeDemo html
normalize_codex2_ns_noK html
normalize_scope html
normalize_scope_foreach html
normalize_scope_group html
perform_qc html
plot_EM_fit html
plot_iCN html
ref.scopeDemo html
ref_sim html
segment_CBScs html
** building package indices
** installing vignettes
** testing if installed package can be loaded from temporary location
** testing if installed package can be loaded from final location
** testing if installed package keeps a record of temporary installation path
install for x64
* installing *source* package 'SCOPE' ...
** testing if installed package can be loaded
* MD5 sums
packaged installation of 'SCOPE' as SCOPE_1.0.0.zip
* DONE (SCOPE)