| Back to Multiple platform build/check report for BioC 3.11 |
|
This page was generated on 2020-10-17 11:57:44 -0400 (Sat, 17 Oct 2020).
| TO THE DEVELOPERS/MAINTAINERS OF THE SBMLR PACKAGE: Please make sure to use the following settings in order to reproduce any error or warning you see on this page. |
| Package 1578/1905 | Hostname | OS / Arch | INSTALL | BUILD | CHECK | BUILD BIN | ||||||
| SBMLR 1.84.0 Tomas Radivoyevitch
| malbec2 | Linux (Ubuntu 18.04.4 LTS) / x86_64 | OK | OK | OK | |||||||
| tokay2 | Windows Server 2012 R2 Standard / x64 | OK | OK | OK | [ OK ] | |||||||
| machv2 | macOS 10.14.6 Mojave / x86_64 | OK | OK | ERROR | OK |
| Package: SBMLR |
| Version: 1.84.0 |
| Command: rm -rf SBMLR.buildbin-libdir && mkdir SBMLR.buildbin-libdir && C:\Users\biocbuild\bbs-3.11-bioc\R\bin\R.exe CMD INSTALL --merge-multiarch --build --library=SBMLR.buildbin-libdir SBMLR_1.84.0.tar.gz |
| StartedAt: 2020-10-17 11:34:55 -0400 (Sat, 17 Oct 2020) |
| EndedAt: 2020-10-17 11:35:28 -0400 (Sat, 17 Oct 2020) |
| EllapsedTime: 33.7 seconds |
| RetCode: 0 |
| Status: OK |
| PackageFile: SBMLR_1.84.0.zip |
| PackageFileSize: 291.2 KiB |
##############################################################################
##############################################################################
###
### Running command:
###
### rm -rf SBMLR.buildbin-libdir && mkdir SBMLR.buildbin-libdir && C:\Users\biocbuild\bbs-3.11-bioc\R\bin\R.exe CMD INSTALL --merge-multiarch --build --library=SBMLR.buildbin-libdir SBMLR_1.84.0.tar.gz
###
##############################################################################
##############################################################################
install for i386
* installing *source* package 'SBMLR' ...
** using staged installation
** R
** inst
** byte-compile and prepare package for lazy loading
** help
*** installing help indices
converting help for package 'SBMLR'
finding HTML links ... done
Ops.SBMLR html
S4toS3 html
readSBML html
readSBMLR html
saveSBML html
saveSBMLR html
sim html
summary.SBMLR html
** building package indices
** installing vignettes
** testing if installed package can be loaded from temporary location
** testing if installed package can be loaded from final location
** testing if installed package keeps a record of temporary installation path
install for x64
* installing *source* package 'SBMLR' ...
** testing if installed package can be loaded
* MD5 sums
packaged installation of 'SBMLR' as SBMLR_1.84.0.zip
* DONE (SBMLR)