| Back to Multiple platform build/check report for BioC 3.11 |
|
This page was generated on 2020-10-17 11:59:25 -0400 (Sat, 17 Oct 2020).
| TO THE DEVELOPERS/MAINTAINERS OF THE Risa PACKAGE: Please make sure to use the following settings in order to reproduce any error or warning you see on this page. |
| Package 1494/1905 | Hostname | OS / Arch | INSTALL | BUILD | CHECK | BUILD BIN | ||||||
| Risa 1.30.0 Alejandra Gonzalez-Beltran
| malbec2 | Linux (Ubuntu 18.04.4 LTS) / x86_64 | OK | OK | OK | |||||||
| tokay2 | Windows Server 2012 R2 Standard / x64 | OK | OK | OK | OK | |||||||
| machv2 | macOS 10.14.6 Mojave / x86_64 | OK | OK | [ OK ] | OK |
| Package: Risa |
| Version: 1.30.0 |
| Command: /Library/Frameworks/R.framework/Versions/Current/Resources/bin/R CMD check --install=check:Risa.install-out.txt --library=/Library/Frameworks/R.framework/Versions/Current/Resources/library --no-vignettes --timings Risa_1.30.0.tar.gz |
| StartedAt: 2020-10-17 04:39:13 -0400 (Sat, 17 Oct 2020) |
| EndedAt: 2020-10-17 04:44:47 -0400 (Sat, 17 Oct 2020) |
| EllapsedTime: 334.7 seconds |
| RetCode: 0 |
| Status: OK |
| CheckDir: Risa.Rcheck |
| Warnings: 0 |
##############################################################################
##############################################################################
###
### Running command:
###
### /Library/Frameworks/R.framework/Versions/Current/Resources/bin/R CMD check --install=check:Risa.install-out.txt --library=/Library/Frameworks/R.framework/Versions/Current/Resources/library --no-vignettes --timings Risa_1.30.0.tar.gz
###
##############################################################################
##############################################################################
* using log directory ‘/Users/biocbuild/bbs-3.11-bioc/meat/Risa.Rcheck’
* using R version 4.0.3 (2020-10-10)
* using platform: x86_64-apple-darwin17.0 (64-bit)
* using session charset: UTF-8
* using option ‘--no-vignettes’
* checking for file ‘Risa/DESCRIPTION’ ... OK
* this is package ‘Risa’ version ‘1.30.0’
* checking package namespace information ... OK
* checking package dependencies ... OK
* checking if this is a source package ... OK
* checking if there is a namespace ... OK
* checking for hidden files and directories ... OK
* checking for portable file names ... OK
* checking for sufficient/correct file permissions ... OK
* checking whether package ‘Risa’ can be installed ... OK
* checking installed package size ... OK
* checking package directory ... OK
* checking ‘build’ directory ... OK
* checking DESCRIPTION meta-information ... OK
* checking top-level files ... OK
* checking for left-over files ... OK
* checking index information ... OK
* checking package subdirectories ... OK
* checking R files for non-ASCII characters ... OK
* checking R files for syntax errors ... OK
* checking whether the package can be loaded ... OK
* checking whether the package can be loaded with stated dependencies ... OK
* checking whether the package can be unloaded cleanly ... OK
* checking whether the namespace can be loaded with stated dependencies ... OK
* checking whether the namespace can be unloaded cleanly ... OK
* checking dependencies in R code ... OK
* checking S3 generic/method consistency ... OK
* checking replacement functions ... OK
* checking foreign function calls ... OK
* checking R code for possible problems ... NOTE
getPackagesInBiocView: no visible global function definition for ‘data’
readISAtabZip: no visible global function definition for ‘unzip’
suggestBiocPackage: no visible global function definition for
‘read.csv’
write.assay.file: no visible global function definition for
‘write.table’
write.investigation.file: no visible global function definition for
‘write.table’
write.study.file: no visible global function definition for
‘write.table’
initialize,ISATab: no visible global function definition for
‘count.fields’
initialize,ISATab: no visible global function definition for
‘read.table’
initialize,ISATab : <anonymous>: no visible global function definition
for ‘read.table’
initialize,ISATab : <anonymous> : <anonymous>: no visible global
function definition for ‘read.table’
initialize,ISATab: no visible global function definition for ‘na.omit’
Undefined global functions or variables:
count.fields data na.omit read.csv read.table unzip write.table
Consider adding
importFrom("stats", "na.omit")
importFrom("utils", "count.fields", "data", "read.csv", "read.table",
"unzip", "write.table")
to your NAMESPACE file.
* checking Rd files ... OK
* checking Rd metadata ... OK
* checking Rd cross-references ... OK
* checking for missing documentation entries ... OK
* checking for code/documentation mismatches ... OK
* checking Rd \usage sections ... OK
* checking Rd contents ... OK
* checking for unstated dependencies in examples ... OK
* checking sizes of PDF files under ‘inst/doc’ ... OK
* checking files in ‘vignettes’ ... OK
* checking examples ... OK
Examples with CPU (user + system) or elapsed time > 5s
user system elapsed
processAssayXcmsSet.1factor 61.587 10.264 19.824
processAssayXcmsSet 44.628 7.237 17.871
readISAtab 15.424 2.660 0.300
* checking for unstated dependencies in vignettes ... OK
* checking package vignettes in ‘inst/doc’ ... OK
* checking running R code from vignettes ... SKIPPED
* checking re-building of vignette outputs ... SKIPPED
* checking PDF version of manual ... OK
* DONE
Status: 1 NOTE
See
‘/Users/biocbuild/bbs-3.11-bioc/meat/Risa.Rcheck/00check.log’
for details.
Risa.Rcheck/00install.out
############################################################################## ############################################################################## ### ### Running command: ### ### /Library/Frameworks/R.framework/Versions/Current/Resources/bin/R CMD INSTALL Risa ### ############################################################################## ############################################################################## * installing to library ‘/Library/Frameworks/R.framework/Versions/4.0/Resources/library’ * installing *source* package ‘Risa’ ... ** using staged installation ** R ** inst ** byte-compile and prepare package for lazy loading ** help *** installing help indices ** building package indices ** installing vignettes ** testing if installed package can be loaded from temporary location ** testing if installed package can be loaded from final location ** testing if installed package keeps a record of temporary installation path * DONE (Risa)
Risa.Rcheck/Risa-Ex.timings
| name | user | system | elapsed | |
| AssayTab-class | 0.008 | 0.004 | 0.011 | |
| ISAtab-class | 0.002 | 0.001 | 0.004 | |
| Risa-package | 0.751 | 0.363 | 1.178 | |
| getAnnotatedDataFrameAssay | 0.211 | 0.060 | 0.279 | |
| getExpressionSet | 0.085 | 0.038 | 0.129 | |
| getMIAMEMetadata | 0.123 | 0.042 | 0.170 | |
| getMSAssayFilenames | 0.053 | 0.006 | 0.060 | |
| getMicroarrayAssayFilenames | 0.070 | 0.025 | 0.101 | |
| getStudyFilename | 0.035 | 0.002 | 0.037 | |
| isMSAssay | 0.036 | 0.002 | 0.038 | |
| isMicroarrayAssay | 0.085 | 0.035 | 0.125 | |
| processAssayXcmsSet.1factor | 61.587 | 10.264 | 19.824 | |
| processAssayXcmsSet | 44.628 | 7.237 | 17.871 | |
| readISAtab | 15.424 | 2.660 | 0.300 | |
| updateAssayMetadata | 0.111 | 0.032 | 0.142 | |
| write.assay.file | 0.030 | 0.004 | 0.034 | |
| write.investigation.file | 0.037 | 0.005 | 0.042 | |
| write.isatab | 0.032 | 0.008 | 0.039 | |
| write.study.file | 0.039 | 0.005 | 0.043 | |