| Back to Multiple platform build/check report for BioC 3.11 |
|
This page was generated on 2020-10-17 11:57:36 -0400 (Sat, 17 Oct 2020).
| TO THE DEVELOPERS/MAINTAINERS OF THE ReportingTools PACKAGE: Please make sure to use the following settings in order to reproduce any error or warning you see on this page. |
| Package 1465/1905 | Hostname | OS / Arch | INSTALL | BUILD | CHECK | BUILD BIN | ||||||
| ReportingTools 2.28.0 Jason A. Hackney
| malbec2 | Linux (Ubuntu 18.04.4 LTS) / x86_64 | OK | OK | OK | |||||||
| tokay2 | Windows Server 2012 R2 Standard / x64 | [ OK ] | OK | OK | OK | |||||||
| machv2 | macOS 10.14.6 Mojave / x86_64 | OK | OK | OK | OK |
| Package: ReportingTools |
| Version: 2.28.0 |
| Command: C:\cygwin\bin\curl.exe -O https://malbec2.bioconductor.org/BBS/3.11/bioc/src/contrib/ReportingTools_2.28.0.tar.gz && rm -rf ReportingTools.buildbin-libdir && mkdir ReportingTools.buildbin-libdir && C:\Users\biocbuild\bbs-3.11-bioc\R\bin\R.exe CMD INSTALL --merge-multiarch --build --library=ReportingTools.buildbin-libdir ReportingTools_2.28.0.tar.gz && C:\Users\biocbuild\bbs-3.11-bioc\R\bin\R.exe CMD INSTALL ReportingTools_2.28.0.zip && rm ReportingTools_2.28.0.tar.gz ReportingTools_2.28.0.zip |
| StartedAt: 2020-10-16 19:33:08 -0400 (Fri, 16 Oct 2020) |
| EndedAt: 2020-10-16 19:35:51 -0400 (Fri, 16 Oct 2020) |
| EllapsedTime: 162.6 seconds |
| RetCode: 0 |
| Status: OK |
##############################################################################
##############################################################################
###
### Running command:
###
### C:\cygwin\bin\curl.exe -O https://malbec2.bioconductor.org/BBS/3.11/bioc/src/contrib/ReportingTools_2.28.0.tar.gz && rm -rf ReportingTools.buildbin-libdir && mkdir ReportingTools.buildbin-libdir && C:\Users\biocbuild\bbs-3.11-bioc\R\bin\R.exe CMD INSTALL --merge-multiarch --build --library=ReportingTools.buildbin-libdir ReportingTools_2.28.0.tar.gz && C:\Users\biocbuild\bbs-3.11-bioc\R\bin\R.exe CMD INSTALL ReportingTools_2.28.0.zip && rm ReportingTools_2.28.0.tar.gz ReportingTools_2.28.0.zip
###
##############################################################################
##############################################################################
% Total % Received % Xferd Average Speed Time Time Time Current
Dload Upload Total Spent Left Speed
0 0 0 0 0 0 0 0 --:--:-- --:--:-- --:--:-- 0
100 1100k 100 1100k 0 0 8810k 0 --:--:-- --:--:-- --:--:-- 9404k
install for i386
* installing *source* package 'ReportingTools' ...
** using staged installation
** R
** data
** inst
** byte-compile and prepare package for lazy loading
in method for 'objectToHTML' with signature 'object="ggbio"': no definition for class "ggbio"
** help
*** installing help indices
converting help for package 'ReportingTools'
finding HTML links ... done
BaseReportType-class html
CSVFile-class html
CSVFile html
DataPackage-class html
DataPackage html
HTMLReport-class html
HTMLReport html
HTMLReportRef-class html
Link html
ReportHandlers-class html
addReportColumns-methods html
custHeaderPanel html
filename-methods html
finish-methods html
makeDESeqDF html
mockRnaSeqData html
objectToHTML-methods html
publish-methods html
finding level-2 HTML links ... done
readReport html
reporting.theme html
reporting.theme.alternate html
toReportDF-methods html
validConnection html
** building package indices
** installing vignettes
** testing if installed package can be loaded from temporary location
** testing if installed package can be loaded from final location
** testing if installed package keeps a record of temporary installation path
install for x64
* installing *source* package 'ReportingTools' ...
** testing if installed package can be loaded
* MD5 sums
packaged installation of 'ReportingTools' as ReportingTools_2.28.0.zip
* DONE (ReportingTools)
* installing to library 'C:/Users/biocbuild/bbs-3.11-bioc/R/library'
package 'ReportingTools' successfully unpacked and MD5 sums checked