| Back to Multiple platform build/check report for BioC 3.11 |
|
This page was generated on 2020-10-17 11:57:36 -0400 (Sat, 17 Oct 2020).
| TO THE DEVELOPERS/MAINTAINERS OF THE RepViz PACKAGE: Please make sure to use the following settings in order to reproduce any error or warning you see on this page. |
| Package 1466/1905 | Hostname | OS / Arch | INSTALL | BUILD | CHECK | BUILD BIN | ||||||
| RepViz 1.4.0 Thomas Faux, Asta Laiho
| malbec2 | Linux (Ubuntu 18.04.4 LTS) / x86_64 | OK | OK | WARNINGS | |||||||
| tokay2 | Windows Server 2012 R2 Standard / x64 | OK | OK | WARNINGS | [ OK ] | |||||||
| machv2 | macOS 10.14.6 Mojave / x86_64 | OK | OK | WARNINGS | OK |
| Package: RepViz |
| Version: 1.4.0 |
| Command: rm -rf RepViz.buildbin-libdir && mkdir RepViz.buildbin-libdir && C:\Users\biocbuild\bbs-3.11-bioc\R\bin\R.exe CMD INSTALL --merge-multiarch --build --library=RepViz.buildbin-libdir RepViz_1.4.0.tar.gz |
| StartedAt: 2020-10-17 11:26:56 -0400 (Sat, 17 Oct 2020) |
| EndedAt: 2020-10-17 11:27:43 -0400 (Sat, 17 Oct 2020) |
| EllapsedTime: 46.4 seconds |
| RetCode: 0 |
| Status: OK |
| PackageFile: RepViz_1.4.0.zip |
| PackageFileSize: 231.5 KiB |
##############################################################################
##############################################################################
###
### Running command:
###
### rm -rf RepViz.buildbin-libdir && mkdir RepViz.buildbin-libdir && C:\Users\biocbuild\bbs-3.11-bioc\R\bin\R.exe CMD INSTALL --merge-multiarch --build --library=RepViz.buildbin-libdir RepViz_1.4.0.tar.gz
###
##############################################################################
##############################################################################
install for i386
* installing *source* package 'RepViz' ...
** using staged installation
** R
** inst
** byte-compile and prepare package for lazy loading
** help
*** installing help indices
converting help for package 'RepViz'
finding HTML links ... done
RepViz html
** building package indices
** installing vignettes
** testing if installed package can be loaded from temporary location
** testing if installed package can be loaded from final location
** testing if installed package keeps a record of temporary installation path
install for x64
* installing *source* package 'RepViz' ...
** testing if installed package can be loaded
* MD5 sums
packaged installation of 'RepViz' as RepViz_1.4.0.zip
* DONE (RepViz)