| Back to Multiple platform build/check report for BioC 3.11 |
|
This page was generated on 2020-09-01 12:15:50 -0400 (Tue, 01 Sep 2020).
| TO THE DEVELOPERS/MAINTAINERS OF THE RefNet PACKAGE: Please make sure to use the following settings in order to reproduce any error or warning you see on this page. |
| Package 1457/1905 | Hostname | OS / Arch | INSTALL | BUILD | CHECK | BUILD BIN | ||||||
Paul Shannon
| malbec2 | Linux (Ubuntu 18.04.4 LTS) / x86_64 | OK | OK | WARNINGS | |||||||
| tokay2 | Windows Server 2012 R2 Standard / x64 | OK | OK | ERROR | [ OK ] | |||||||
| machv2 | macOS 10.14.6 Mojave / x86_64 | OK | OK | WARNINGS | OK |
| Package: RefNet |
| Version: 1.24.0 |
| Command: rm -rf RefNet.buildbin-libdir && mkdir RefNet.buildbin-libdir && C:\Users\biocbuild\bbs-3.11-bioc\R\bin\R.exe CMD INSTALL --merge-multiarch --build --library=RefNet.buildbin-libdir RefNet_1.24.0.tar.gz |
| StartedAt: 2020-09-01 11:07:42 -0400 (Tue, 01 Sep 2020) |
| EndedAt: 2020-09-01 11:08:23 -0400 (Tue, 01 Sep 2020) |
| EllapsedTime: 40.2 seconds |
| RetCode: 0 |
| Status: OK |
| PackageFile: RefNet_1.24.0.zip |
| PackageFileSize: 532.3 KiB |
##############################################################################
##############################################################################
###
### Running command:
###
### rm -rf RefNet.buildbin-libdir && mkdir RefNet.buildbin-libdir && C:\Users\biocbuild\bbs-3.11-bioc\R\bin\R.exe CMD INSTALL --merge-multiarch --build --library=RefNet.buildbin-libdir RefNet_1.24.0.tar.gz
###
##############################################################################
##############################################################################
install for i386
* installing *source* package 'RefNet' ...
** using staged installation
** R
** inst
** byte-compile and prepare package for lazy loading
Warning message:
replacing previous import 'IRanges::desc' by 'plyr::desc' when loading 'PSICQUIC'
** help
*** installing help indices
converting help for package 'RefNet'
finding HTML links ... done
RefNet-class html
detectDuplicateInteractions html
interactions html
pickBestFromDupGroup html
providerClasses html
providers html
pubmedAbstract html
** building package indices
** installing vignettes
** testing if installed package can be loaded from temporary location
Warning: replacing previous import 'IRanges::desc' by 'plyr::desc' when loading 'PSICQUIC'
Warning: Package 'RefNet' is deprecated and will be removed from Bioconductor
version 3.12
** testing if installed package can be loaded from final location
Warning: replacing previous import 'IRanges::desc' by 'plyr::desc' when loading 'PSICQUIC'
Warning: Package 'RefNet' is deprecated and will be removed from Bioconductor
version 3.12
** testing if installed package keeps a record of temporary installation path
install for x64
* installing *source* package 'RefNet' ...
** testing if installed package can be loaded
Warning: replacing previous import 'IRanges::desc' by 'plyr::desc' when loading 'PSICQUIC'
Warning: Package 'RefNet' is deprecated and will be removed from Bioconductor
version 3.12
* MD5 sums
packaged installation of 'RefNet' as RefNet_1.24.0.zip
* DONE (RefNet)