| Back to Multiple platform build/check report for BioC 3.11 |
|
This page was generated on 2020-10-17 11:55:31 -0400 (Sat, 17 Oct 2020).
| TO THE DEVELOPERS/MAINTAINERS OF THE RbcBook1 PACKAGE: Please make sure to use the following settings in order to reproduce any error or warning you see on this page. |
| Package 1420/1905 | Hostname | OS / Arch | INSTALL | BUILD | CHECK | BUILD BIN | ||||||
| RbcBook1 1.56.0 Vince Carey
| malbec2 | Linux (Ubuntu 18.04.4 LTS) / x86_64 | OK | OK | [ OK ] | |||||||
| tokay2 | Windows Server 2012 R2 Standard / x64 | OK | OK | OK | OK | |||||||
| machv2 | macOS 10.14.6 Mojave / x86_64 | OK | OK | OK | OK |
| Package: RbcBook1 |
| Version: 1.56.0 |
| Command: /home/biocbuild/bbs-3.11-bioc/R/bin/R CMD check --install=check:RbcBook1.install-out.txt --library=/home/biocbuild/bbs-3.11-bioc/R/library --no-vignettes --timings RbcBook1_1.56.0.tar.gz |
| StartedAt: 2020-10-17 04:31:18 -0400 (Sat, 17 Oct 2020) |
| EndedAt: 2020-10-17 04:31:54 -0400 (Sat, 17 Oct 2020) |
| EllapsedTime: 36.8 seconds |
| RetCode: 0 |
| Status: OK |
| CheckDir: RbcBook1.Rcheck |
| Warnings: 0 |
##############################################################################
##############################################################################
###
### Running command:
###
### /home/biocbuild/bbs-3.11-bioc/R/bin/R CMD check --install=check:RbcBook1.install-out.txt --library=/home/biocbuild/bbs-3.11-bioc/R/library --no-vignettes --timings RbcBook1_1.56.0.tar.gz
###
##############################################################################
##############################################################################
* using log directory ‘/home/biocbuild/bbs-3.11-bioc/meat/RbcBook1.Rcheck’
* using R version 4.0.3 (2020-10-10)
* using platform: x86_64-pc-linux-gnu (64-bit)
* using session charset: UTF-8
* using option ‘--no-vignettes’
* checking for file ‘RbcBook1/DESCRIPTION’ ... OK
* this is package ‘RbcBook1’ version ‘1.56.0’
* checking package namespace information ... OK
* checking package dependencies ... OK
* checking if this is a source package ... OK
* checking if there is a namespace ... OK
* checking for hidden files and directories ... OK
* checking for portable file names ... OK
* checking for sufficient/correct file permissions ... OK
* checking whether package ‘RbcBook1’ can be installed ... OK
* checking installed package size ... NOTE
installed size is 6.6Mb
sub-directories of 1Mb or more:
data 6.4Mb
* checking package directory ... OK
* checking ‘build’ directory ... OK
* checking DESCRIPTION meta-information ... NOTE
Malformed Description field: should contain one or more complete sentences.
* checking top-level files ... OK
* checking for left-over files ... OK
* checking index information ... OK
* checking package subdirectories ... OK
* checking R files for non-ASCII characters ... OK
* checking R files for syntax errors ... OK
* checking whether the package can be loaded ... OK
* checking whether the package can be loaded with stated dependencies ... OK
* checking whether the package can be unloaded cleanly ... OK
* checking whether the namespace can be loaded with stated dependencies ... OK
* checking whether the namespace can be unloaded cleanly ... OK
* checking dependencies in R code ... NOTE
'library' or 'require' call to ‘graph’ which was already attached by Depends.
Please remove these calls from your code.
Packages in Depends field not imported from:
‘Biobase’ ‘graph’ ‘rpart’
These packages need to be imported from (in the NAMESPACE file)
for when this namespace is loaded but not attached.
* checking S3 generic/method consistency ... OK
* checking replacement functions ... OK
* checking foreign function calls ... OK
* checking R code for possible problems ... NOTE
bcSweave: no visible global function definition for
‘Sweave’
remapAff: no visible binding for global variable
‘hgu95av2SYMBOL’
rpart2gNEL: no visible global function definition for
‘new’
rpart2gNEL: no visible global function definition for
‘edgemode<-’
rpart2gNEL: no visible global function definition for
‘addEdge’
Undefined global functions or variables:
Sweave addEdge edgemode<- hgu95av2SYMBOL new
Consider adding
importFrom("methods", "new")
importFrom("utils", "Sweave")
to your NAMESPACE file (and ensure that your DESCRIPTION Imports field
contains 'methods').
* checking Rd files ... NOTE
prepare_Rd: requireAllBook1.Rd:9-10: Dropping empty section \arguments
* checking Rd metadata ... OK
* checking Rd cross-references ... OK
* checking for missing documentation entries ... OK
* checking for code/documentation mismatches ... OK
* checking Rd \usage sections ... OK
* checking Rd contents ... OK
* checking for unstated dependencies in examples ... OK
* checking contents of ‘data’ directory ... OK
* checking data for non-ASCII characters ... OK
* checking data for ASCII and uncompressed saves ... OK
* checking files in ‘vignettes’ ... OK
* checking examples ... OK
* checking for unstated dependencies in vignettes ... OK
* checking package vignettes in ‘inst/doc’ ... OK
* checking running R code from vignettes ... SKIPPED
* checking re-building of vignette outputs ... SKIPPED
* checking PDF version of manual ... OK
* DONE
Status: 5 NOTEs
See
‘/home/biocbuild/bbs-3.11-bioc/meat/RbcBook1.Rcheck/00check.log’
for details.
RbcBook1.Rcheck/00install.out
############################################################################## ############################################################################## ### ### Running command: ### ### /home/biocbuild/bbs-3.11-bioc/R/bin/R CMD INSTALL RbcBook1 ### ############################################################################## ############################################################################## * installing to library ‘/home/biocbuild/bbs-3.11-bioc/R/library’ * installing *source* package ‘RbcBook1’ ... ** using staged installation ** R ** data ** inst ** byte-compile and prepare package for lazy loading ** help *** installing help indices ** building package indices ** installing vignettes ** testing if installed package can be loaded from temporary location ** testing if installed package can be loaded from final location ** testing if installed package keeps a record of temporary installation path * DONE (RbcBook1)
RbcBook1.Rcheck/RbcBook1-Ex.timings
| name | user | system | elapsed | |
| bcStangle | 0.000 | 0.000 | 0.001 | |
| bcSweave | 0 | 0 | 0 | |
| bcr | 0.814 | 0.024 | 0.838 | |
| checkVerbatimLines | 0.033 | 0.000 | 0.033 | |
| imageSize | 0 | 0 | 0 | |
| perf | 0.002 | 0.000 | 0.002 | |
| requireAllBook1 | 0 | 0 | 0 | |
| rpart2gNEL | 0.126 | 0.000 | 0.166 | |