| Back to Multiple platform build/check report for BioC 3.11 |
|
This page was generated on 2020-10-17 11:59:20 -0400 (Sat, 17 Oct 2020).
| TO THE DEVELOPERS/MAINTAINERS OF THE RareVariantVis PACKAGE: Please make sure to use the following settings in order to reproduce any error or warning you see on this page. |
| Package 1418/1905 | Hostname | OS / Arch | INSTALL | BUILD | CHECK | BUILD BIN | ||||||
| RareVariantVis 2.16.0 Tomasz Stokowy
| malbec2 | Linux (Ubuntu 18.04.4 LTS) / x86_64 | OK | OK | OK | |||||||
| tokay2 | Windows Server 2012 R2 Standard / x64 | OK | OK | OK | OK | |||||||
| machv2 | macOS 10.14.6 Mojave / x86_64 | OK | OK | [ OK ] | OK |
| Package: RareVariantVis |
| Version: 2.16.0 |
| Command: /Library/Frameworks/R.framework/Versions/Current/Resources/bin/R CMD check --install=check:RareVariantVis.install-out.txt --library=/Library/Frameworks/R.framework/Versions/Current/Resources/library --no-vignettes --timings RareVariantVis_2.16.0.tar.gz |
| StartedAt: 2020-10-17 04:21:34 -0400 (Sat, 17 Oct 2020) |
| EndedAt: 2020-10-17 04:29:15 -0400 (Sat, 17 Oct 2020) |
| EllapsedTime: 460.8 seconds |
| RetCode: 0 |
| Status: OK |
| CheckDir: RareVariantVis.Rcheck |
| Warnings: 0 |
##############################################################################
##############################################################################
###
### Running command:
###
### /Library/Frameworks/R.framework/Versions/Current/Resources/bin/R CMD check --install=check:RareVariantVis.install-out.txt --library=/Library/Frameworks/R.framework/Versions/Current/Resources/library --no-vignettes --timings RareVariantVis_2.16.0.tar.gz
###
##############################################################################
##############################################################################
* using log directory ‘/Users/biocbuild/bbs-3.11-bioc/meat/RareVariantVis.Rcheck’
* using R version 4.0.3 (2020-10-10)
* using platform: x86_64-apple-darwin17.0 (64-bit)
* using session charset: UTF-8
* using option ‘--no-vignettes’
* checking for file ‘RareVariantVis/DESCRIPTION’ ... OK
* checking extension type ... Package
* this is package ‘RareVariantVis’ version ‘2.16.0’
* checking package namespace information ... OK
* checking package dependencies ... OK
* checking if this is a source package ... OK
* checking if there is a namespace ... OK
* checking for hidden files and directories ... OK
* checking for portable file names ... OK
* checking for sufficient/correct file permissions ... OK
* checking whether package ‘RareVariantVis’ can be installed ... OK
* checking installed package size ... OK
* checking package directory ... OK
* checking ‘build’ directory ... OK
* checking DESCRIPTION meta-information ... OK
* checking top-level files ... OK
* checking for left-over files ... OK
* checking index information ... OK
* checking package subdirectories ... OK
* checking R files for non-ASCII characters ... OK
* checking R files for syntax errors ... OK
* checking whether the package can be loaded ... OK
* checking whether the package can be loaded with stated dependencies ... OK
* checking whether the package can be unloaded cleanly ... OK
* checking whether the namespace can be loaded with stated dependencies ... OK
* checking whether the namespace can be unloaded cleanly ... OK
* checking dependencies in R code ... OK
* checking S3 generic/method consistency ... OK
* checking replacement functions ... OK
* checking foreign function calls ... OK
* checking R code for possible problems ... OK
* checking Rd files ... OK
* checking Rd metadata ... OK
* checking Rd cross-references ... OK
* checking for missing documentation entries ... OK
* checking for code/documentation mismatches ... OK
* checking Rd \usage sections ... OK
* checking Rd contents ... OK
* checking for unstated dependencies in examples ... OK
* checking sizes of PDF files under ‘inst/doc’ ... OK
* checking files in ‘vignettes’ ... OK
* checking examples ... OK
Examples with CPU (user + system) or elapsed time > 5s
user system elapsed
chromosomeVis 28.298 0.751 30.214
* checking for unstated dependencies in vignettes ... OK
* checking package vignettes in ‘inst/doc’ ... OK
* checking running R code from vignettes ... SKIPPED
* checking re-building of vignette outputs ... SKIPPED
* checking PDF version of manual ... OK
* DONE
Status: OK
RareVariantVis.Rcheck/00install.out
############################################################################## ############################################################################## ### ### Running command: ### ### /Library/Frameworks/R.framework/Versions/Current/Resources/bin/R CMD INSTALL RareVariantVis ### ############################################################################## ############################################################################## * installing to library ‘/Library/Frameworks/R.framework/Versions/4.0/Resources/library’ * installing *source* package ‘RareVariantVis’ ... ** using staged installation ** R ** inst ** byte-compile and prepare package for lazy loading Creating a generic function for ‘toJSON’ from package ‘jsonlite’ in package ‘googleVis’ ** help *** installing help indices ** building package indices ** installing vignettes ** testing if installed package can be loaded from temporary location Creating a generic function for ‘toJSON’ from package ‘jsonlite’ in package ‘googleVis’ ** testing if installed package can be loaded from final location Creating a generic function for ‘toJSON’ from package ‘jsonlite’ in package ‘googleVis’ ** testing if installed package keeps a record of temporary installation path * DONE (RareVariantVis)
RareVariantVis.Rcheck/RareVariantVis-Ex.timings
| name | user | system | elapsed | |
| callHomozygous | 0 | 0 | 0 | |
| chromosomeVis | 28.298 | 0.751 | 30.214 | |
| getCrisprGuides | 1.003 | 0.071 | 1.074 | |
| movingAverage | 0.000 | 0.000 | 0.001 | |
| multipleVis | 0.061 | 0.004 | 0.065 | |
| rareVariantVis | 0.305 | 0.020 | 0.324 | |