| Back to Multiple platform build/check report for BioC 3.11 |
|
This page was generated on 2020-10-17 11:57:42 -0400 (Sat, 17 Oct 2020).
| TO THE DEVELOPERS/MAINTAINERS OF THE RTCGAToolbox PACKAGE: Please make sure to use the following settings in order to reproduce any error or warning you see on this page. |
| Package 1549/1905 | Hostname | OS / Arch | INSTALL | BUILD | CHECK | BUILD BIN | ||||||
| RTCGAToolbox 2.18.0 Marcel Ramos
| malbec2 | Linux (Ubuntu 18.04.4 LTS) / x86_64 | OK | OK | OK | |||||||
| tokay2 | Windows Server 2012 R2 Standard / x64 | OK | OK | OK | [ OK ] | |||||||
| machv2 | macOS 10.14.6 Mojave / x86_64 | OK | OK | OK | OK |
| Package: RTCGAToolbox |
| Version: 2.18.0 |
| Command: rm -rf RTCGAToolbox.buildbin-libdir && mkdir RTCGAToolbox.buildbin-libdir && C:\Users\biocbuild\bbs-3.11-bioc\R\bin\R.exe CMD INSTALL --merge-multiarch --build --library=RTCGAToolbox.buildbin-libdir RTCGAToolbox_2.18.0.tar.gz |
| StartedAt: 2020-10-17 11:33:01 -0400 (Sat, 17 Oct 2020) |
| EndedAt: 2020-10-17 11:33:45 -0400 (Sat, 17 Oct 2020) |
| EllapsedTime: 43.4 seconds |
| RetCode: 0 |
| Status: OK |
| PackageFile: RTCGAToolbox_2.18.0.zip |
| PackageFileSize: 3.363 MiB |
##############################################################################
##############################################################################
###
### Running command:
###
### rm -rf RTCGAToolbox.buildbin-libdir && mkdir RTCGAToolbox.buildbin-libdir && C:\Users\biocbuild\bbs-3.11-bioc\R\bin\R.exe CMD INSTALL --merge-multiarch --build --library=RTCGAToolbox.buildbin-libdir RTCGAToolbox_2.18.0.tar.gz
###
##############################################################################
##############################################################################
install for i386
* installing *source* package 'RTCGAToolbox' ...
** using staged installation
** R
** data
*** moving datasets to lazyload DB
** inst
** byte-compile and prepare package for lazy loading
** help
*** installing help indices
converting help for package 'RTCGAToolbox'
finding HTML links ... done
CorResult-class html
DGEResult-class html
FirehoseCGHArray-class html
FirehoseData-class html
FirehoseGISTIC-class html
FirehoseMethylationArray-class html
FirehosemRNAArray-class html
RTCGASample html
RTCGAToolbox html
biocExtract html
finding level-2 HTML links ... done
getBroadSubtypes html
getCNGECorrelation html
getData html
getDiffExpressedGenes html
getFirehoseAnalyzeDates html
getFirehoseData html
getFirehoseDatasets html
getFirehoseRunningDates html
getGISTICPeaks html
getMutationRate html
getReport html
getSurvival html
hg19.ucsc.gene.locations html
selectType html
showResults-CorResult html
showResults-DGEResult html
showResults html
** building package indices
** installing vignettes
** testing if installed package can be loaded from temporary location
** testing if installed package can be loaded from final location
** testing if installed package keeps a record of temporary installation path
install for x64
* installing *source* package 'RTCGAToolbox' ...
** testing if installed package can be loaded
* MD5 sums
packaged installation of 'RTCGAToolbox' as RTCGAToolbox_2.18.0.zip
* DONE (RTCGAToolbox)