| Back to Multiple platform build/check report for BioC 3.11 |
|
This page was generated on 2020-10-17 11:57:42 -0400 (Sat, 17 Oct 2020).
| TO THE DEVELOPERS/MAINTAINERS OF THE RTCA PACKAGE: Please make sure to use the following settings in order to reproduce any error or warning you see on this page. |
| Package 1547/1905 | Hostname | OS / Arch | INSTALL | BUILD | CHECK | BUILD BIN | ||||||
| RTCA 1.40.0 Jitao David Zhang
| malbec2 | Linux (Ubuntu 18.04.4 LTS) / x86_64 | OK | OK | WARNINGS | |||||||
| tokay2 | Windows Server 2012 R2 Standard / x64 | [ OK ] | OK | WARNINGS | OK | |||||||
| machv2 | macOS 10.14.6 Mojave / x86_64 | OK | OK | WARNINGS | OK |
| Package: RTCA |
| Version: 1.40.0 |
| Command: C:\cygwin\bin\curl.exe -O https://malbec2.bioconductor.org/BBS/3.11/bioc/src/contrib/RTCA_1.40.0.tar.gz && rm -rf RTCA.buildbin-libdir && mkdir RTCA.buildbin-libdir && C:\Users\biocbuild\bbs-3.11-bioc\R\bin\R.exe CMD INSTALL --merge-multiarch --build --library=RTCA.buildbin-libdir RTCA_1.40.0.tar.gz && C:\Users\biocbuild\bbs-3.11-bioc\R\bin\R.exe CMD INSTALL RTCA_1.40.0.zip && rm RTCA_1.40.0.tar.gz RTCA_1.40.0.zip |
| StartedAt: 2020-10-16 17:10:19 -0400 (Fri, 16 Oct 2020) |
| EndedAt: 2020-10-16 17:11:08 -0400 (Fri, 16 Oct 2020) |
| EllapsedTime: 49.1 seconds |
| RetCode: 0 |
| Status: OK |
##############################################################################
##############################################################################
###
### Running command:
###
### C:\cygwin\bin\curl.exe -O https://malbec2.bioconductor.org/BBS/3.11/bioc/src/contrib/RTCA_1.40.0.tar.gz && rm -rf RTCA.buildbin-libdir && mkdir RTCA.buildbin-libdir && C:\Users\biocbuild\bbs-3.11-bioc\R\bin\R.exe CMD INSTALL --merge-multiarch --build --library=RTCA.buildbin-libdir RTCA_1.40.0.tar.gz && C:\Users\biocbuild\bbs-3.11-bioc\R\bin\R.exe CMD INSTALL RTCA_1.40.0.zip && rm RTCA_1.40.0.tar.gz RTCA_1.40.0.zip
###
##############################################################################
##############################################################################
% Total % Received % Xferd Average Speed Time Time Time Current
Dload Upload Total Spent Left Speed
0 0 0 0 0 0 0 0 --:--:-- --:--:-- --:--:-- 0
100 57129 100 57129 0 0 343k 0 --:--:-- --:--:-- --:--:-- 359k
install for i386
* installing *source* package 'RTCA' ...
** using staged installation
** R
** inst
** byte-compile and prepare package for lazy loading
** help
*** installing help indices
converting help for package 'RTCA'
finding HTML links ... done
RTCA-class html
finding level-2 HTML links ... done
RTCAtimeline-class html
alphaNames html
combineRTCA html
controlView html
derivativeTransform html
factor2numeric html
interpolationTransform html
nearestTimeIndex html
parseRTCA html
plateView html
plotGridEffect html
ratioTransform html
rgrTransform html
sliceRTCA html
smoothTransform html
spectramaxImport html
** building package indices
** installing vignettes
** testing if installed package can be loaded from temporary location
** testing if installed package can be loaded from final location
** testing if installed package keeps a record of temporary installation path
install for x64
* installing *source* package 'RTCA' ...
** testing if installed package can be loaded
* MD5 sums
packaged installation of 'RTCA' as RTCA_1.40.0.zip
* DONE (RTCA)
* installing to library 'C:/Users/biocbuild/bbs-3.11-bioc/R/library'
package 'RTCA' successfully unpacked and MD5 sums checked