| Back to Multiple platform build/check report for BioC 3.11 | 
 | 
This page was generated on 2020-10-17 11:57:42 -0400 (Sat, 17 Oct 2020).
| TO THE DEVELOPERS/MAINTAINERS OF THE RSeqAn PACKAGE: Please make sure to use the following settings in order to reproduce any error or warning you see on this page. | 
| Package 1542/1905 | Hostname | OS / Arch | INSTALL | BUILD | CHECK | BUILD BIN | ||||||
| RSeqAn 1.8.0 August Guang 
 | malbec2 | Linux (Ubuntu 18.04.4 LTS) / x86_64 | OK | OK | OK |  | ||||||
| tokay2 | Windows Server 2012 R2 Standard / x64 | OK | [ OK ] | OK | OK |  | ||||||
| machv2 | macOS 10.14.6 Mojave / x86_64 | OK | OK | OK | OK |  | 
| Package: RSeqAn | 
| Version: 1.8.0 | 
| Command: chmod a+r RSeqAn -R && C:\Users\biocbuild\bbs-3.11-bioc\R\bin\R.exe CMD build --keep-empty-dirs --no-resave-data RSeqAn | 
| StartedAt: 2020-10-17 00:20:34 -0400 (Sat, 17 Oct 2020) | 
| EndedAt: 2020-10-17 00:21:46 -0400 (Sat, 17 Oct 2020) | 
| EllapsedTime: 71.4 seconds | 
| RetCode: 0 | 
| Status: OK | 
| PackageFile: RSeqAn_1.8.0.tar.gz | 
| PackageFileSize: 1.618 MiB | 
############################################################################## ############################################################################## ### ### Running command: ### ### chmod a+r RSeqAn -R && C:\Users\biocbuild\bbs-3.11-bioc\R\bin\R.exe CMD build --keep-empty-dirs --no-resave-data RSeqAn ### ############################################################################## ############################################################################## * checking for file 'RSeqAn/DESCRIPTION' ... OK * preparing 'RSeqAn': * checking DESCRIPTION meta-information ... OK * cleaning src * installing the package to build vignettes * creating vignettes ... OK * checking for LF line-endings in source and make files and shell scripts * checking for empty or unneeded directories * building 'RSeqAn_1.8.0.tar.gz'