| Back to Multiple platform build/check report for BioC 3.11 | 
 | 
This page was generated on 2020-10-17 11:59:27 -0400 (Sat, 17 Oct 2020).
| TO THE DEVELOPERS/MAINTAINERS OF THE ROntoTools PACKAGE: Please make sure to use the following settings in order to reproduce any error or warning you see on this page. | 
| Package 1525/1905 | Hostname | OS / Arch | INSTALL | BUILD | CHECK | BUILD BIN | ||||||
| ROntoTools 2.16.0 Calin Voichita 
 | malbec2 | Linux (Ubuntu 18.04.4 LTS) / x86_64 | OK | OK | OK |  | ||||||
| tokay2 | Windows Server 2012 R2 Standard / x64 | OK | OK | OK | OK |  | ||||||
| machv2 | macOS 10.14.6 Mojave / x86_64 | OK | OK | [ OK ] | OK |  | 
| Package: ROntoTools | 
| Version: 2.16.0 | 
| Command: /Library/Frameworks/R.framework/Versions/Current/Resources/bin/R CMD check --install=check:ROntoTools.install-out.txt --library=/Library/Frameworks/R.framework/Versions/Current/Resources/library --no-vignettes --timings ROntoTools_2.16.0.tar.gz | 
| StartedAt: 2020-10-17 04:48:49 -0400 (Sat, 17 Oct 2020) | 
| EndedAt: 2020-10-17 04:52:51 -0400 (Sat, 17 Oct 2020) | 
| EllapsedTime: 241.9 seconds | 
| RetCode: 0 | 
| Status: OK | 
| CheckDir: ROntoTools.Rcheck | 
| Warnings: 0 | 
##############################################################################
##############################################################################
###
### Running command:
###
###   /Library/Frameworks/R.framework/Versions/Current/Resources/bin/R CMD check --install=check:ROntoTools.install-out.txt --library=/Library/Frameworks/R.framework/Versions/Current/Resources/library --no-vignettes --timings ROntoTools_2.16.0.tar.gz
###
##############################################################################
##############################################################################
* using log directory ‘/Users/biocbuild/bbs-3.11-bioc/meat/ROntoTools.Rcheck’
* using R version 4.0.3 (2020-10-10)
* using platform: x86_64-apple-darwin17.0 (64-bit)
* using session charset: UTF-8
* using option ‘--no-vignettes’
* checking for file ‘ROntoTools/DESCRIPTION’ ... OK
* checking extension type ... Package
* this is package ‘ROntoTools’ version ‘2.16.0’
* checking package namespace information ... OK
* checking package dependencies ... OK
* checking if this is a source package ... OK
* checking if there is a namespace ... OK
* checking for hidden files and directories ... OK
* checking for portable file names ... OK
* checking for sufficient/correct file permissions ... OK
* checking whether package ‘ROntoTools’ can be installed ... OK
* checking installed package size ... OK
* checking package directory ... OK
* checking ‘build’ directory ... OK
* checking DESCRIPTION meta-information ... OK
* checking top-level files ... OK
* checking for left-over files ... OK
* checking index information ... OK
* checking package subdirectories ... OK
* checking R files for non-ASCII characters ... OK
* checking R files for syntax errors ... OK
* checking whether the package can be loaded ... OK
* checking whether the package can be loaded with stated dependencies ... OK
* checking whether the package can be unloaded cleanly ... OK
* checking whether the namespace can be loaded with stated dependencies ... NOTE
Warning: no function found corresponding to methods exports from ‘ROntoTools’ for: ‘Summary’
A namespace must be able to be loaded with just the base namespace
loaded: otherwise if the namespace gets loaded by a saved object, the
session will be unable to start.
Probably some imports need to be declared in the NAMESPACE file.
* checking whether the namespace can be unloaded cleanly ... OK
* checking dependencies in R code ... NOTE
Packages in Depends field not imported from:
  ‘Rgraphviz’ ‘methods’
  These packages need to be imported from (in the NAMESPACE file)
  for when this namespace is loaded but not attached.
* checking S3 generic/method consistency ... OK
* checking replacement functions ... OK
* checking foreign function calls ... OK
* checking R code for possible problems ... NOTE
KEGGpathway2Graph: no visible global function definition for ‘is’
KEGGpathway2Graph: no visible global function definition for ‘new’
compute.B: no visible global function definition for ‘as’
compute.B_pDis: no visible global function definition for ‘as’
compute.normalInv: no visible global function definition for ‘pnorm’
compute.normalInv: no visible binding for global variable ‘qnorm’
compute.pORA: no visible global function definition for ‘phyper’
get.totalAccNorm: no visible global function definition for ‘sd’
get.totalPertNorm: no visible global function definition for ‘sd’
get.totalpDisNorm: no visible global function definition for ‘sd’
graph2ftM: no visible global function definition for ‘as’
keggPathwayGraphs: no visible global function definition for
  ‘txtProgressBar’
keggPathwayGraphs : <anonymous>: no visible global function definition
  for ‘new’
keggPathwayGraphs : <anonymous>: no visible global function definition
  for ‘setTxtProgressBar’
keggPathwayGraphs : <anonymous>: no visible global function definition
  for ‘getTxtProgressBar’
loadKEGGpathwayDataREST: no visible global function definition for
  ‘txtProgressBar’
loadKEGGpathwayDataREST : <anonymous>: no visible global function
  definition for ‘setTxtProgressBar’
loadKEGGpathwayDataREST : <anonymous>: no visible global function
  definition for ‘getTxtProgressBar’
pDis.boot: no visible global function definition for ‘new’
pDis.helper: no visible global function definition for ‘txtProgressBar’
pDis.helper : <anonymous>: no visible global function definition for
  ‘setTxtProgressBar’
pDis.helper : <anonymous>: no visible global function definition for
  ‘getTxtProgressBar’
pDis.helper: no visible global function definition for ‘new’
pe.boot: no visible global function definition for ‘new’
peEdgeRenderInfo: no visible global function definition for
  ‘removedEdges’
peNodeRenderInfo: no visible global function definition for ‘slot’
peNodeRenderInfo: no visible global function definition for
  ‘colorRampPalette’
pf.helper: no visible global function definition for ‘txtProgressBar’
pf.helper : <anonymous>: no visible global function definition for
  ‘setTxtProgressBar’
pf.helper : <anonymous>: no visible global function definition for
  ‘getTxtProgressBar’
pf.helper: no visible global function definition for ‘new’
subGraphByNodeType: no visible global function definition for ‘new’
summary.pDisRes : <anonymous>: no visible global function definition
  for ‘p.adjust’
summary.peRes : <anonymous>: no visible global function definition for
  ‘p.adjust’
plot,pePathway-character: no visible global function definition for
  ‘slot’
plot,pePathway-character: no visible global function definition for
  ‘abline’
plot,pePathway-character: no visible global function definition for
  ‘points’
plot,pePathway-character: no visible global function definition for
  ‘sd’
plot,pePathway-character: no visible global function definition for
  ‘density’
plot,peRes-character: no visible global function definition for
  ‘Summary’
plot,peRes-character: no visible global function definition for ‘chull’
plot,peRes-character: no visible global function definition for
  ‘polygon’
plot,peRes-character: no visible global function definition for
  ‘points’
plot,peRes-character: no visible global function definition for ‘text’
plot,peRes-character: no visible global function definition for
  ‘abline’
Undefined global functions or variables:
  Summary abline as chull colorRampPalette density getTxtProgressBar is
  new p.adjust phyper pnorm points polygon qnorm removedEdges sd
  setTxtProgressBar slot text txtProgressBar
Consider adding
  importFrom("grDevices", "chull", "colorRampPalette")
  importFrom("graphics", "abline", "points", "polygon", "text")
  importFrom("methods", "Summary", "as", "is", "new", "slot")
  importFrom("stats", "density", "p.adjust", "phyper", "pnorm", "qnorm",
             "sd")
  importFrom("utils", "getTxtProgressBar", "setTxtProgressBar",
             "txtProgressBar")
to your NAMESPACE file (and ensure that your DESCRIPTION Imports field
contains 'methods').
* checking Rd files ... OK
* checking Rd metadata ... OK
* checking Rd cross-references ... OK
* checking for missing documentation entries ... OK
* checking for code/documentation mismatches ... OK
* checking Rd \usage sections ... NOTE
S3 methods shown with full name in documentation object 'summary.pDisRes':
  ‘summary.pDisRes’
S3 methods shown with full name in documentation object 'summary.peRes':
  ‘summary.peRes’
The \usage entries for S3 methods should use the \method markup and not
their full name.
See chapter ‘Writing R documentation files’ in the ‘Writing R
Extensions’ manual.
* checking Rd contents ... OK
* checking for unstated dependencies in examples ... OK
* checking sizes of PDF files under ‘inst/doc’ ... OK
* checking files in ‘vignettes’ ... OK
* checking examples ... OK
Examples with CPU (user + system) or elapsed time > 5s
                         user system elapsed
plot.peRes-methods     14.285  0.130  14.456
summary.peRes          11.752  0.104  11.919
peNodeRenderInfo       11.562  0.148  11.774
peEdgeRenderInfo       11.036  0.125  11.178
summary.pDisRes        10.882  0.109  11.007
pDis                   10.761  0.229  11.054
pe                     10.204  0.125  10.342
plot.pePathway-methods 10.088  0.101  10.208
* checking for unstated dependencies in ‘tests’ ... OK
* checking tests ...
  Running ‘runTests.R’
 OK
* checking for unstated dependencies in vignettes ... OK
* checking package vignettes in ‘inst/doc’ ... OK
* checking running R code from vignettes ... SKIPPED
* checking re-building of vignette outputs ... SKIPPED
* checking PDF version of manual ... OK
* DONE
Status: 4 NOTEs
See
  ‘/Users/biocbuild/bbs-3.11-bioc/meat/ROntoTools.Rcheck/00check.log’
for details.
ROntoTools.Rcheck/00install.out
############################################################################## ############################################################################## ### ### Running command: ### ### /Library/Frameworks/R.framework/Versions/Current/Resources/bin/R CMD INSTALL ROntoTools ### ############################################################################## ############################################################################## * installing to library ‘/Library/Frameworks/R.framework/Versions/4.0/Resources/library’ * installing *source* package ‘ROntoTools’ ... ** using staged installation ** R ** inst ** byte-compile and prepare package for lazy loading ** help *** installing help indices ** building package indices ** installing vignettes ** testing if installed package can be loaded from temporary location ** testing if installed package can be loaded from final location ** testing if installed package keeps a record of temporary installation path * DONE (ROntoTools)
ROntoTools.Rcheck/tests/runTests.Rout
R version 4.0.3 (2020-10-10) -- "Bunny-Wunnies Freak Out"
Copyright (C) 2020 The R Foundation for Statistical Computing
Platform: x86_64-apple-darwin17.0 (64-bit)
R is free software and comes with ABSOLUTELY NO WARRANTY.
You are welcome to redistribute it under certain conditions.
Type 'license()' or 'licence()' for distribution details.
R is a collaborative project with many contributors.
Type 'contributors()' for more information and
'citation()' on how to cite R or R packages in publications.
Type 'demo()' for some demos, 'help()' for on-line help, or
'help.start()' for an HTML browser interface to help.
Type 'q()' to quit R.
> BiocGenerics:::testPackage("ROntoTools")
Attaching package: 'BiocGenerics'
The following objects are masked from 'package:parallel':
    clusterApply, clusterApplyLB, clusterCall, clusterEvalQ,
    clusterExport, clusterMap, parApply, parCapply, parLapply,
    parLapplyLB, parRapply, parSapply, parSapplyLB
The following objects are masked from 'package:stats':
    IQR, mad, sd, var, xtabs
The following objects are masked from 'package:base':
    Filter, Find, Map, Position, Reduce, anyDuplicated, append,
    as.data.frame, basename, cbind, colnames, dirname, do.call,
    duplicated, eval, evalq, get, grep, grepl, intersect, is.unsorted,
    lapply, mapply, match, mget, order, paste, pmax, pmax.int, pmin,
    pmin.int, rank, rbind, rownames, sapply, setdiff, sort, table,
    tapply, union, unique, unsplit, which, which.max, which.min
Attaching package: 'KEGGgraph'
The following object is masked from 'package:graphics':
    plot
The following object is masked from 'package:base':
    plot
Using cached pathway data. Database info:
pathway          KEGG Pathway Database
path             Release 73.0+/01-03, Jan 15
                 Kanehisa Laboratories
                 343,170 entries
Default parameters detected. Using pre-parsed data.
Using cached pathway data. Database info:
pathway          KEGG Pathway Database
path             Release 73.0+/01-03, Jan 15
                 Kanehisa Laboratories
                 343,170 entries
Default parameters detected. Using pre-parsed data.
Using cached pathway data. Database info:
pathway          KEGG Pathway Database
path             Release 73.0+/01-03, Jan 15
                 Kanehisa Laboratories
                 343,170 entries
Default parameters detected. Using pre-parsed data.
Performing pathway analysis...
  |                                                                            
  |                                                                      |   0%
  |                                                                            
  |                                                                      |   1%
  |                                                                            
  |=                                                                     |   1%
  |                                                                            
  |=                                                                     |   2%
  |                                                                            
  |==                                                                    |   3%
  |                                                                            
  |===                                                                   |   4%
  |                                                                            
  |===                                                                   |   5%
  |                                                                            
  |====                                                                  |   5%
  |                                                                            
  |====                                                                  |   6%
  |                                                                            
  |=====                                                                 |   7%
  |                                                                            
  |======                                                                |   8%
  |                                                                            
  |======                                                                |   9%
  |                                                                            
  |=======                                                               |   9%
  |                                                                            
  |=======                                                               |  10%
  |                                                                            
  |========                                                              |  11%
  |                                                                            
  |========                                                              |  12%
  |                                                                            
  |=========                                                             |  13%
  |                                                                            
  |==========                                                            |  14%
  |                                                                            
  |==========                                                            |  15%
  |                                                                            
  |===========                                                           |  15%
  |                                                                            
  |===========                                                           |  16%
  |                                                                            
  |============                                                          |  17%
  |                                                                            
  |=============                                                         |  18%
  |                                                                            
  |=============                                                         |  19%
  |                                                                            
  |==============                                                        |  19%
  |                                                                            
  |==============                                                        |  20%
  |                                                                            
  |===============                                                       |  21%
  |                                                                            
  |================                                                      |  22%
  |                                                                            
  |================                                                      |  23%
  |                                                                            
  |=================                                                     |  24%
  |                                                                            
  |=================                                                     |  25%
  |                                                                            
  |==================                                                    |  26%
  |                                                                            
  |===================                                                   |  27%
  |                                                                            
  |===================                                                   |  28%
  |                                                                            
  |====================                                                  |  28%
  |                                                                            
  |====================                                                  |  29%
  |                                                                            
  |=====================                                                 |  30%
  |                                                                            
  |======================                                                |  31%
  |                                                                            
  |======================                                                |  32%
  |                                                                            
  |=======================                                               |  32%
  |                                                                            
  |=======================                                               |  33%
  |                                                                            
  |=======================                                               |  34%
  |                                                                            
  |========================                                              |  34%
  |                                                                            
  |========================                                              |  35%
  |                                                                            
  |=========================                                             |  36%
  |                                                                            
  |==========================                                            |  37%
  |                                                                            
  |==========================                                            |  38%
  |                                                                            
  |===========================                                           |  38%
  |                                                                            
  |===========================                                           |  39%
  |                                                                            
  |============================                                          |  40%
  |                                                                            
  |=============================                                         |  41%
  |                                                                            
  |=============================                                         |  42%
  |                                                                            
  |==============================                                        |  42%
  |                                                                            
  |==============================                                        |  43%
  |                                                                            
  |===============================                                       |  44%
  |                                                                            
  |===============================                                       |  45%
  |                                                                            
  |================================                                      |  46%
  |                                                                            
  |=================================                                     |  47%
  |                                                                            
  |=================================                                     |  48%
  |                                                                            
  |==================================                                    |  48%
  |                                                                            
  |==================================                                    |  49%
  |                                                                            
  |===================================                                   |  50%
  |                                                                            
  |====================================                                  |  51%
  |                                                                            
  |====================================                                  |  52%
  |                                                                            
  |=====================================                                 |  52%
  |                                                                            
  |=====================================                                 |  53%
  |                                                                            
  |======================================                                |  54%
  |                                                                            
  |=======================================                               |  55%
  |                                                                            
  |=======================================                               |  56%
  |                                                                            
  |========================================                              |  57%
  |                                                                            
  |========================================                              |  58%
  |                                                                            
  |=========================================                             |  58%
  |                                                                            
  |=========================================                             |  59%
  |                                                                            
  |==========================================                            |  60%
  |                                                                            
  |===========================================                           |  61%
  |                                                                            
  |===========================================                           |  62%
  |                                                                            
  |============================================                          |  62%
  |                                                                            
  |============================================                          |  63%
  |                                                                            
  |=============================================                         |  64%
  |                                                                            
  |==============================================                        |  65%
  |                                                                            
  |==============================================                        |  66%
  |                                                                            
  |===============================================                       |  66%
  |                                                                            
  |===============================================                       |  67%
  |                                                                            
  |===============================================                       |  68%
  |                                                                            
  |================================================                      |  68%
  |                                                                            
  |================================================                      |  69%
  |                                                                            
  |=================================================                     |  70%
  |                                                                            
  |==================================================                    |  71%
  |                                                                            
  |==================================================                    |  72%
  |                                                                            
  |===================================================                   |  72%
  |                                                                            
  |===================================================                   |  73%
  |                                                                            
  |====================================================                  |  74%
  |                                                                            
  |=====================================================                 |  75%
  |                                                                            
  |=====================================================                 |  76%
  |                                                                            
  |======================================================                |  77%
  |                                                                            
  |======================================================                |  78%
  |                                                                            
  |=======================================================               |  79%
  |                                                                            
  |========================================================              |  80%
  |                                                                            
  |========================================================              |  81%
  |                                                                            
  |=========================================================             |  81%
  |                                                                            
  |=========================================================             |  82%
  |                                                                            
  |==========================================================            |  83%
  |                                                                            
  |===========================================================           |  84%
  |                                                                            
  |===========================================================           |  85%
  |                                                                            
  |============================================================          |  85%
  |                                                                            
  |============================================================          |  86%
  |                                                                            
  |=============================================================         |  87%
  |                                                                            
  |==============================================================        |  88%
  |                                                                            
  |==============================================================        |  89%
  |                                                                            
  |===============================================================       |  90%
  |                                                                            
  |===============================================================       |  91%
  |                                                                            
  |================================================================      |  91%
  |                                                                            
  |================================================================      |  92%
  |                                                                            
  |=================================================================     |  93%
  |                                                                            
  |==================================================================    |  94%
  |                                                                            
  |==================================================================    |  95%
  |                                                                            
  |===================================================================   |  95%
  |                                                                            
  |===================================================================   |  96%
  |                                                                            
  |====================================================================  |  97%
  |                                                                            
  |===================================================================== |  98%
  |                                                                            
  |===================================================================== |  99%
  |                                                                            
  |======================================================================|  99%
  |                                                                            
  |======================================================================| 100%Analysis completed in 7.857747 secs.
RUNIT TEST PROTOCOL -- Sat Oct 17 04:52:39 2020 
*********************************************** 
Number of test functions: 6 
Number of errors: 0 
Number of failures: 0 
 
1 Test Suite : 
ROntoTools RUnit Tests - 6 test functions, 0 errors, 0 failures
Number of test functions: 6 
Number of errors: 0 
Number of failures: 0 
> 
> proc.time()
   user  system elapsed 
 21.946   0.598  22.814 
ROntoTools.Rcheck/ROntoTools-Ex.timings
| name | user | system | elapsed | |
| alpha1MR | 0.020 | 0.002 | 0.021 | |
| alphaMLG | 0.016 | 0.001 | 0.017 | |
| compute.fisher | 0.001 | 0.001 | 0.000 | |
| compute.normalInv | 0.000 | 0.000 | 0.001 | |
| keggPathwayGraphs | 0.735 | 0.019 | 0.759 | |
| keggPathwayNames | 0.547 | 0.014 | 0.563 | |
| nodeWeights | 0.008 | 0.000 | 0.008 | |
| pDis | 10.761 | 0.229 | 11.054 | |
| pe | 10.204 | 0.125 | 10.342 | |
| peEdgeRenderInfo | 11.036 | 0.125 | 11.178 | |
| peNodeRenderInfo | 11.562 | 0.148 | 11.774 | |
| plot.pePathway-methods | 10.088 | 0.101 | 10.208 | |
| plot.peRes-methods | 14.285 | 0.130 | 14.456 | |
| setEdgeWeights | 3.465 | 0.041 | 3.508 | |
| setNodeWeights | 0.816 | 0.007 | 0.823 | |
| summary.pDisRes | 10.882 | 0.109 | 11.007 | |
| summary.peRes | 11.752 | 0.104 | 11.919 | |