| Back to Multiple platform build/check report for BioC 3.11 |
|
This page was generated on 2020-10-17 11:57:40 -0400 (Sat, 17 Oct 2020).
| TO THE DEVELOPERS/MAINTAINERS OF THE ROC PACKAGE: Please make sure to use the following settings in order to reproduce any error or warning you see on this page. |
| Package 1521/1905 | Hostname | OS / Arch | INSTALL | BUILD | CHECK | BUILD BIN | ||||||
| ROC 1.64.0 Vince Carey
| malbec2 | Linux (Ubuntu 18.04.4 LTS) / x86_64 | OK | OK | OK | |||||||
| tokay2 | Windows Server 2012 R2 Standard / x64 | OK | OK | OK | [ OK ] | |||||||
| machv2 | macOS 10.14.6 Mojave / x86_64 | OK | OK | OK | OK |
| Package: ROC |
| Version: 1.64.0 |
| Command: rm -rf ROC.buildbin-libdir && mkdir ROC.buildbin-libdir && C:\Users\biocbuild\bbs-3.11-bioc\R\bin\R.exe CMD INSTALL --merge-multiarch --build --library=ROC.buildbin-libdir ROC_1.64.0.tar.gz |
| StartedAt: 2020-10-17 11:30:53 -0400 (Sat, 17 Oct 2020) |
| EndedAt: 2020-10-17 11:31:02 -0400 (Sat, 17 Oct 2020) |
| EllapsedTime: 8.5 seconds |
| RetCode: 0 |
| Status: OK |
| PackageFile: ROC_1.64.0.zip |
| PackageFileSize: 292.3 KiB |
##############################################################################
##############################################################################
###
### Running command:
###
### rm -rf ROC.buildbin-libdir && mkdir ROC.buildbin-libdir && C:\Users\biocbuild\bbs-3.11-bioc\R\bin\R.exe CMD INSTALL --merge-multiarch --build --library=ROC.buildbin-libdir ROC_1.64.0.tar.gz
###
##############################################################################
##############################################################################
install for i386
* installing *source* package 'ROC' ...
** using staged installation
** libs
"C:/rtools40/mingw32/bin/"g++ -std=gnu++11 -I"C:/Users/BIOCBU~1/BBS-3~1.11-/R/include" -DNDEBUG -I"C:/extsoft/include" -O2 -Wall -mfpmath=sse -msse2 -mstackrealign -c ROC.cc -o ROC.o
C:/rtools40/mingw32/bin/g++ -std=gnu++11 -shared -s -static-libgcc -o ROC.dll tmp.def ROC.o -LC:/extsoft/lib/i386 -LC:/extsoft/lib -LC:/Users/BIOCBU~1/BBS-3~1.11-/R/bin/i386 -lR
installing to C:/Users/biocbuild/bbs-3.11-bioc/meat/ROC.buildbin-libdir/00LOCK-ROC/00new/ROC/libs/i386
** R
** inst
** byte-compile and prepare package for lazy loading
** help
*** installing help indices
converting help for package 'ROC'
finding HTML links ... done
AUC html
plot-methods html
rocc-class html
rocdemo.sca html
trapezint html
** building package indices
** installing vignettes
** testing if installed package can be loaded from temporary location
** testing if installed package can be loaded from final location
** testing if installed package keeps a record of temporary installation path
install for x64
* installing *source* package 'ROC' ...
** libs
"C:/rtools40/mingw64/bin/"g++ -std=gnu++11 -I"C:/Users/BIOCBU~1/BBS-3~1.11-/R/include" -DNDEBUG -I"C:/extsoft/include" -O2 -Wall -mfpmath=sse -msse2 -mstackrealign -c ROC.cc -o ROC.o
C:/rtools40/mingw64/bin/g++ -std=gnu++11 -shared -s -static-libgcc -o ROC.dll tmp.def ROC.o -LC:/extsoft/lib/x64 -LC:/extsoft/lib -LC:/Users/BIOCBU~1/BBS-3~1.11-/R/bin/x64 -lR
installing to C:/Users/biocbuild/bbs-3.11-bioc/meat/ROC.buildbin-libdir/ROC/libs/x64
** testing if installed package can be loaded
* MD5 sums
packaged installation of 'ROC' as ROC_1.64.0.zip
* DONE (ROC)