| Back to Multiple platform build/check report for BioC 3.11 |
|
This page was generated on 2020-10-17 11:57:34 -0400 (Sat, 17 Oct 2020).
| TO THE DEVELOPERS/MAINTAINERS OF THE RDRToolbox PACKAGE: Please make sure to use the following settings in order to reproduce any error or warning you see on this page. |
| Package 1444/1905 | Hostname | OS / Arch | INSTALL | BUILD | CHECK | BUILD BIN | ||||||
| RDRToolbox 1.38.0 Christoph Bartenhagen
| malbec2 | Linux (Ubuntu 18.04.4 LTS) / x86_64 | OK | OK | OK | |||||||
| tokay2 | Windows Server 2012 R2 Standard / x64 | OK | [ OK ] | OK | OK | |||||||
| machv2 | macOS 10.14.6 Mojave / x86_64 | OK | OK | WARNINGS | OK |
| Package: RDRToolbox |
| Version: 1.38.0 |
| Command: chmod a+r RDRToolbox -R && C:\Users\biocbuild\bbs-3.11-bioc\R\bin\R.exe CMD build --keep-empty-dirs --no-resave-data RDRToolbox |
| StartedAt: 2020-10-17 00:07:34 -0400 (Sat, 17 Oct 2020) |
| EndedAt: 2020-10-17 00:08:03 -0400 (Sat, 17 Oct 2020) |
| EllapsedTime: 29.1 seconds |
| RetCode: 0 |
| Status: OK |
| PackageFile: RDRToolbox_1.38.0.tar.gz |
| PackageFileSize: 241.4 KiB |
############################################################################## ############################################################################## ### ### Running command: ### ### chmod a+r RDRToolbox -R && C:\Users\biocbuild\bbs-3.11-bioc\R\bin\R.exe CMD build --keep-empty-dirs --no-resave-data RDRToolbox ### ############################################################################## ############################################################################## * checking for file 'RDRToolbox/DESCRIPTION' ... OK * preparing 'RDRToolbox': * checking DESCRIPTION meta-information ... OK * installing the package to build vignettes * creating vignettes ... OK * checking for LF line-endings in source and make files and shell scripts * checking for empty or unneeded directories * building 'RDRToolbox_1.38.0.tar.gz'