| Back to Multiple platform build/check report for BioC 3.11 |
|
This page was generated on 2020-10-17 11:59:21 -0400 (Sat, 17 Oct 2020).
| TO THE DEVELOPERS/MAINTAINERS OF THE RCAS PACKAGE: Please make sure to use the following settings in order to reproduce any error or warning you see on this page. |
| Package 1429/1905 | Hostname | OS / Arch | INSTALL | BUILD | CHECK | BUILD BIN | ||||||
| RCAS 1.14.0 Bora Uyar
| malbec2 | Linux (Ubuntu 18.04.4 LTS) / x86_64 | OK | OK | OK | |||||||
| tokay2 | Windows Server 2012 R2 Standard / x64 | OK | OK | OK | OK | |||||||
| machv2 | macOS 10.14.6 Mojave / x86_64 | OK | OK | [ OK ] | OK |
| Package: RCAS |
| Version: 1.14.0 |
| Command: /Library/Frameworks/R.framework/Versions/Current/Resources/bin/R CMD check --install=check:RCAS.install-out.txt --library=/Library/Frameworks/R.framework/Versions/Current/Resources/library --no-vignettes --timings RCAS_1.14.0.tar.gz |
| StartedAt: 2020-10-17 04:23:04 -0400 (Sat, 17 Oct 2020) |
| EndedAt: 2020-10-17 04:37:50 -0400 (Sat, 17 Oct 2020) |
| EllapsedTime: 885.3 seconds |
| RetCode: 0 |
| Status: OK |
| CheckDir: RCAS.Rcheck |
| Warnings: 0 |
##############################################################################
##############################################################################
###
### Running command:
###
### /Library/Frameworks/R.framework/Versions/Current/Resources/bin/R CMD check --install=check:RCAS.install-out.txt --library=/Library/Frameworks/R.framework/Versions/Current/Resources/library --no-vignettes --timings RCAS_1.14.0.tar.gz
###
##############################################################################
##############################################################################
* using log directory ‘/Users/biocbuild/bbs-3.11-bioc/meat/RCAS.Rcheck’
* using R version 4.0.3 (2020-10-10)
* using platform: x86_64-apple-darwin17.0 (64-bit)
* using session charset: UTF-8
* using option ‘--no-vignettes’
* checking for file ‘RCAS/DESCRIPTION’ ... OK
* checking extension type ... Package
* this is package ‘RCAS’ version ‘1.14.0’
* checking package namespace information ... OK
* checking package dependencies ... OK
* checking if this is a source package ... OK
* checking if there is a namespace ... OK
* checking for hidden files and directories ... OK
* checking for portable file names ... OK
* checking for sufficient/correct file permissions ... OK
* checking whether package ‘RCAS’ can be installed ... OK
* checking installed package size ... OK
* checking package directory ... OK
* checking ‘build’ directory ... OK
* checking DESCRIPTION meta-information ... OK
* checking top-level files ... OK
* checking for left-over files ... OK
* checking index information ... OK
* checking package subdirectories ... OK
* checking R files for non-ASCII characters ... OK
* checking R files for syntax errors ... OK
* checking whether the package can be loaded ... OK
* checking whether the package can be loaded with stated dependencies ... OK
* checking whether the package can be unloaded cleanly ... OK
* checking whether the namespace can be loaded with stated dependencies ... OK
* checking whether the namespace can be unloaded cleanly ... OK
* checking dependencies in R code ... OK
* checking S3 generic/method consistency ... OK
* checking replacement functions ... OK
* checking foreign function calls ... OK
* checking R code for possible problems ... OK
* checking Rd files ... OK
* checking Rd metadata ... OK
* checking Rd cross-references ... OK
* checking for missing documentation entries ... OK
* checking for code/documentation mismatches ... OK
* checking Rd \usage sections ... OK
* checking Rd contents ... OK
* checking for unstated dependencies in examples ... OK
* checking contents of ‘data’ directory ... OK
* checking data for non-ASCII characters ... OK
* checking data for ASCII and uncompressed saves ... OK
* checking files in ‘vignettes’ ... OK
* checking examples ... OK
Examples with CPU (user + system) or elapsed time > 5s
user system elapsed
runMotifDiscovery 62.627 0.505 55.278
getFeatureBoundaryCoverageMulti 22.987 1.390 24.463
getMotifSummaryTable 22.667 0.472 117.368
calculateCoverageProfileList 19.506 0.632 20.152
calculateCoverageProfile 16.847 0.543 17.410
findDifferentialMotifs 15.831 0.215 17.415
getTargetedGenesTable 13.534 0.333 14.423
summarizeQueryRegions 12.780 0.281 13.362
summarizeQueryRegionsMulti 12.571 0.312 36.511
getTxdbFeaturesFromGRanges 12.099 0.225 12.551
plotFeatureBoundaryCoverage 7.738 0.131 7.874
getFeatureBoundaryCoverageBin 7.284 0.180 7.468
getFeatureBoundaryCoverage 6.760 0.172 6.938
createDB 4.675 0.117 27.389
* checking for unstated dependencies in ‘tests’ ... OK
* checking tests ...
Running ‘testthat.R’
OK
* checking for unstated dependencies in vignettes ... OK
* checking package vignettes in ‘inst/doc’ ... OK
* checking running R code from vignettes ... SKIPPED
* checking re-building of vignette outputs ... SKIPPED
* checking PDF version of manual ... OK
* DONE
Status: OK
RCAS.Rcheck/00install.out
############################################################################## ############################################################################## ### ### Running command: ### ### /Library/Frameworks/R.framework/Versions/Current/Resources/bin/R CMD INSTALL RCAS ### ############################################################################## ############################################################################## * installing to library ‘/Library/Frameworks/R.framework/Versions/4.0/Resources/library’ * installing *source* package ‘RCAS’ ... ** using staged installation ** R ** data *** moving datasets to lazyload DB ** inst ** byte-compile and prepare package for lazy loading ** help *** installing help indices ** building package indices ** installing vignettes ** testing if installed package can be loaded from temporary location ** testing if installed package can be loaded from final location ** testing if installed package keeps a record of temporary installation path * DONE (RCAS)
RCAS.Rcheck/tests/testthat.Rout
R version 4.0.3 (2020-10-10) -- "Bunny-Wunnies Freak Out"
Copyright (C) 2020 The R Foundation for Statistical Computing
Platform: x86_64-apple-darwin17.0 (64-bit)
R is free software and comes with ABSOLUTELY NO WARRANTY.
You are welcome to redistribute it under certain conditions.
Type 'license()' or 'licence()' for distribution details.
R is a collaborative project with many contributors.
Type 'contributors()' for more information and
'citation()' on how to cite R or R packages in publications.
Type 'demo()' for some demos, 'help()' for on-line help, or
'help.start()' for an HTML browser interface to help.
Type 'q()' to quit R.
> library(testthat)
> library(RCAS)
Loading required package: plotly
Loading required package: ggplot2
Attaching package: 'plotly'
The following object is masked from 'package:ggplot2':
last_plot
The following object is masked from 'package:stats':
filter
The following object is masked from 'package:graphics':
layout
Loading required package: DT
Loading required package: data.table
>
> test_check("RCAS")
══ testthat results ═══════════════════════════════════════════════════════════
[ OK: 48 | SKIPPED: 0 | WARNINGS: 11 | FAILED: 0 ]
>
> proc.time()
user system elapsed
59.362 2.294 69.037
RCAS.Rcheck/RCAS-Ex.timings
| name | user | system | elapsed | |
| calculateCoverageProfile | 16.847 | 0.543 | 17.410 | |
| calculateCoverageProfileList | 19.506 | 0.632 | 20.152 | |
| checkSeqDb | 0.589 | 0.025 | 1.015 | |
| createControlRegions | 0.396 | 0.003 | 0.398 | |
| createDB | 4.675 | 0.117 | 27.389 | |
| discoverFeatureSpecificMotifs | 0.000 | 0.001 | 0.001 | |
| extractSequences | 2.196 | 0.137 | 2.336 | |
| findDifferentialMotifs | 15.831 | 0.215 | 17.415 | |
| findEnrichedFunctions | 0.640 | 0.008 | 4.130 | |
| generateKmers | 0.001 | 0.000 | 0.001 | |
| getFeatureBoundaryCoverage | 6.760 | 0.172 | 6.938 | |
| getFeatureBoundaryCoverageBin | 7.284 | 0.180 | 7.468 | |
| getFeatureBoundaryCoverageMulti | 22.987 | 1.390 | 24.463 | |
| getIntervalOverlapMatrix | 1.566 | 0.080 | 2.023 | |
| getMotifSummaryTable | 22.667 | 0.472 | 117.368 | |
| getTargetedGenesTable | 13.534 | 0.333 | 14.423 | |
| getTxdbFeaturesFromGRanges | 12.099 | 0.225 | 12.551 | |
| importBed | 0.372 | 0.020 | 0.393 | |
| importBedFiles | 1.392 | 0.092 | 1.485 | |
| importGtf | 0.000 | 0.001 | 0.001 | |
| plotFeatureBoundaryCoverage | 7.738 | 0.131 | 7.874 | |
| queryGff | 0.960 | 0.008 | 1.120 | |
| runMotifDiscovery | 62.627 | 0.505 | 55.278 | |
| runReport | 0.001 | 0.001 | 0.001 | |
| runReportMetaAnalysis | 1.265 | 0.188 | 1.593 | |
| summarizeQueryRegions | 12.780 | 0.281 | 13.362 | |
| summarizeQueryRegionsMulti | 12.571 | 0.312 | 36.511 | |