| Back to Multiple platform build/check report for BioC 3.11 |
|
This page was generated on 2020-10-17 11:59:18 -0400 (Sat, 17 Oct 2020).
| TO THE DEVELOPERS/MAINTAINERS OF THE Pviz PACKAGE: Please make sure to use the following settings in order to reproduce any error or warning you see on this page. |
| Package 1382/1905 | Hostname | OS / Arch | INSTALL | BUILD | CHECK | BUILD BIN | ||||||
| Pviz 1.22.0 Renan Sauteraud
| malbec2 | Linux (Ubuntu 18.04.4 LTS) / x86_64 | OK | OK | OK | |||||||
| tokay2 | Windows Server 2012 R2 Standard / x64 | OK | OK | OK | OK | |||||||
| machv2 | macOS 10.14.6 Mojave / x86_64 | OK | [ OK ] | OK | OK |
| Package: Pviz |
| Version: 1.22.0 |
| Command: /Library/Frameworks/R.framework/Versions/Current/Resources/bin/R CMD build --keep-empty-dirs --no-resave-data Pviz |
| StartedAt: 2020-10-16 20:39:06 -0400 (Fri, 16 Oct 2020) |
| EndedAt: 2020-10-16 20:43:23 -0400 (Fri, 16 Oct 2020) |
| EllapsedTime: 256.5 seconds |
| RetCode: 0 |
| Status: OK |
| PackageFile: Pviz_1.22.0.tar.gz |
| PackageFileSize: 197.9 KiB |
##############################################################################
##############################################################################
###
### Running command:
###
### /Library/Frameworks/R.framework/Versions/Current/Resources/bin/R CMD build --keep-empty-dirs --no-resave-data Pviz
###
##############################################################################
##############################################################################
* checking for file ‘Pviz/DESCRIPTION’ ... OK
* preparing ‘Pviz’:
* checking DESCRIPTION meta-information ... OK
* installing the package to build vignettes
* creating vignettes ... OK
Warning: ‘inst/doc’ file
‘Pviz.pdf’
ignored as vignettes have been rebuilt.
Run R CMD build with --no-build-vignettes to prevent rebuilding.
* checking for LF line-endings in source and make files and shell scripts
* checking for empty or unneeded directories
* building ‘Pviz_1.22.0.tar.gz’