| Back to Multiple platform build/check report for BioC 3.11 | 
 | 
This page was generated on 2020-10-17 11:57:30 -0400 (Sat, 17 Oct 2020).
| TO THE DEVELOPERS/MAINTAINERS OF THE PureCN PACKAGE: Please make sure to use the following settings in order to reproduce any error or warning you see on this page. | 
| Package 1379/1905 | Hostname | OS / Arch | INSTALL | BUILD | CHECK | BUILD BIN | ||||||
| PureCN 1.18.1 Markus Riester 
 | malbec2 | Linux (Ubuntu 18.04.4 LTS) / x86_64 | OK | OK | OK |  | ||||||
| tokay2 | Windows Server 2012 R2 Standard / x64 | OK | OK | OK | [ OK ] |  | ||||||
| machv2 | macOS 10.14.6 Mojave / x86_64 | OK | OK | OK | OK |  | 
| Package: PureCN | 
| Version: 1.18.1 | 
| Command: rm -rf PureCN.buildbin-libdir && mkdir PureCN.buildbin-libdir && C:\Users\biocbuild\bbs-3.11-bioc\R\bin\R.exe CMD INSTALL --merge-multiarch --build --library=PureCN.buildbin-libdir PureCN_1.18.1.tar.gz | 
| StartedAt: 2020-10-17 11:21:24 -0400 (Sat, 17 Oct 2020) | 
| EndedAt: 2020-10-17 11:23:04 -0400 (Sat, 17 Oct 2020) | 
| EllapsedTime: 100.1 seconds | 
| RetCode: 0 | 
| Status: OK | 
| PackageFile: PureCN_1.18.1.zip | 
| PackageFileSize: 5.715 MiB | 
##############################################################################
##############################################################################
###
### Running command:
###
###   rm -rf PureCN.buildbin-libdir && mkdir PureCN.buildbin-libdir && C:\Users\biocbuild\bbs-3.11-bioc\R\bin\R.exe CMD INSTALL --merge-multiarch --build --library=PureCN.buildbin-libdir PureCN_1.18.1.tar.gz
###
##############################################################################
##############################################################################
install for i386
* installing *source* package 'PureCN' ...
** using staged installation
** R
** data
** inst
** byte-compile and prepare package for lazy loading
** help
*** installing help indices
  converting help for package 'PureCN'
    finding HTML links ... done
    PureCN-defunct                          html  
    PureCN-deprecated                       html  
    annotateTargets                         html  
    bootstrapResults                        html  
    calculateBamCoverageByInterval          html  
    calculateGCContentByInterval            html  
    calculateIntervalWeights                html  
    calculateLogRatio                       html  
    calculateMappingBiasVcf                 html  
    calculatePowerDetectSomatic             html  
    calculateTangentNormal                  html  
    callAlterations                         html  
    callAlterationsFromSegmentation         html  
    callAmplificationsInLowPurity           html  
    callCIN                                 html  
    callLOH                                 html  
    callMutationBurden                      html  
    centromeres                             html  
    correctCoverageBias                     html  
    createCurationFile                      html  
    createNormalDatabase                    html  
    createTargetWeights                     html  
    filterIntervals                         html  
    filterTargets                           html  
    filterVcfBasic                          html  
    filterVcfMuTect                         html  
    filterVcfMuTect2                        html  
    findFocal                               html  
    getSexFromCoverage                      html  
    getSexFromVcf                           html  
    plotAbs                                 html  
    poolCoverage                            html  
    predictSomatic                          html  
    preprocessIntervals                     html  
    processMultipleSamples                  html  
    purecn.DNAcopy.bdry                     html  
    purecn.example.output                   html  
    readCoverageFile                        html  
    readCurationFile                        html  
    readLogRatioFile                        html  
    readSegmentationFile                    html  
    runAbsoluteCN                           html  
    segmentationCBS                         html  
    segmentationHclust                      html  
    segmentationPSCBS                       html  
    setMappingBiasVcf                       html  
    setPriorVcf                             html  
** building package indices
** installing vignettes
** testing if installed package can be loaded from temporary location
** testing if installed package can be loaded from final location
** testing if installed package keeps a record of temporary installation path
install for x64
* installing *source* package 'PureCN' ...
** testing if installed package can be loaded
* MD5 sums
packaged installation of 'PureCN' as PureCN_1.18.1.zip
* DONE (PureCN)