| Back to Multiple platform build/check report for BioC 3.11 |
|
This page was generated on 2020-10-17 11:57:25 -0400 (Sat, 17 Oct 2020).
| TO THE DEVELOPERS/MAINTAINERS OF THE PloGO2 PACKAGE: Please make sure to use the following settings in order to reproduce any error or warning you see on this page. |
| Package 1322/1905 | Hostname | OS / Arch | INSTALL | BUILD | CHECK | BUILD BIN | ||||||
| PloGO2 1.0.0 Jemma Wu
| malbec2 | Linux (Ubuntu 18.04.4 LTS) / x86_64 | OK | OK | OK | |||||||
| tokay2 | Windows Server 2012 R2 Standard / x64 | OK | OK | OK | [ OK ] | |||||||
| machv2 | macOS 10.14.6 Mojave / x86_64 | OK | OK | OK | OK |
| Package: PloGO2 |
| Version: 1.0.0 |
| Command: rm -rf PloGO2.buildbin-libdir && mkdir PloGO2.buildbin-libdir && C:\Users\biocbuild\bbs-3.11-bioc\R\bin\R.exe CMD INSTALL --merge-multiarch --build --library=PloGO2.buildbin-libdir PloGO2_1.0.0.tar.gz |
| StartedAt: 2020-10-17 11:16:58 -0400 (Sat, 17 Oct 2020) |
| EndedAt: 2020-10-17 11:17:30 -0400 (Sat, 17 Oct 2020) |
| EllapsedTime: 31.6 seconds |
| RetCode: 0 |
| Status: OK |
| PackageFile: PloGO2_1.0.0.zip |
| PackageFileSize: 1.555 MiB |
##############################################################################
##############################################################################
###
### Running command:
###
### rm -rf PloGO2.buildbin-libdir && mkdir PloGO2.buildbin-libdir && C:\Users\biocbuild\bbs-3.11-bioc\R\bin\R.exe CMD INSTALL --merge-multiarch --build --library=PloGO2.buildbin-libdir PloGO2_1.0.0.tar.gz
###
##############################################################################
##############################################################################
install for i386
* installing *source* package 'PloGO2' ...
** using staged installation
** R
** inst
** byte-compile and prepare package for lazy loading
** help
*** installing help indices
converting help for package 'PloGO2'
finding HTML links ... done
ExcelToPloGO html
ExcelToPloPathway html
GOTermList html
PloGO html
PloPathway html
abundancePlot html
annotationPlot html
compareAnnot html
genAnnotationFiles html
genWegoFile html
getGoID html
plotAbundanceBar html
printSummary html
processAnnotation html
processGoFile html
processPathFile html
read.annot.file html
writeAnnotation html
** building package indices
** installing vignettes
** testing if installed package can be loaded from temporary location
** testing if installed package can be loaded from final location
** testing if installed package keeps a record of temporary installation path
install for x64
* installing *source* package 'PloGO2' ...
** testing if installed package can be loaded
* MD5 sums
packaged installation of 'PloGO2' as PloGO2_1.0.0.zip
* DONE (PloGO2)