| Back to Multiple platform build/check report for BioC 3.11 |
|
This page was generated on 2020-10-17 11:59:12 -0400 (Sat, 17 Oct 2020).
| TO THE DEVELOPERS/MAINTAINERS OF THE Pi PACKAGE: Please make sure to use the following settings in order to reproduce any error or warning you see on this page. |
| Package 1310/1905 | Hostname | OS / Arch | INSTALL | BUILD | CHECK | BUILD BIN | ||||||
| Pi 2.0.3 Hai Fang
| malbec2 | Linux (Ubuntu 18.04.4 LTS) / x86_64 | OK | OK | OK | |||||||
| tokay2 | Windows Server 2012 R2 Standard / x64 | OK | OK | WARNINGS | OK | |||||||
| machv2 | macOS 10.14.6 Mojave / x86_64 | OK | OK | [ OK ] | OK |
| Package: Pi |
| Version: 2.0.3 |
| Command: /Library/Frameworks/R.framework/Versions/Current/Resources/bin/R CMD check --install=check:Pi.install-out.txt --library=/Library/Frameworks/R.framework/Versions/Current/Resources/library --no-vignettes --timings Pi_2.0.3.tar.gz |
| StartedAt: 2020-10-17 03:56:02 -0400 (Sat, 17 Oct 2020) |
| EndedAt: 2020-10-17 04:06:53 -0400 (Sat, 17 Oct 2020) |
| EllapsedTime: 650.9 seconds |
| RetCode: 0 |
| Status: OK |
| CheckDir: Pi.Rcheck |
| Warnings: 0 |
############################################################################## ############################################################################## ### ### Running command: ### ### /Library/Frameworks/R.framework/Versions/Current/Resources/bin/R CMD check --install=check:Pi.install-out.txt --library=/Library/Frameworks/R.framework/Versions/Current/Resources/library --no-vignettes --timings Pi_2.0.3.tar.gz ### ############################################################################## ############################################################################## * using log directory ‘/Users/biocbuild/bbs-3.11-bioc/meat/Pi.Rcheck’ * using R version 4.0.3 (2020-10-10) * using platform: x86_64-apple-darwin17.0 (64-bit) * using session charset: UTF-8 * using option ‘--no-vignettes’ * checking for file ‘Pi/DESCRIPTION’ ... OK * checking extension type ... Package * this is package ‘Pi’ version ‘2.0.3’ * checking package namespace information ... OK * checking package dependencies ... OK * checking if this is a source package ... OK * checking if there is a namespace ... OK * checking for hidden files and directories ... OK * checking for portable file names ... OK * checking for sufficient/correct file permissions ... OK * checking whether package ‘Pi’ can be installed ... OK * checking installed package size ... OK * checking package directory ... OK * checking ‘build’ directory ... OK * checking DESCRIPTION meta-information ... OK * checking top-level files ... OK * checking for left-over files ... OK * checking index information ... OK * checking package subdirectories ... OK * checking R files for non-ASCII characters ... OK * checking R files for syntax errors ... OK * checking whether the package can be loaded ... OK * checking whether the package can be loaded with stated dependencies ... OK * checking whether the package can be unloaded cleanly ... OK * checking whether the namespace can be loaded with stated dependencies ... OK * checking whether the namespace can be unloaded cleanly ... OK * checking dependencies in R code ... OK * checking S3 generic/method consistency ... OK * checking replacement functions ... OK * checking foreign function calls ... OK * checking R code for possible problems ... OK * checking Rd files ... OK * checking Rd metadata ... OK * checking Rd cross-references ... OK * checking for missing documentation entries ... OK * checking for code/documentation mismatches ... OK * checking Rd \usage sections ... OK * checking Rd contents ... OK * checking for unstated dependencies in examples ... OK * checking files in ‘vignettes’ ... OK * checking examples ... OK * checking for unstated dependencies in vignettes ... OK * checking package vignettes in ‘inst/doc’ ... OK * checking running R code from vignettes ... SKIPPED * checking re-building of vignette outputs ... SKIPPED * checking PDF version of manual ... OK * DONE Status: OK
Pi.Rcheck/00install.out
############################################################################## ############################################################################## ### ### Running command: ### ### /Library/Frameworks/R.framework/Versions/Current/Resources/bin/R CMD INSTALL Pi ### ############################################################################## ############################################################################## * installing to library ‘/Library/Frameworks/R.framework/Versions/4.0/Resources/library’ * installing *source* package ‘Pi’ ... ** using staged installation ** R ** inst ** byte-compile and prepare package for lazy loading Warning: replacing previous import 'ROCR::plot' by 'graphics::plot' when loading 'Pi' ** help *** installing help indices ** building package indices ** installing vignettes ** testing if installed package can be loaded from temporary location Warning: replacing previous import 'ROCR::plot' by 'graphics::plot' when loading 'Pi' ** testing if installed package can be loaded from final location Warning: replacing previous import 'ROCR::plot' by 'graphics::plot' when loading 'Pi' ** testing if installed package keeps a record of temporary installation path * DONE (Pi)
Pi.Rcheck/Pi-Ex.timings
| name | user | system | elapsed | |
| EG | 0.000 | 0.001 | 0.001 | |
| GS | 0.000 | 0.001 | 0.001 | |
| aOnto | 0.001 | 0.001 | 0.000 | |
| cTarget | 0.000 | 0.001 | 0.001 | |
| dTarget | 0 | 0 | 0 | |
| eGSEA | 0 | 0 | 0 | |
| eTarget | 0.000 | 0.000 | 0.001 | |
| eTerm | 0 | 0 | 0 | |
| iSubg | 0 | 0 | 0 | |
| ls_eTerm | 0 | 0 | 0 | |
| pNode | 0.000 | 0.001 | 0.000 | |
| pPerf | 0.001 | 0.001 | 0.000 | |
| sGS | 0 | 0 | 0 | |
| sTarget | 0 | 0 | 0 | |
| xAggregate | 0 | 0 | 0 | |
| xCheckParallel | 0.000 | 0.001 | 0.000 | |
| xCircos | 0.001 | 0.001 | 0.001 | |
| xColormap | 0.016 | 0.003 | 0.019 | |
| xCombineNet | 0.001 | 0.000 | 0.001 | |
| xContour | 0.049 | 0.011 | 0.059 | |
| xCorrelation | 0.000 | 0.000 | 0.001 | |
| xDAGanno | 0.000 | 0.001 | 0.002 | |
| xDefineEQTL | 0.001 | 0.001 | 0.001 | |
| xDefineHIC | 0.000 | 0.001 | 0.001 | |
| xDefineNet | 0.001 | 0.001 | 0.001 | |
| xDefineOntology | 0.000 | 0.000 | 0.001 | |
| xEnrichForest | 0.001 | 0.000 | 0.001 | |
| xEnrichViewer | 0 | 0 | 0 | |
| xEnricher | 0.001 | 0.001 | 0.001 | |
| xEnricherGenes | 0.001 | 0.001 | 0.002 | |
| xGGnetwork | 0.001 | 0.002 | 0.003 | |
| xGR | 0.000 | 0.001 | 0.001 | |
| xGR2nGenes | 0.001 | 0.000 | 0.001 | |
| xGR2xGeneScores | 0.000 | 0.000 | 0.001 | |
| xGR2xGenes | 0.000 | 0.001 | 0.001 | |
| xGRscores | 0.000 | 0.001 | 0.001 | |
| xGRsort | 0.001 | 0.001 | 0.001 | |
| xGSEAbarplot | 0.000 | 0.000 | 0.001 | |
| xGSEAconciser | 0 | 0 | 0 | |
| xGSEAdotplot | 0.001 | 0.000 | 0.000 | |
| xGSsimulator | 0 | 0 | 0 | |
| xGeneID2Symbol | 0.000 | 0.001 | 0.000 | |
| xHeatmap | 0.000 | 0.001 | 0.001 | |
| xLiftOver | 0.000 | 0.001 | 0.001 | |
| xMEabf | 0.000 | 0.000 | 0.001 | |
| xMLcaret | 0.000 | 0.000 | 0.001 | |
| xMLcompare | 0.000 | 0.000 | 0.001 | |
| xMLdensity | 0.001 | 0.001 | 0.001 | |
| xMLdotplot | 0.000 | 0.000 | 0.001 | |
| xMLfeatureplot | 0.000 | 0.000 | 0.001 | |
| xMLglmnet | 0 | 0 | 0 | |
| xMLparameters | 0 | 0 | 0 | |
| xMLrandomforest | 0.001 | 0.000 | 0.000 | |
| xMLrename | 0.000 | 0.001 | 0.001 | |
| xMLzoom | 0.001 | 0.001 | 0.001 | |
| xPieplot | 0.000 | 0.000 | 0.001 | |
| xPier | 0.001 | 0.000 | 0.001 | |
| xPierABF | 0.000 | 0.000 | 0.001 | |
| xPierABFheatmap | 0.000 | 0.000 | 0.001 | |
| xPierAnno | 0.000 | 0.001 | 0.001 | |
| xPierCor | 0.000 | 0.001 | 0.000 | |
| xPierCross | 0.001 | 0.000 | 0.000 | |
| xPierEvidence | 0.000 | 0.000 | 0.001 | |
| xPierGRs | 0.001 | 0.001 | 0.001 | |
| xPierGSEA | 0.000 | 0.000 | 0.001 | |
| xPierGenes | 0.000 | 0.000 | 0.001 | |
| xPierMRS | 0.001 | 0.000 | 0.000 | |
| xPierManhattan | 0.000 | 0.001 | 0.002 | |
| xPierMatrix | 0.001 | 0.001 | 0.001 | |
| xPierPathways | 0.000 | 0.001 | 0.001 | |
| xPierROCR | 0.001 | 0.000 | 0.000 | |
| xPierSNPs | 0.000 | 0.000 | 0.001 | |
| xPierSNPsAdv | 0.001 | 0.000 | 0.000 | |
| xPierSNPsAdvABF | 0.000 | 0.000 | 0.001 | |
| xPierSubnet | 0.001 | 0.001 | 0.002 | |
| xPierTrack | 0.000 | 0.001 | 0.001 | |
| xPierTrackAdv | 0.001 | 0.001 | 0.001 | |
| xPredictCompare | 0.000 | 0.001 | 0.000 | |
| xPredictROCR | 0.000 | 0.000 | 0.001 | |
| xRDataLoader | 0.000 | 0.000 | 0.001 | |
| xRWR | 0.002 | 0.001 | 0.003 | |
| xSM2DF | 0.026 | 0.004 | 0.030 | |
| xSNP2cGenes | 0.001 | 0.001 | 0.000 | |
| xSNP2eGenes | 0 | 0 | 0 | |
| xSNP2nGenes | 0.000 | 0.000 | 0.001 | |
| xSNPlocations | 0.000 | 0.000 | 0.001 | |
| xSNPscores | 0 | 0 | 0 | |
| xSparseMatrix | 0.033 | 0.007 | 0.039 | |
| xSubneterGenes | 0.001 | 0.001 | 0.002 | |
| xSymbol2GeneID | 0.000 | 0.000 | 0.001 | |
| xVisEvidence | 0.001 | 0.000 | 0.000 | |
| xVisEvidenceAdv | 0 | 0 | 0 | |
| xVisKernels | 0.021 | 0.015 | 0.036 | |
| xVisNet | 0.001 | 0.001 | 0.001 | |