| Back to Multiple platform build/check report for BioC 3.11 |
|
This page was generated on 2020-10-17 11:59:09 -0400 (Sat, 17 Oct 2020).
| TO THE DEVELOPERS/MAINTAINERS OF THE PathoStat PACKAGE: Please make sure to use the following settings in order to reproduce any error or warning you see on this page. |
| Package 1272/1905 | Hostname | OS / Arch | INSTALL | BUILD | CHECK | BUILD BIN | ||||||
| PathoStat 1.14.0 Solaiappan Manimaran
| malbec2 | Linux (Ubuntu 18.04.4 LTS) / x86_64 | OK | OK | OK | |||||||
| tokay2 | Windows Server 2012 R2 Standard / x64 | OK | OK | OK | OK | |||||||
| machv2 | macOS 10.14.6 Mojave / x86_64 | OK | OK | [ OK ] | OK |
| Package: PathoStat |
| Version: 1.14.0 |
| Command: /Library/Frameworks/R.framework/Versions/Current/Resources/bin/R CMD check --install=check:PathoStat.install-out.txt --library=/Library/Frameworks/R.framework/Versions/Current/Resources/library --no-vignettes --timings PathoStat_1.14.0.tar.gz |
| StartedAt: 2020-10-17 03:47:14 -0400 (Sat, 17 Oct 2020) |
| EndedAt: 2020-10-17 03:54:22 -0400 (Sat, 17 Oct 2020) |
| EllapsedTime: 428.0 seconds |
| RetCode: 0 |
| Status: OK |
| CheckDir: PathoStat.Rcheck |
| Warnings: 0 |
##############################################################################
##############################################################################
###
### Running command:
###
### /Library/Frameworks/R.framework/Versions/Current/Resources/bin/R CMD check --install=check:PathoStat.install-out.txt --library=/Library/Frameworks/R.framework/Versions/Current/Resources/library --no-vignettes --timings PathoStat_1.14.0.tar.gz
###
##############################################################################
##############################################################################
* using log directory ‘/Users/biocbuild/bbs-3.11-bioc/meat/PathoStat.Rcheck’
* using R version 4.0.3 (2020-10-10)
* using platform: x86_64-apple-darwin17.0 (64-bit)
* using session charset: UTF-8
* using option ‘--no-vignettes’
* checking for file ‘PathoStat/DESCRIPTION’ ... OK
* checking extension type ... Package
* this is package ‘PathoStat’ version ‘1.14.0’
* package encoding: UTF-8
* checking package namespace information ... OK
* checking package dependencies ... OK
* checking if this is a source package ... OK
* checking if there is a namespace ... OK
* checking for hidden files and directories ... OK
* checking for portable file names ... OK
* checking for sufficient/correct file permissions ... OK
* checking whether package ‘PathoStat’ can be installed ... OK
* checking installed package size ... OK
* checking package directory ... OK
* checking ‘build’ directory ... OK
* checking DESCRIPTION meta-information ... OK
* checking top-level files ... OK
* checking for left-over files ... OK
* checking index information ... OK
* checking package subdirectories ... OK
* checking R files for non-ASCII characters ... OK
* checking R files for syntax errors ... OK
* checking whether the package can be loaded ... OK
* checking whether the package can be loaded with stated dependencies ... OK
* checking whether the package can be unloaded cleanly ... OK
* checking whether the namespace can be loaded with stated dependencies ... OK
* checking whether the namespace can be unloaded cleanly ... OK
* checking dependencies in R code ... NOTE
Namespaces in Imports field not imported from:
‘ComplexHeatmap’ ‘RColorBrewer’
All declared Imports should be used.
* checking S3 generic/method consistency ... OK
* checking replacement functions ... OK
* checking foreign function calls ... OK
* checking R code for possible problems ... OK
* checking Rd files ... OK
* checking Rd metadata ... OK
* checking Rd cross-references ... OK
* checking for missing documentation entries ... OK
* checking for code/documentation mismatches ... OK
* checking Rd \usage sections ... OK
* checking Rd contents ... OK
* checking for unstated dependencies in examples ... OK
* checking contents of ‘data’ directory ... OK
* checking data for non-ASCII characters ... OK
* checking data for ASCII and uncompressed saves ... OK
* checking files in ‘vignettes’ ... OK
* checking examples ... OK
Examples with CPU (user + system) or elapsed time > 5s
user system elapsed
Bootstrap_LOOCV_LR_AUC 21.347 0.212 21.577
getSignatureFromMultipleGlmnet 16.834 0.124 16.983
* checking for unstated dependencies in ‘tests’ ... OK
* checking tests ...
Running ‘testthat.R’
OK
* checking for unstated dependencies in vignettes ... OK
* checking package vignettes in ‘inst/doc’ ... OK
* checking running R code from vignettes ... SKIPPED
* checking re-building of vignette outputs ... SKIPPED
* checking PDF version of manual ... OK
* DONE
Status: 1 NOTE
See
‘/Users/biocbuild/bbs-3.11-bioc/meat/PathoStat.Rcheck/00check.log’
for details.
PathoStat.Rcheck/00install.out
############################################################################## ############################################################################## ### ### Running command: ### ### /Library/Frameworks/R.framework/Versions/Current/Resources/bin/R CMD INSTALL PathoStat ### ############################################################################## ############################################################################## * installing to library ‘/Library/Frameworks/R.framework/Versions/4.0/Resources/library’ * installing *source* package ‘PathoStat’ ... ** using staged installation ** R ** data ** inst ** byte-compile and prepare package for lazy loading ** help *** installing help indices ** building package indices ** installing vignettes ** testing if installed package can be loaded from temporary location ** testing if installed package can be loaded from final location ** testing if installed package keeps a record of temporary installation path * DONE (PathoStat)
PathoStat.Rcheck/tests/testthat.Rout
R version 4.0.3 (2020-10-10) -- "Bunny-Wunnies Freak Out"
Copyright (C) 2020 The R Foundation for Statistical Computing
Platform: x86_64-apple-darwin17.0 (64-bit)
R is free software and comes with ABSOLUTELY NO WARRANTY.
You are welcome to redistribute it under certain conditions.
Type 'license()' or 'licence()' for distribution details.
R is a collaborative project with many contributors.
Type 'contributors()' for more information and
'citation()' on how to cite R or R packages in publications.
Type 'demo()' for some demos, 'help()' for on-line help, or
'help.start()' for an HTML browser interface to help.
Type 'q()' to quit R.
> library(testthat)
> library(PathoStat)
>
> test_check("PathoStat")
══ testthat results ═══════════════════════════════════════════════════════════
[ OK: 1 | SKIPPED: 0 | WARNINGS: 0 | FAILED: 0 ]
>
> proc.time()
user system elapsed
17.588 0.741 18.319
PathoStat.Rcheck/PathoStat-Ex.timings
| name | user | system | elapsed | |
| Bootstrap_LOOCV_LR_AUC | 21.347 | 0.212 | 21.577 | |
| Chisq_Test_Pam | 0.005 | 0.000 | 0.006 | |
| Fisher_Test_Pam | 0.008 | 0.001 | 0.008 | |
| GET_PAM | 0.004 | 0.000 | 0.004 | |
| LOOAUC_simple_multiple_noplot_one_df | 4.398 | 0.011 | 4.414 | |
| LOOAUC_simple_multiple_one_df | 4.599 | 0.013 | 4.614 | |
| PathoStat-class | 0.114 | 0.001 | 0.115 | |
| TranslateIdToTaxLevel | 0.003 | 0.001 | 0.004 | |
| Wilcox_Test_df | 0.018 | 0.002 | 0.020 | |
| findRAfromCount | 0.280 | 0.002 | 0.282 | |
| findTaxonMat | 0.162 | 0.005 | 0.168 | |
| findTaxonomy | 0.165 | 0.004 | 0.168 | |
| findTaxonomy300 | 0.154 | 0.004 | 0.158 | |
| getShinyInput | 0.001 | 0.000 | 0.000 | |
| getShinyInputCombat | 0.001 | 0.000 | 0.000 | |
| getShinyInputOrig | 0.001 | 0.001 | 0.001 | |
| getSignatureFromMultipleGlmnet | 16.834 | 0.124 | 16.983 | |
| grepTid | 0.000 | 0.000 | 0.001 | |
| loadPathoscopeReports | 0.001 | 0.000 | 0.002 | |
| loadPstat | 0.002 | 0.000 | 0.003 | |
| log2CPM | 0.001 | 0.000 | 0.002 | |
| percent | 0.001 | 0.000 | 0.001 | |
| phyloseq_to_edgeR | 0.085 | 0.011 | 0.095 | |
| plotPCAPlotly | 0.322 | 0.061 | 0.386 | |
| plotPCoAPlotly | 0.227 | 0.046 | 0.274 | |
| readPathoscopeData | 0.055 | 0.003 | 0.058 | |
| runPathoStat | 0.095 | 0.002 | 0.097 | |
| savePstat | 0.006 | 0.001 | 0.006 | |
| setShinyInput | 0 | 0 | 0 | |
| setShinyInputCombat | 0.001 | 0.000 | 0.001 | |
| setShinyInputOrig | 0.000 | 0.001 | 0.001 | |
| summarizeTable | 0.003 | 0.001 | 0.004 | |