| Back to Multiple platform build/check report for BioC 3.11 |
|
This page was generated on 2020-10-17 11:57:28 -0400 (Sat, 17 Oct 2020).
| TO THE DEVELOPERS/MAINTAINERS OF THE PROcess PACKAGE: Please make sure to use the following settings in order to reproduce any error or warning you see on this page. |
| Package 1353/1905 | Hostname | OS / Arch | INSTALL | BUILD | CHECK | BUILD BIN | ||||||
| PROcess 1.64.0 Xiaochun Li
| malbec2 | Linux (Ubuntu 18.04.4 LTS) / x86_64 | OK | OK | OK | |||||||
| tokay2 | Windows Server 2012 R2 Standard / x64 | OK | OK | OK | [ OK ] | |||||||
| machv2 | macOS 10.14.6 Mojave / x86_64 | OK | OK | OK | OK |
| Package: PROcess |
| Version: 1.64.0 |
| Command: rm -rf PROcess.buildbin-libdir && mkdir PROcess.buildbin-libdir && C:\Users\biocbuild\bbs-3.11-bioc\R\bin\R.exe CMD INSTALL --merge-multiarch --build --library=PROcess.buildbin-libdir PROcess_1.64.0.tar.gz |
| StartedAt: 2020-10-17 11:19:04 -0400 (Sat, 17 Oct 2020) |
| EndedAt: 2020-10-17 11:20:05 -0400 (Sat, 17 Oct 2020) |
| EllapsedTime: 60.7 seconds |
| RetCode: 0 |
| Status: OK |
| PackageFile: PROcess_1.64.0.zip |
| PackageFileSize: 1.888 MiB |
##############################################################################
##############################################################################
###
### Running command:
###
### rm -rf PROcess.buildbin-libdir && mkdir PROcess.buildbin-libdir && C:\Users\biocbuild\bbs-3.11-bioc\R\bin\R.exe CMD INSTALL --merge-multiarch --build --library=PROcess.buildbin-libdir PROcess_1.64.0.tar.gz
###
##############################################################################
##############################################################################
install for i386
* installing *source* package 'PROcess' ...
** using staged installation
** R
** inst
** byte-compile and prepare package for lazy loading
** help
*** installing help indices
converting help for package 'PROcess'
finding HTML links ... done
align html
aveSpec html
avesd html
binning html
bslnoff html
gelmap html
getMzs html
getPeaks html
getPeaks2 html
intg html
is.multiple html
isPeak html
lnn html
peaks html
pk2bmkr html
quality html
read.files html
renorm html
rmBaseline html
specZoom html
** building package indices
** installing vignettes
** testing if installed package can be loaded from temporary location
** testing if installed package can be loaded from final location
** testing if installed package keeps a record of temporary installation path
install for x64
* installing *source* package 'PROcess' ...
** testing if installed package can be loaded
* MD5 sums
packaged installation of 'PROcess' as PROcess_1.64.0.zip
* DONE (PROcess)