| Back to Multiple platform build/check report for BioC 3.11 | 
 | 
This page was generated on 2020-10-17 11:57:29 -0400 (Sat, 17 Oct 2020).
| TO THE DEVELOPERS/MAINTAINERS OF THE PROPS PACKAGE: Please make sure to use the following settings in order to reproduce any error or warning you see on this page. | 
| Package 1365/1905 | Hostname | OS / Arch | INSTALL | BUILD | CHECK | BUILD BIN | ||||||
| PROPS 1.10.0 Lichy Han 
 | malbec2 | Linux (Ubuntu 18.04.4 LTS) / x86_64 | OK | OK | OK |  | ||||||
| tokay2 | Windows Server 2012 R2 Standard / x64 | OK | OK | OK | [ OK ] |  | ||||||
| machv2 | macOS 10.14.6 Mojave / x86_64 | OK | OK | OK | OK |  | 
| Package: PROPS | 
| Version: 1.10.0 | 
| Command: rm -rf PROPS.buildbin-libdir && mkdir PROPS.buildbin-libdir && C:\Users\biocbuild\bbs-3.11-bioc\R\bin\R.exe CMD INSTALL --merge-multiarch --build --library=PROPS.buildbin-libdir PROPS_1.10.0.tar.gz | 
| StartedAt: 2020-10-17 11:20:40 -0400 (Sat, 17 Oct 2020) | 
| EndedAt: 2020-10-17 11:21:24 -0400 (Sat, 17 Oct 2020) | 
| EllapsedTime: 44.2 seconds | 
| RetCode: 0 | 
| Status: OK | 
| PackageFile: PROPS_1.10.0.zip | 
| PackageFileSize: 3.613 MiB | 
##############################################################################
##############################################################################
###
### Running command:
###
###   rm -rf PROPS.buildbin-libdir && mkdir PROPS.buildbin-libdir && C:\Users\biocbuild\bbs-3.11-bioc\R\bin\R.exe CMD INSTALL --merge-multiarch --build --library=PROPS.buildbin-libdir PROPS_1.10.0.tar.gz
###
##############################################################################
##############################################################################
install for i386
* installing *source* package 'PROPS' ...
** using staged installation
** R
** data
** inst
** byte-compile and prepare package for lazy loading
** help
*** installing help indices
  converting help for package 'PROPS'
    finding HTML links ... done
    PROPS-package                           html  
    example_data                            html  
    example_edges                           html  
    example_healthy                         html  
    kegg_pathway_edges                      html  
    props                                   html  
** building package indices
** installing vignettes
** testing if installed package can be loaded from temporary location
** testing if installed package can be loaded from final location
** testing if installed package keeps a record of temporary installation path
install for x64
* installing *source* package 'PROPS' ...
** testing if installed package can be loaded
* MD5 sums
packaged installation of 'PROPS' as PROPS_1.10.0.zip
* DONE (PROPS)