| Back to Multiple platform build/check report for BioC 3.11 |
|
This page was generated on 2020-10-17 11:57:26 -0400 (Sat, 17 Oct 2020).
| TO THE DEVELOPERS/MAINTAINERS OF THE POST PACKAGE: Please make sure to use the following settings in order to reproduce any error or warning you see on this page. |
| Package 1334/1905 | Hostname | OS / Arch | INSTALL | BUILD | CHECK | BUILD BIN | ||||||
| POST 1.12.0 Xueyuan Cao
| malbec2 | Linux (Ubuntu 18.04.4 LTS) / x86_64 | OK | OK | WARNINGS | |||||||
| tokay2 | Windows Server 2012 R2 Standard / x64 | OK | OK | WARNINGS | [ OK ] | |||||||
| machv2 | macOS 10.14.6 Mojave / x86_64 | OK | OK | WARNINGS | OK |
| Package: POST |
| Version: 1.12.0 |
| Command: rm -rf POST.buildbin-libdir && mkdir POST.buildbin-libdir && C:\Users\biocbuild\bbs-3.11-bioc\R\bin\R.exe CMD INSTALL --merge-multiarch --build --library=POST.buildbin-libdir POST_1.12.0.tar.gz |
| StartedAt: 2020-10-17 11:17:45 -0400 (Sat, 17 Oct 2020) |
| EndedAt: 2020-10-17 11:18:30 -0400 (Sat, 17 Oct 2020) |
| EllapsedTime: 44.7 seconds |
| RetCode: 0 |
| Status: OK |
| PackageFile: POST_1.12.0.zip |
| PackageFileSize: 174.2 KiB |
##############################################################################
##############################################################################
###
### Running command:
###
### rm -rf POST.buildbin-libdir && mkdir POST.buildbin-libdir && C:\Users\biocbuild\bbs-3.11-bioc\R\bin\R.exe CMD INSTALL --merge-multiarch --build --library=POST.buildbin-libdir POST_1.12.0.tar.gz
###
##############################################################################
##############################################################################
install for i386
* installing *source* package 'POST' ...
** using staged installation
** R
** data
** inst
** byte-compile and prepare package for lazy loading
Note: break used in wrong context: no loop is visible
Note: break used in wrong context: no loop is visible
** help
*** installing help indices
converting help for package 'POST'
finding HTML links ... done
POST-package html
POSTcoxph html
POSTglm html
sampExprSet html
sampGeneSet html
** building package indices
** installing vignettes
** testing if installed package can be loaded from temporary location
** testing if installed package can be loaded from final location
** testing if installed package keeps a record of temporary installation path
install for x64
* installing *source* package 'POST' ...
** testing if installed package can be loaded
* MD5 sums
packaged installation of 'POST' as POST_1.12.0.zip
* DONE (POST)