| Back to Multiple platform build/check report for BioC 3.11 | 
 | 
This page was generated on 2020-10-17 11:57:23 -0400 (Sat, 17 Oct 2020).
| TO THE DEVELOPERS/MAINTAINERS OF THE PGSEA PACKAGE: Please make sure to use the following settings in order to reproduce any error or warning you see on this page. | 
| Package 1299/1905 | Hostname | OS / Arch | INSTALL | BUILD | CHECK | BUILD BIN | ||||||
| PGSEA 1.62.0 Karl Dykema 
 | malbec2 | Linux (Ubuntu 18.04.4 LTS) / x86_64 | OK | OK | ERROR | |||||||
| tokay2 | Windows Server 2012 R2 Standard / x64 | OK | [ OK ] | ERROR | OK | |||||||
| machv2 | macOS 10.14.6 Mojave / x86_64 | OK | OK | ERROR | OK | 
| Package: PGSEA | 
| Version: 1.62.0 | 
| Command: chmod a+r PGSEA -R && C:\Users\biocbuild\bbs-3.11-bioc\R\bin\R.exe CMD build --keep-empty-dirs --no-resave-data PGSEA | 
| StartedAt: 2020-10-16 23:39:15 -0400 (Fri, 16 Oct 2020) | 
| EndedAt: 2020-10-16 23:49:32 -0400 (Fri, 16 Oct 2020) | 
| EllapsedTime: 617.1 seconds | 
| RetCode: 0 | 
| Status: OK | 
| PackageFile: PGSEA_1.62.0.tar.gz | 
| PackageFileSize: 1.157 MiB | 
############################################################################## ############################################################################## ### ### Running command: ### ### chmod a+r PGSEA -R && C:\Users\biocbuild\bbs-3.11-bioc\R\bin\R.exe CMD build --keep-empty-dirs --no-resave-data PGSEA ### ############################################################################## ############################################################################## * checking for file 'PGSEA/DESCRIPTION' ... OK * preparing 'PGSEA': * checking DESCRIPTION meta-information ... OK * installing the package to build vignettes * creating vignettes ... OK * checking for LF line-endings in source and make files and shell scripts * checking for empty or unneeded directories * looking to see if a 'data/datalist' file should be added * building 'PGSEA_1.62.0.tar.gz'