| Back to Multiple platform build/check report for BioC 3.11 | 
 | 
This page was generated on 2020-10-17 11:57:23 -0400 (Sat, 17 Oct 2020).
| TO THE DEVELOPERS/MAINTAINERS OF THE PGA PACKAGE: Please make sure to use the following settings in order to reproduce any error or warning you see on this page. | 
| Package 1297/1905 | Hostname | OS / Arch | INSTALL | BUILD | CHECK | BUILD BIN | ||||||
| PGA 1.18.1 Bo Wen 
 | malbec2 | Linux (Ubuntu 18.04.4 LTS) / x86_64 | OK | OK | OK | |||||||
| tokay2 | Windows Server 2012 R2 Standard / x64 | OK | OK | OK | [ OK ] | |||||||
| machv2 | macOS 10.14.6 Mojave / x86_64 | OK | OK | OK | OK | 
| Package: PGA | 
| Version: 1.18.1 | 
| Command: rm -rf PGA.buildbin-libdir && mkdir PGA.buildbin-libdir && C:\Users\biocbuild\bbs-3.11-bioc\R\bin\R.exe CMD INSTALL --merge-multiarch --build --library=PGA.buildbin-libdir PGA_1.18.1.tar.gz | 
| StartedAt: 2020-10-17 11:15:25 -0400 (Sat, 17 Oct 2020) | 
| EndedAt: 2020-10-17 11:16:50 -0400 (Sat, 17 Oct 2020) | 
| EllapsedTime: 84.7 seconds | 
| RetCode: 0 | 
| Status: OK | 
| PackageFile: PGA_1.18.1.zip | 
| PackageFileSize: 4.114 MiB | 
##############################################################################
##############################################################################
###
### Running command:
###
###   rm -rf PGA.buildbin-libdir && mkdir PGA.buildbin-libdir && C:\Users\biocbuild\bbs-3.11-bioc\R\bin\R.exe CMD INSTALL --merge-multiarch --build --library=PGA.buildbin-libdir PGA_1.18.1.tar.gz
###
##############################################################################
##############################################################################
install for i386
* installing *source* package 'PGA' ...
** using staged installation
** R
** inst
** byte-compile and prepare package for lazy loading
** help
*** installing help indices
  converting help for package 'PGA'
    finding HTML links ... done
    PrepareAnnotationEnsembl2               html  
    finding level-2 HTML links ... done
    PrepareAnnotationRefseq2                html  
    addGeneName4Ensembl                     html  
    buildFusionProteinDB                    html  
    createProDB4DenovoRNASeq                html  
    dbCreator                               html  
    easyRun                                 html  
    parserGear                              html  
    reportGear                              html  
    runTandem                               html  
** building package indices
** installing vignettes
** testing if installed package can be loaded from temporary location
** testing if installed package can be loaded from final location
** testing if installed package keeps a record of temporary installation path
install for x64
* installing *source* package 'PGA' ...
** testing if installed package can be loaded
* MD5 sums
packaged installation of 'PGA' as PGA_1.18.1.zip
* DONE (PGA)