| Back to Multiple platform build/check report for BioC 3.11 |
|
This page was generated on 2020-10-17 11:59:10 -0400 (Sat, 17 Oct 2020).
| TO THE DEVELOPERS/MAINTAINERS OF THE PCpheno PACKAGE: Please make sure to use the following settings in order to reproduce any error or warning you see on this page. |
| Package 1286/1905 | Hostname | OS / Arch | INSTALL | BUILD | CHECK | BUILD BIN | ||||||
| PCpheno 1.50.0 Nolwenn Le Meur
| malbec2 | Linux (Ubuntu 18.04.4 LTS) / x86_64 | OK | OK | OK | |||||||
| tokay2 | Windows Server 2012 R2 Standard / x64 | OK | OK | OK | OK | |||||||
| machv2 | macOS 10.14.6 Mojave / x86_64 | OK | OK | [ OK ] | OK |
| Package: PCpheno |
| Version: 1.50.0 |
| Command: /Library/Frameworks/R.framework/Versions/Current/Resources/bin/R CMD check --install=check:PCpheno.install-out.txt --library=/Library/Frameworks/R.framework/Versions/Current/Resources/library --no-vignettes --timings PCpheno_1.50.0.tar.gz |
| StartedAt: 2020-10-17 03:49:37 -0400 (Sat, 17 Oct 2020) |
| EndedAt: 2020-10-17 03:53:20 -0400 (Sat, 17 Oct 2020) |
| EllapsedTime: 223.5 seconds |
| RetCode: 0 |
| Status: OK |
| CheckDir: PCpheno.Rcheck |
| Warnings: 0 |
##############################################################################
##############################################################################
###
### Running command:
###
### /Library/Frameworks/R.framework/Versions/Current/Resources/bin/R CMD check --install=check:PCpheno.install-out.txt --library=/Library/Frameworks/R.framework/Versions/Current/Resources/library --no-vignettes --timings PCpheno_1.50.0.tar.gz
###
##############################################################################
##############################################################################
* using log directory ‘/Users/biocbuild/bbs-3.11-bioc/meat/PCpheno.Rcheck’
* using R version 4.0.3 (2020-10-10)
* using platform: x86_64-apple-darwin17.0 (64-bit)
* using session charset: UTF-8
* using option ‘--no-vignettes’
* checking for file ‘PCpheno/DESCRIPTION’ ... OK
* checking extension type ... Package
* this is package ‘PCpheno’ version ‘1.50.0’
* checking package namespace information ... OK
* checking package dependencies ... NOTE
Depends: includes the non-default packages:
'Category', 'ScISI', 'SLGI', 'ppiStats', 'ppiData', 'annotate'
Adding so many packages to the search path is excessive and importing
selectively is preferable.
* checking if this is a source package ... OK
* checking if there is a namespace ... OK
* checking for hidden files and directories ... OK
* checking for portable file names ... OK
* checking for sufficient/correct file permissions ... OK
* checking whether package ‘PCpheno’ can be installed ... OK
* checking installed package size ... OK
* checking package directory ... OK
* checking ‘build’ directory ... OK
* checking DESCRIPTION meta-information ... NOTE
Packages listed in more than one of Depends, Imports, Suggests, Enhances:
‘Category’ ‘ScISI’ ‘KEGG.db’ ‘GO.db’
A package should be listed in only one of these fields.
* checking top-level files ... OK
* checking for left-over files ... OK
* checking index information ... OK
* checking package subdirectories ... OK
* checking R files for non-ASCII characters ... OK
* checking R files for syntax errors ... OK
* checking whether the package can be loaded ... OK
* checking whether the package can be loaded with stated dependencies ... OK
* checking whether the package can be unloaded cleanly ... OK
* checking whether the namespace can be loaded with stated dependencies ... OK
* checking whether the namespace can be unloaded cleanly ... OK
* checking dependencies in R code ... NOTE
'library' or 'require' calls in package code:
‘GO.db’ ‘KEGG.db’
Please use :: or requireNamespace() instead.
See section 'Suggested packages' in the 'Writing R Extensions' manual.
Packages in Depends field not imported from:
‘SLGI’ ‘annotate’ ‘ppiData’ ‘ppiStats’
These packages need to be imported from (in the NAMESPACE file)
for when this namespace is loaded but not attached.
* checking S3 generic/method consistency ... OK
* checking replacement functions ... OK
* checking foreign function calls ... OK
* checking R code for possible problems ... OK
* checking Rd files ... OK
* checking Rd metadata ... OK
* checking Rd cross-references ... OK
* checking for missing documentation entries ... OK
* checking for code/documentation mismatches ... OK
* checking Rd \usage sections ... OK
* checking Rd contents ... OK
* checking for unstated dependencies in examples ... OK
* checking contents of ‘data’ directory ... OK
* checking data for non-ASCII characters ... OK
* checking data for ASCII and uncompressed saves ... OK
* checking sizes of PDF files under ‘inst/doc’ ... OK
* checking files in ‘vignettes’ ... OK
* checking examples ... OK
Examples with CPU (user + system) or elapsed time > 5s
user system elapsed
graphTheory 6.328 0.146 6.480
gtResult-class 4.910 0.366 5.284
* checking for unstated dependencies in vignettes ... OK
* checking package vignettes in ‘inst/doc’ ... OK
* checking running R code from vignettes ... SKIPPED
* checking re-building of vignette outputs ... SKIPPED
* checking PDF version of manual ... OK
* DONE
Status: 3 NOTEs
See
‘/Users/biocbuild/bbs-3.11-bioc/meat/PCpheno.Rcheck/00check.log’
for details.
PCpheno.Rcheck/00install.out
############################################################################## ############################################################################## ### ### Running command: ### ### /Library/Frameworks/R.framework/Versions/Current/Resources/bin/R CMD INSTALL PCpheno ### ############################################################################## ############################################################################## * installing to library ‘/Library/Frameworks/R.framework/Versions/4.0/Resources/library’ * installing *source* package ‘PCpheno’ ... ** using staged installation ** R ** data ** byte-compile and prepare package for lazy loading No methods found in package ‘Biobase’ for request: ‘listlen’ when loading ‘RpsiXML’ No methods found in package ‘annotate’ for requests: ‘pubmed’, ‘buildPubMedAbst’ when loading ‘RpsiXML’ No methods found in package ‘BiocGenerics’ for request: ‘plot’ when loading ‘SLGI’ ** help *** installing help indices ** building package indices ** installing vignettes ** testing if installed package can be loaded from temporary location No methods found in package ‘Biobase’ for request: ‘listlen’ when loading ‘RpsiXML’ No methods found in package ‘annotate’ for requests: ‘pubmed’, ‘buildPubMedAbst’ when loading ‘RpsiXML’ No methods found in package ‘BiocGenerics’ for request: ‘plot’ when loading ‘SLGI’ ** testing if installed package can be loaded from final location No methods found in package ‘Biobase’ for request: ‘listlen’ when loading ‘RpsiXML’ No methods found in package ‘annotate’ for requests: ‘pubmed’, ‘buildPubMedAbst’ when loading ‘RpsiXML’ No methods found in package ‘BiocGenerics’ for request: ‘plot’ when loading ‘SLGI’ ** testing if installed package keeps a record of temporary installation path * DONE (PCpheno)
PCpheno.Rcheck/PCpheno-Ex.timings
| name | user | system | elapsed | |
| CoHyperGResult-class | 0.531 | 0.027 | 0.560 | |
| Dudley | 0.009 | 0.006 | 0.016 | |
| Giaever | 0.175 | 0.012 | 0.189 | |
| HI | 0.002 | 0.002 | 0.004 | |
| KEGG2SCISI | 0.107 | 0.013 | 0.120 | |
| Kastenmayer | 0.032 | 0.005 | 0.037 | |
| Lesage | 0.012 | 0.004 | 0.016 | |
| Osterberg | 0.028 | 0.004 | 0.032 | |
| SGDphenoL | 0.032 | 0.004 | 0.035 | |
| YEASTOHNOLOG | 0.015 | 0.004 | 0.019 | |
| buildFDMat | 0.199 | 0.016 | 0.214 | |
| categoryToEntrezBuilder | 0.128 | 0.024 | 0.154 | |
| complexStatus | 0.727 | 0.069 | 0.795 | |
| deResult-class | 0.109 | 0.017 | 0.127 | |
| densityEstimate | 0.597 | 0.124 | 0.721 | |
| getDescr | 0.709 | 0.033 | 0.746 | |
| getFDgene | 0.139 | 0.007 | 0.147 | |
| graphTheory | 6.328 | 0.146 | 6.480 | |
| gtResult-class | 4.910 | 0.366 | 5.284 | |
| overlap | 0.002 | 0.001 | 0.003 | |
| plot | 0.679 | 0.171 | 0.852 | |
| ppiInteraction | 4.457 | 0.279 | 4.743 | |
| reduceM | 0.001 | 0.000 | 0.002 | |
| truncName | 0.000 | 0.000 | 0.001 | |