| Back to Multiple platform build/check report for BioC 3.11 | 
  | 
This page was generated on 2020-10-17 11:55:21 -0400 (Sat, 17 Oct 2020).
| TO THE DEVELOPERS/MAINTAINERS OF THE PCAN PACKAGE: Please make sure to use the following settings in order to reproduce any error or warning you see on this page. | 
| Package 1283/1905 | Hostname | OS / Arch | INSTALL | BUILD | CHECK | BUILD BIN | ||||||
| PCAN 1.16.0 Matthew Page 
  | malbec2 | Linux (Ubuntu 18.04.4 LTS) / x86_64 | OK | OK | [ OK ] | |||||||
| tokay2 | Windows Server 2012 R2 Standard / x64 | OK | OK | OK | OK | |||||||
| machv2 | macOS 10.14.6 Mojave / x86_64 | OK | OK | OK | OK | 
| Package: PCAN | 
| Version: 1.16.0 | 
| Command: /home/biocbuild/bbs-3.11-bioc/R/bin/R CMD check --install=check:PCAN.install-out.txt --library=/home/biocbuild/bbs-3.11-bioc/R/library --no-vignettes --timings PCAN_1.16.0.tar.gz | 
| StartedAt: 2020-10-17 03:58:59 -0400 (Sat, 17 Oct 2020) | 
| EndedAt: 2020-10-17 04:02:37 -0400 (Sat, 17 Oct 2020) | 
| EllapsedTime: 218.4 seconds | 
| RetCode: 0 | 
| Status: OK | 
| CheckDir: PCAN.Rcheck | 
| Warnings: 0 | 
##############################################################################
##############################################################################
###
### Running command:
###
###   /home/biocbuild/bbs-3.11-bioc/R/bin/R CMD check --install=check:PCAN.install-out.txt --library=/home/biocbuild/bbs-3.11-bioc/R/library --no-vignettes --timings PCAN_1.16.0.tar.gz
###
##############################################################################
##############################################################################
* using log directory ‘/home/biocbuild/bbs-3.11-bioc/meat/PCAN.Rcheck’
* using R version 4.0.3 (2020-10-10)
* using platform: x86_64-pc-linux-gnu (64-bit)
* using session charset: UTF-8
* using option ‘--no-vignettes’
* checking for file ‘PCAN/DESCRIPTION’ ... OK
* this is package ‘PCAN’ version ‘1.16.0’
* checking package namespace information ... OK
* checking package dependencies ... OK
* checking if this is a source package ... OK
* checking if there is a namespace ... OK
* checking for hidden files and directories ... OK
* checking for portable file names ... OK
* checking for sufficient/correct file permissions ... OK
* checking whether package ‘PCAN’ can be installed ... OK
* checking installed package size ... OK
* checking package directory ... OK
* checking ‘build’ directory ... OK
* checking DESCRIPTION meta-information ... OK
* checking top-level files ... OK
* checking for left-over files ... OK
* checking index information ... OK
* checking package subdirectories ... OK
* checking R files for non-ASCII characters ... OK
* checking R files for syntax errors ... OK
* checking whether the package can be loaded ... OK
* checking whether the package can be loaded with stated dependencies ... OK
* checking whether the package can be unloaded cleanly ... OK
* checking whether the namespace can be loaded with stated dependencies ... OK
* checking whether the namespace can be unloaded cleanly ... OK
* checking dependencies in R code ... OK
* checking S3 generic/method consistency ... OK
* checking replacement functions ... OK
* checking foreign function calls ... OK
* checking R code for possible problems ... OK
* checking Rd files ... OK
* checking Rd metadata ... OK
* checking Rd cross-references ... OK
* checking for missing documentation entries ... OK
* checking for code/documentation mismatches ... OK
* checking Rd \usage sections ... OK
* checking Rd contents ... OK
* checking for unstated dependencies in examples ... OK
* checking contents of ‘data’ directory ... OK
* checking data for non-ASCII characters ... OK
* checking data for ASCII and uncompressed saves ... OK
* checking files in ‘vignettes’ ... OK
* checking examples ... OK
Examples with CPU (user + system) or elapsed time > 5s
                 user system elapsed
hpGeneHeatmap  53.473  0.288  53.780
compareHPSets  51.719  0.704  52.425
hpGeneListComp 50.591  0.384  50.975
* checking for unstated dependencies in vignettes ... OK
* checking package vignettes in ‘inst/doc’ ... OK
* checking running R code from vignettes ... SKIPPED
* checking re-building of vignette outputs ... SKIPPED
* checking PDF version of manual ... OK
* DONE
Status: OK
PCAN.Rcheck/00install.out
############################################################################## ############################################################################## ### ### Running command: ### ### /home/biocbuild/bbs-3.11-bioc/R/bin/R CMD INSTALL PCAN ### ############################################################################## ############################################################################## * installing to library ‘/home/biocbuild/bbs-3.11-bioc/R/library’ * installing *source* package ‘PCAN’ ... ** using staged installation ** R ** data ** inst ** byte-compile and prepare package for lazy loading ** help *** installing help indices ** building package indices ** installing vignettes ** testing if installed package can be loaded from temporary location ** testing if installed package can be loaded from final location ** testing if installed package keeps a record of temporary installation path * DONE (PCAN)
PCAN.Rcheck/PCAN-Ex.timings
| name | user | system | elapsed | |
| calcHpSim | 2.741 | 0.055 | 2.810 | |
| compareHPSets | 51.719 | 0.704 | 52.425 | |
| computeHpIC | 1.578 | 0.036 | 1.613 | |
| geneByHp | 1.896 | 0.012 | 1.908 | |
| geneByTrait | 0.044 | 0.000 | 0.044 | |
| geneDef | 2.404 | 0.028 | 2.432 | |
| hpByTrait | 2.979 | 0.024 | 3.003 | |
| hpDef | 2.799 | 0.068 | 2.868 | |
| hpGeneHeatmap | 53.473 | 0.288 | 53.780 | |
| hpGeneListComp | 50.591 | 0.384 | 50.975 | |
| hpSetCompBestMatch | 3.315 | 0.048 | 3.364 | |
| hpSetCompSummary | 2.607 | 0.032 | 2.639 | |
| hp_ancestors | 1.667 | 0.012 | 1.679 | |
| hp_class | 0.048 | 0.000 | 0.048 | |
| hp_descendants | 1.619 | 0.020 | 1.640 | |
| hqStrNw | 0 | 0 | 0 | |
| hsEntrezByRPath | 0.001 | 0.000 | 0.000 | |
| rPath | 0 | 0 | 0 | |
| traitDef | 2.473 | 0.024 | 2.498 | |