| Back to Multiple platform build/check report for BioC 3.11 |
|
This page was generated on 2020-10-17 11:57:18 -0400 (Sat, 17 Oct 2020).
| TO THE DEVELOPERS/MAINTAINERS OF THE OmicsLonDA PACKAGE: Please make sure to use the following settings in order to reproduce any error or warning you see on this page. |
| Package 1224/1905 | Hostname | OS / Arch | INSTALL | BUILD | CHECK | BUILD BIN | ||||||
| OmicsLonDA 1.4.0 Ahmed A. Metwally
| malbec2 | Linux (Ubuntu 18.04.4 LTS) / x86_64 | OK | OK | OK | |||||||
| tokay2 | Windows Server 2012 R2 Standard / x64 | OK | OK | OK | [ OK ] | |||||||
| machv2 | macOS 10.14.6 Mojave / x86_64 | OK | OK | OK | OK |
| Package: OmicsLonDA |
| Version: 1.4.0 |
| Command: rm -rf OmicsLonDA.buildbin-libdir && mkdir OmicsLonDA.buildbin-libdir && C:\Users\biocbuild\bbs-3.11-bioc\R\bin\R.exe CMD INSTALL --merge-multiarch --build --library=OmicsLonDA.buildbin-libdir OmicsLonDA_1.4.0.tar.gz |
| StartedAt: 2020-10-17 11:10:43 -0400 (Sat, 17 Oct 2020) |
| EndedAt: 2020-10-17 11:11:23 -0400 (Sat, 17 Oct 2020) |
| EllapsedTime: 40.0 seconds |
| RetCode: 0 |
| Status: OK |
| PackageFile: OmicsLonDA_1.4.0.zip |
| PackageFileSize: 4.983 MiB |
##############################################################################
##############################################################################
###
### Running command:
###
### rm -rf OmicsLonDA.buildbin-libdir && mkdir OmicsLonDA.buildbin-libdir && C:\Users\biocbuild\bbs-3.11-bioc\R\bin\R.exe CMD INSTALL --merge-multiarch --build --library=OmicsLonDA.buildbin-libdir OmicsLonDA_1.4.0.tar.gz
###
##############################################################################
##############################################################################
install for i386
* installing *source* package 'OmicsLonDA' ...
** using staged installation
** R
** data
*** moving datasets to lazyload DB
** inst
** byte-compile and prepare package for lazy loading
** help
*** installing help indices
converting help for package 'OmicsLonDA'
finding HTML links ... done
adjustBaseline html
curveFitting html
findSigInterval html
omicslonda html
omicslonda_data_example html
permutationMC html
testStat html
testStatPermutation html
visualizeArea html
visualizeFeature html
visualizeFeatureSpline html
visualizeTestStatHistogram html
** building package indices
** installing vignettes
** testing if installed package can be loaded from temporary location
** testing if installed package can be loaded from final location
** testing if installed package keeps a record of temporary installation path
install for x64
* installing *source* package 'OmicsLonDA' ...
** testing if installed package can be loaded
* MD5 sums
packaged installation of 'OmicsLonDA' as OmicsLonDA_1.4.0.zip
* DONE (OmicsLonDA)