| Back to Multiple platform build/check report for BioC 3.11 |
|
This page was generated on 2020-10-17 11:57:18 -0400 (Sat, 17 Oct 2020).
| TO THE DEVELOPERS/MAINTAINERS OF THE OmicCircos PACKAGE: Please make sure to use the following settings in order to reproduce any error or warning you see on this page. |
| Package 1221/1905 | Hostname | OS / Arch | INSTALL | BUILD | CHECK | BUILD BIN | ||||||
| OmicCircos 1.26.0 Ying Hu
| malbec2 | Linux (Ubuntu 18.04.4 LTS) / x86_64 | OK | OK | WARNINGS | |||||||
| tokay2 | Windows Server 2012 R2 Standard / x64 | OK | OK | WARNINGS | [ OK ] | |||||||
| machv2 | macOS 10.14.6 Mojave / x86_64 | OK | OK | WARNINGS | OK |
| Package: OmicCircos |
| Version: 1.26.0 |
| Command: rm -rf OmicCircos.buildbin-libdir && mkdir OmicCircos.buildbin-libdir && C:\Users\biocbuild\bbs-3.11-bioc\R\bin\R.exe CMD INSTALL --merge-multiarch --build --library=OmicCircos.buildbin-libdir OmicCircos_1.26.0.tar.gz |
| StartedAt: 2020-10-17 11:10:31 -0400 (Sat, 17 Oct 2020) |
| EndedAt: 2020-10-17 11:11:15 -0400 (Sat, 17 Oct 2020) |
| EllapsedTime: 43.4 seconds |
| RetCode: 0 |
| Status: OK |
| PackageFile: OmicCircos_1.26.0.zip |
| PackageFileSize: 3.821 MiB |
##############################################################################
##############################################################################
###
### Running command:
###
### rm -rf OmicCircos.buildbin-libdir && mkdir OmicCircos.buildbin-libdir && C:\Users\biocbuild\bbs-3.11-bioc\R\bin\R.exe CMD INSTALL --merge-multiarch --build --library=OmicCircos.buildbin-libdir OmicCircos_1.26.0.tar.gz
###
##############################################################################
##############################################################################
install for i386
* installing *source* package 'OmicCircos' ...
** using staged installation
** R
** data
** demo
** inst
** byte-compile and prepare package for lazy loading
** help
*** installing help indices
converting help for package 'OmicCircos'
finding HTML links ... done
OmicCircos html
TCGA.BC.cnv.2k.60 html
TCGA.BC.fus html
TCGA.BC.gene.exp.2k.60 html
TCGA.BC.sample60 html
TCGA.BC_Her2_cnv_exp html
TCGA.PAM50_genefu_hg18 html
UCSC.chr.colors html
UCSC.hg18 html
UCSC.hg18.chr html
UCSC.hg19 html
UCSC.hg19.chr html
UCSC.mm10 html
UCSC.mm10.chr html
UCSC.mm9 html
UCSC.mm9.chr html
circos html
segAnglePo-methods html
segAnglePo html
sim.circos html
** building package indices
** installing vignettes
** testing if installed package can be loaded from temporary location
** testing if installed package can be loaded from final location
** testing if installed package keeps a record of temporary installation path
install for x64
* installing *source* package 'OmicCircos' ...
** testing if installed package can be loaded
* MD5 sums
packaged installation of 'OmicCircos' as OmicCircos_1.26.0.zip
* DONE (OmicCircos)