Back to Multiple platform build/check report for BioC 3.11 |
|
This page was generated on 2019-12-18 12:10:38 -0500 (Wed, 18 Dec 2019).
Package 1197/1808 | Hostname | OS / Arch | INSTALL | BUILD | CHECK | BUILD BIN | ||||||
OTUbase 1.37.0 Daniel Beck
| malbec2 | Linux (Ubuntu 18.04.3 LTS) / x86_64 | OK | OK | OK | |||||||
tokay2 | Windows Server 2012 R2 Standard / x64 | OK | OK | OK | [ OK ] | |||||||
celaya2 | OS X 10.11.6 El Capitan / x86_64 | OK | ERROR | skipped | skipped |
Package: OTUbase |
Version: 1.37.0 |
Command: rm -rf OTUbase.buildbin-libdir && mkdir OTUbase.buildbin-libdir && C:\Users\biocbuild\bbs-3.11-bioc\R\bin\R.exe CMD INSTALL --merge-multiarch --build --library=OTUbase.buildbin-libdir OTUbase_1.37.0.tar.gz |
StartedAt: 2019-12-18 10:42:22 -0500 (Wed, 18 Dec 2019) |
EndedAt: 2019-12-18 10:43:20 -0500 (Wed, 18 Dec 2019) |
EllapsedTime: 57.3 seconds |
RetCode: 0 |
Status: OK |
PackageFile: OTUbase_1.37.0.zip |
PackageFileSize: 615.4 KiB |
############################################################################## ############################################################################## ### ### Running command: ### ### rm -rf OTUbase.buildbin-libdir && mkdir OTUbase.buildbin-libdir && C:\Users\biocbuild\bbs-3.11-bioc\R\bin\R.exe CMD INSTALL --merge-multiarch --build --library=OTUbase.buildbin-libdir OTUbase_1.37.0.tar.gz ### ############################################################################## ############################################################################## install for i386 * installing *source* package 'OTUbase' ... ** using staged installation ** R ** inst ** byte-compile and prepare package for lazy loading ** help *** installing help indices converting help for package 'OTUbase' finding HTML links ... done OTUbase-package html OTUset-class html TAXset-class html abundance html accessors html finding level-2 HTML links ... done assignmentData html clusterSamples html other_functions html other_generics html readOTUset html readTAXset html sampleData html subOTUset html subTAXset html ** building package indices ** installing vignettes ** testing if installed package can be loaded from temporary location ** testing if installed package can be loaded from final location ** testing if installed package keeps a record of temporary installation path install for x64 * installing *source* package 'OTUbase' ... ** testing if installed package can be loaded * MD5 sums packaged installation of 'OTUbase' as OTUbase_1.37.0.zip * DONE (OTUbase)