| Back to Multiple platform build/check report for BioC 3.11 | 
  | 
This page was generated on 2020-10-17 11:57:16 -0400 (Sat, 17 Oct 2020).
| TO THE DEVELOPERS/MAINTAINERS OF THE NetSAM PACKAGE: Please make sure to use the following settings in order to reproduce any error or warning you see on this page. | 
| Package 1192/1905 | Hostname | OS / Arch | INSTALL | BUILD | CHECK | BUILD BIN | ||||||
| NetSAM 1.28.0 Bing Zhang 
  | malbec2 | Linux (Ubuntu 18.04.4 LTS) / x86_64 | OK | OK | OK | |||||||
| tokay2 | Windows Server 2012 R2 Standard / x64 | [ OK ] | OK | OK | OK | |||||||
| machv2 | macOS 10.14.6 Mojave / x86_64 | OK | OK | OK | OK | 
| Package: NetSAM | 
| Version: 1.28.0 | 
| Command: C:\cygwin\bin\curl.exe -O https://malbec2.bioconductor.org/BBS/3.11/bioc/src/contrib/NetSAM_1.28.0.tar.gz && rm -rf NetSAM.buildbin-libdir && mkdir NetSAM.buildbin-libdir && C:\Users\biocbuild\bbs-3.11-bioc\R\bin\R.exe CMD INSTALL --merge-multiarch --build --library=NetSAM.buildbin-libdir NetSAM_1.28.0.tar.gz && C:\Users\biocbuild\bbs-3.11-bioc\R\bin\R.exe CMD INSTALL NetSAM_1.28.0.zip && rm NetSAM_1.28.0.tar.gz NetSAM_1.28.0.zip | 
| StartedAt: 2020-10-16 18:12:03 -0400 (Fri, 16 Oct 2020) | 
| EndedAt: 2020-10-16 18:12:41 -0400 (Fri, 16 Oct 2020) | 
| EllapsedTime: 37.8 seconds | 
| RetCode: 0 | 
| Status: OK | 
##############################################################################
##############################################################################
###
### Running command:
###
###   C:\cygwin\bin\curl.exe -O https://malbec2.bioconductor.org/BBS/3.11/bioc/src/contrib/NetSAM_1.28.0.tar.gz && rm -rf NetSAM.buildbin-libdir && mkdir NetSAM.buildbin-libdir && C:\Users\biocbuild\bbs-3.11-bioc\R\bin\R.exe CMD INSTALL --merge-multiarch --build --library=NetSAM.buildbin-libdir NetSAM_1.28.0.tar.gz && C:\Users\biocbuild\bbs-3.11-bioc\R\bin\R.exe CMD INSTALL NetSAM_1.28.0.zip && rm NetSAM_1.28.0.tar.gz NetSAM_1.28.0.zip
###
##############################################################################
##############################################################################
  % Total    % Received % Xferd  Average Speed   Time    Time     Time  Current
                                 Dload  Upload   Total   Spent    Left  Speed
  0     0    0     0    0     0      0      0 --:--:-- --:--:-- --:--:--     0
100 29789  100 29789    0     0   131k      0 --:--:-- --:--:-- --:--:--  136k
install for i386
* installing *source* package 'NetSAM' ...
** using staged installation
** R
** data
** inst
** byte-compile and prepare package for lazy loading
** help
*** installing help indices
  converting help for package 'NetSAM'
    finding HTML links ... done
    NetSAM-package                          html  
    NetSAM                                  html  
    inputNetwork                            html  
** building package indices
** installing vignettes
** testing if installed package can be loaded from temporary location
******************************************
*                                        *
*         Welcome to use NetSAM !        *
*                                        *
******************************************
** testing if installed package can be loaded from final location
******************************************
*                                        *
*         Welcome to use NetSAM !        *
*                                        *
******************************************
** testing if installed package keeps a record of temporary installation path
install for x64
* installing *source* package 'NetSAM' ...
** testing if installed package can be loaded
******************************************
*                                        *
*         Welcome to use NetSAM !        *
*                                        *
******************************************
* MD5 sums
packaged installation of 'NetSAM' as NetSAM_1.28.0.zip
* DONE (NetSAM)
* installing to library 'C:/Users/biocbuild/bbs-3.11-bioc/R/library'
package 'NetSAM' successfully unpacked and MD5 sums checked