| Back to Multiple platform build/check report for BioC 3.11 |
|
This page was generated on 2020-10-17 11:59:03 -0400 (Sat, 17 Oct 2020).
| TO THE DEVELOPERS/MAINTAINERS OF THE NanoStringDiff PACKAGE: Please make sure to use the following settings in order to reproduce any error or warning you see on this page. |
| Package 1170/1905 | Hostname | OS / Arch | INSTALL | BUILD | CHECK | BUILD BIN | ||||||
| NanoStringDiff 1.18.0 tingting zhai
| malbec2 | Linux (Ubuntu 18.04.4 LTS) / x86_64 | OK | OK | WARNINGS | |||||||
| tokay2 | Windows Server 2012 R2 Standard / x64 | OK | OK | WARNINGS | OK | |||||||
| machv2 | macOS 10.14.6 Mojave / x86_64 | OK | [ OK ] | WARNINGS | OK |
| Package: NanoStringDiff |
| Version: 1.18.0 |
| Command: /Library/Frameworks/R.framework/Versions/Current/Resources/bin/R CMD build --keep-empty-dirs --no-resave-data NanoStringDiff |
| StartedAt: 2020-10-16 20:10:35 -0400 (Fri, 16 Oct 2020) |
| EndedAt: 2020-10-16 20:11:02 -0400 (Fri, 16 Oct 2020) |
| EllapsedTime: 27.0 seconds |
| RetCode: 0 |
| Status: OK |
| PackageFile: NanoStringDiff_1.18.0.tar.gz |
| PackageFileSize: 311 KiB |
##############################################################################
##############################################################################
###
### Running command:
###
### /Library/Frameworks/R.framework/Versions/Current/Resources/bin/R CMD build --keep-empty-dirs --no-resave-data NanoStringDiff
###
##############################################################################
##############################################################################
* checking for file ‘NanoStringDiff/DESCRIPTION’ ... OK
* preparing ‘NanoStringDiff’:
* checking DESCRIPTION meta-information ... OK
* cleaning src
* installing the package to build vignettes
* creating vignettes ... OK
Warning: ‘inst/doc’ files
‘NanoStringDiff.Rnw’, ‘NanoStringDiff.pdf’, ‘NanoStringDiff.R’
ignored as vignettes have been rebuilt.
Run R CMD build with --no-build-vignettes to prevent rebuilding.
* cleaning src
* checking for LF line-endings in source and make files and shell scripts
* checking for empty or unneeded directories
* looking to see if a ‘data/datalist’ file should be added
* building ‘NanoStringDiff_1.18.0.tar.gz’