| Back to Multiple platform build/check report for BioC 3.11 |
|
This page was generated on 2020-10-17 11:57:17 -0400 (Sat, 17 Oct 2020).
| TO THE DEVELOPERS/MAINTAINERS OF THE NTW PACKAGE: Please make sure to use the following settings in order to reproduce any error or warning you see on this page. |
| Package 1206/1905 | Hostname | OS / Arch | INSTALL | BUILD | CHECK | BUILD BIN | ||||||
| NTW 1.38.0 Yuanhua Liu
| malbec2 | Linux (Ubuntu 18.04.4 LTS) / x86_64 | OK | OK | WARNINGS | |||||||
| tokay2 | Windows Server 2012 R2 Standard / x64 | OK | OK | WARNINGS | [ OK ] | |||||||
| machv2 | macOS 10.14.6 Mojave / x86_64 | OK | OK | WARNINGS | OK |
| Package: NTW |
| Version: 1.38.0 |
| Command: rm -rf NTW.buildbin-libdir && mkdir NTW.buildbin-libdir && C:\Users\biocbuild\bbs-3.11-bioc\R\bin\R.exe CMD INSTALL --merge-multiarch --build --library=NTW.buildbin-libdir NTW_1.38.0.tar.gz |
| StartedAt: 2020-10-17 11:09:35 -0400 (Sat, 17 Oct 2020) |
| EndedAt: 2020-10-17 11:10:04 -0400 (Sat, 17 Oct 2020) |
| EllapsedTime: 29.0 seconds |
| RetCode: 0 |
| Status: OK |
| PackageFile: NTW_1.38.0.zip |
| PackageFileSize: 528.5 KiB |
##############################################################################
##############################################################################
###
### Running command:
###
### rm -rf NTW.buildbin-libdir && mkdir NTW.buildbin-libdir && C:\Users\biocbuild\bbs-3.11-bioc\R\bin\R.exe CMD INSTALL --merge-multiarch --build --library=NTW.buildbin-libdir NTW_1.38.0.tar.gz
###
##############################################################################
##############################################################################
install for i386
* installing *source* package 'NTW' ...
** using staged installation
** R
** data
** inst
** byte-compile and prepare package for lazy loading
Note: break used in wrong context: no loop is visible
** help
*** installing help indices
converting help for package 'NTW'
finding HTML links ... done
A.estimation.Srow html
AP.estimation.Srow html
NTW-package html
NTW html
P.preestimation html
comb.matrix html
methods.regression html
patterns.priorA html
sos.data html
** building package indices
** installing vignettes
** testing if installed package can be loaded from temporary location
** testing if installed package can be loaded from final location
** testing if installed package keeps a record of temporary installation path
install for x64
* installing *source* package 'NTW' ...
** testing if installed package can be loaded
* MD5 sums
packaged installation of 'NTW' as NTW_1.38.0.zip
* DONE (NTW)