| Back to Multiple platform build/check report for BioC 3.11 |
|
This page was generated on 2020-10-17 11:57:17 -0400 (Sat, 17 Oct 2020).
| TO THE DEVELOPERS/MAINTAINERS OF THE NPARC PACKAGE: Please make sure to use the following settings in order to reproduce any error or warning you see on this page. |
| Package 1204/1905 | Hostname | OS / Arch | INSTALL | BUILD | CHECK | BUILD BIN | ||||||
| NPARC 1.0.1 Nils Kurzawa
| malbec2 | Linux (Ubuntu 18.04.4 LTS) / x86_64 | OK | OK | OK | |||||||
| tokay2 | Windows Server 2012 R2 Standard / x64 | OK | OK | OK | [ OK ] | |||||||
| machv2 | macOS 10.14.6 Mojave / x86_64 | OK | OK | OK | OK |
| Package: NPARC |
| Version: 1.0.1 |
| Command: rm -rf NPARC.buildbin-libdir && mkdir NPARC.buildbin-libdir && C:\Users\biocbuild\bbs-3.11-bioc\R\bin\R.exe CMD INSTALL --merge-multiarch --build --library=NPARC.buildbin-libdir NPARC_1.0.1.tar.gz |
| StartedAt: 2020-10-17 11:09:27 -0400 (Sat, 17 Oct 2020) |
| EndedAt: 2020-10-17 11:09:52 -0400 (Sat, 17 Oct 2020) |
| EllapsedTime: 24.8 seconds |
| RetCode: 0 |
| Status: OK |
| PackageFile: NPARC_1.0.1.zip |
| PackageFileSize: 2.105 MiB |
##############################################################################
##############################################################################
###
### Running command:
###
### rm -rf NPARC.buildbin-libdir && mkdir NPARC.buildbin-libdir && C:\Users\biocbuild\bbs-3.11-bioc\R\bin\R.exe CMD INSTALL --merge-multiarch --build --library=NPARC.buildbin-libdir NPARC_1.0.1.tar.gz
###
##############################################################################
##############################################################################
install for i386
* installing *source* package 'NPARC' ...
** using staged installation
** R
** data
*** moving datasets to lazyload DB
** inst
** byte-compile and prepare package for lazy loading
** help
*** installing help indices
converting help for package 'NPARC'
finding HTML links ... done
NPARCtest html
fitSingleSigmoid html
getParams html
nparc html
nparcFit html
runNPARC html
stauro_TPP_data_tidy html
** building package indices
** installing vignettes
** testing if installed package can be loaded from temporary location
** testing if installed package can be loaded from final location
** testing if installed package keeps a record of temporary installation path
install for x64
* installing *source* package 'NPARC' ...
** testing if installed package can be loaded
* MD5 sums
packaged installation of 'NPARC' as NPARC_1.0.1.zip
* DONE (NPARC)