| Back to Multiple platform build/check report for BioC 3.11 |
|
This page was generated on 2020-10-17 11:57:15 -0400 (Sat, 17 Oct 2020).
| TO THE DEVELOPERS/MAINTAINERS OF THE NBSplice PACKAGE: Please make sure to use the following settings in order to reproduce any error or warning you see on this page. |
| Package 1175/1905 | Hostname | OS / Arch | INSTALL | BUILD | CHECK | BUILD BIN | ||||||
| NBSplice 1.6.0 Gabriela Merino
| malbec2 | Linux (Ubuntu 18.04.4 LTS) / x86_64 | OK | OK | OK | |||||||
| tokay2 | Windows Server 2012 R2 Standard / x64 | OK | OK | OK | [ OK ] | |||||||
| machv2 | macOS 10.14.6 Mojave / x86_64 | OK | OK | OK | OK |
| Package: NBSplice |
| Version: 1.6.0 |
| Command: rm -rf NBSplice.buildbin-libdir && mkdir NBSplice.buildbin-libdir && C:\Users\biocbuild\bbs-3.11-bioc\R\bin\R.exe CMD INSTALL --merge-multiarch --build --library=NBSplice.buildbin-libdir NBSplice_1.6.0.tar.gz |
| StartedAt: 2020-10-17 11:07:52 -0400 (Sat, 17 Oct 2020) |
| EndedAt: 2020-10-17 11:08:12 -0400 (Sat, 17 Oct 2020) |
| EllapsedTime: 20.6 seconds |
| RetCode: 0 |
| Status: OK |
| PackageFile: NBSplice_1.6.0.zip |
| PackageFileSize: 787.8 KiB |
##############################################################################
##############################################################################
###
### Running command:
###
### rm -rf NBSplice.buildbin-libdir && mkdir NBSplice.buildbin-libdir && C:\Users\biocbuild\bbs-3.11-bioc\R\bin\R.exe CMD INSTALL --merge-multiarch --build --library=NBSplice.buildbin-libdir NBSplice_1.6.0.tar.gz
###
##############################################################################
##############################################################################
install for i386
* installing *source* package 'NBSplice' ...
** using staged installation
** R
** data
** inst
** byte-compile and prepare package for lazy loading
** help
*** installing help indices
converting help for package 'NBSplice'
finding HTML links ... done
IsoDataSet-NBTest html
IsoDataSet-buildLowExpIdx html
IsoDataSet-class html
IsoDataSet-constructor html
IsoDataSet-core html
IsoDataSet-getters html
IsoDataSet-initialize html
IsoDataSet-print html
IsoDataSet-show html
NBSplice-package html
NBSpliceRes-GetDSGenes html
NBSpliceRes-GetDSResults html
NBSpliceRes-GetGeneResults html
NBSpliceRes-class html
NBSpliceRes-constructor html
NBSpliceRes-getters html
NBSpliceRes-initialize html
NBSpliceRes-plotGeneResults html
NBSpliceRes-plotRatiosDisp html
NBSpliceRes-plotVolcano html
NBSpliceRes-print html
NBSpliceRes-show html
designMatrix html
geneIso html
isoCountsData html
myDSResults html
myIsoDataSet html
totalGeneCounts html
** building package indices
** installing vignettes
** testing if installed package can be loaded from temporary location
** testing if installed package can be loaded from final location
** testing if installed package keeps a record of temporary installation path
install for x64
* installing *source* package 'NBSplice' ...
** testing if installed package can be loaded
* MD5 sums
packaged installation of 'NBSplice' as NBSplice_1.6.0.zip
* DONE (NBSplice)