| Back to Multiple platform build/check report for BioC 3.11 |
|
This page was generated on 2020-10-17 11:57:12 -0400 (Sat, 17 Oct 2020).
| TO THE DEVELOPERS/MAINTAINERS OF THE MsCoreUtils PACKAGE: Please make sure to use the following settings in order to reproduce any error or warning you see on this page. |
| Package 1135/1905 | Hostname | OS / Arch | INSTALL | BUILD | CHECK | BUILD BIN | ||||||
| MsCoreUtils 1.0.0 RforMassSpectrometry Package Maintainer
| malbec2 | Linux (Ubuntu 18.04.4 LTS) / x86_64 | OK | OK | OK | |||||||
| tokay2 | Windows Server 2012 R2 Standard / x64 | [ OK ] | OK | WARNINGS | OK | |||||||
| machv2 | macOS 10.14.6 Mojave / x86_64 | OK | OK | OK | OK |
| Package: MsCoreUtils |
| Version: 1.0.0 |
| Command: C:\cygwin\bin\curl.exe -O https://malbec2.bioconductor.org/BBS/3.11/bioc/src/contrib/MsCoreUtils_1.0.0.tar.gz && rm -rf MsCoreUtils.buildbin-libdir && mkdir MsCoreUtils.buildbin-libdir && C:\Users\biocbuild\bbs-3.11-bioc\R\bin\R.exe CMD INSTALL --merge-multiarch --build --library=MsCoreUtils.buildbin-libdir MsCoreUtils_1.0.0.tar.gz && C:\Users\biocbuild\bbs-3.11-bioc\R\bin\R.exe CMD INSTALL MsCoreUtils_1.0.0.zip && rm MsCoreUtils_1.0.0.tar.gz MsCoreUtils_1.0.0.zip |
| StartedAt: 2020-10-16 16:57:48 -0400 (Fri, 16 Oct 2020) |
| EndedAt: 2020-10-16 16:58:46 -0400 (Fri, 16 Oct 2020) |
| EllapsedTime: 57.6 seconds |
| RetCode: 0 |
| Status: OK |
##############################################################################
##############################################################################
###
### Running command:
###
### C:\cygwin\bin\curl.exe -O https://malbec2.bioconductor.org/BBS/3.11/bioc/src/contrib/MsCoreUtils_1.0.0.tar.gz && rm -rf MsCoreUtils.buildbin-libdir && mkdir MsCoreUtils.buildbin-libdir && C:\Users\biocbuild\bbs-3.11-bioc\R\bin\R.exe CMD INSTALL --merge-multiarch --build --library=MsCoreUtils.buildbin-libdir MsCoreUtils_1.0.0.tar.gz && C:\Users\biocbuild\bbs-3.11-bioc\R\bin\R.exe CMD INSTALL MsCoreUtils_1.0.0.zip && rm MsCoreUtils_1.0.0.tar.gz MsCoreUtils_1.0.0.zip
###
##############################################################################
##############################################################################
% Total % Received % Xferd Average Speed Time Time Time Current
Dload Upload Total Spent Left Speed
0 0 0 0 0 0 0 0 --:--:-- --:--:-- --:--:-- 0
100 209k 100 209k 0 0 1921k 0 --:--:-- --:--:-- --:--:-- 2050k
install for i386
* installing *source* package 'MsCoreUtils' ...
** using staged installation
** libs
"C:/rtools40/mingw32/bin/"gcc -I"C:/Users/BIOCBU~1/BBS-3~1.11-/R/include" -DNDEBUG -I'C:/Users/biocbuild/bbs-3.11-bioc/R/library/Rcpp/include' -I"C:/extsoft/include" -O2 -Wall -std=gnu99 -mfpmath=sse -msse2 -mstackrealign -c impNeighbourAvg.c -o impNeighbourAvg.o
"C:/rtools40/mingw32/bin/"gcc -I"C:/Users/BIOCBU~1/BBS-3~1.11-/R/include" -DNDEBUG -I'C:/Users/biocbuild/bbs-3.11-bioc/R/library/Rcpp/include' -I"C:/extsoft/include" -O2 -Wall -std=gnu99 -mfpmath=sse -msse2 -mstackrealign -c init.c -o init.o
"C:/rtools40/mingw32/bin/"gcc -I"C:/Users/BIOCBU~1/BBS-3~1.11-/R/include" -DNDEBUG -I'C:/Users/biocbuild/bbs-3.11-bioc/R/library/Rcpp/include' -I"C:/extsoft/include" -O2 -Wall -std=gnu99 -mfpmath=sse -msse2 -mstackrealign -c localMaxima.c -o localMaxima.o
C:/rtools40/mingw32/bin/gcc -shared -s -static-libgcc -o MsCoreUtils.dll tmp.def impNeighbourAvg.o init.o localMaxima.o -LC:/extsoft/lib/i386 -LC:/extsoft/lib -LC:/Users/BIOCBU~1/BBS-3~1.11-/R/bin/i386 -lR
installing to C:/Users/biocbuild/bbs-3.11-bioc/meat/MsCoreUtils.buildbin-libdir/00LOCK-MsCoreUtils/00new/MsCoreUtils/libs/i386
** R
** byte-compile and prepare package for lazy loading
** help
*** installing help indices
converting help for package 'MsCoreUtils'
finding HTML links ... done
aggregate_by_vector html
Rd warning: C:/Users/biocbuild/bbs-3.11-bioc/tmpdir/RtmpshNtHM/R.INSTALLfd85e976e57/MsCoreUtils/man/aggregate_by_vector.Rd:36: file link 'colMeans' in package 'base' does not exist and so has been treated as a topic
Rd warning: C:/Users/biocbuild/bbs-3.11-bioc/tmpdir/RtmpshNtHM/R.INSTALLfd85e976e57/MsCoreUtils/man/aggregate_by_vector.Rd:38: file link 'colMedians' in package 'matrixStats' does not exist and so has been treated as a topic
binning html
check html
coerce html
dotproduct html
group html
i2index html
imputation html
localMaxima html
matching html
medianPolish html
noise html
normalize html
peakRegionMask html
ppm html
range html
rbindFill html
refineCentroids html
rla html
robustSummary html
smooth html
validation html
valleys html
vapply html
** building package indices
** installing vignettes
** testing if installed package can be loaded from temporary location
** testing if installed package can be loaded from final location
** testing if installed package keeps a record of temporary installation path
install for x64
* installing *source* package 'MsCoreUtils' ...
** libs
"C:/rtools40/mingw64/bin/"gcc -I"C:/Users/BIOCBU~1/BBS-3~1.11-/R/include" -DNDEBUG -I'C:/Users/biocbuild/bbs-3.11-bioc/R/library/Rcpp/include' -I"C:/extsoft/include" -O2 -Wall -std=gnu99 -mfpmath=sse -msse2 -mstackrealign -c impNeighbourAvg.c -o impNeighbourAvg.o
"C:/rtools40/mingw64/bin/"gcc -I"C:/Users/BIOCBU~1/BBS-3~1.11-/R/include" -DNDEBUG -I'C:/Users/biocbuild/bbs-3.11-bioc/R/library/Rcpp/include' -I"C:/extsoft/include" -O2 -Wall -std=gnu99 -mfpmath=sse -msse2 -mstackrealign -c init.c -o init.o
"C:/rtools40/mingw64/bin/"gcc -I"C:/Users/BIOCBU~1/BBS-3~1.11-/R/include" -DNDEBUG -I'C:/Users/biocbuild/bbs-3.11-bioc/R/library/Rcpp/include' -I"C:/extsoft/include" -O2 -Wall -std=gnu99 -mfpmath=sse -msse2 -mstackrealign -c localMaxima.c -o localMaxima.o
C:/rtools40/mingw64/bin/gcc -shared -s -static-libgcc -o MsCoreUtils.dll tmp.def impNeighbourAvg.o init.o localMaxima.o -LC:/extsoft/lib/x64 -LC:/extsoft/lib -LC:/Users/BIOCBU~1/BBS-3~1.11-/R/bin/x64 -lR
installing to C:/Users/biocbuild/bbs-3.11-bioc/meat/MsCoreUtils.buildbin-libdir/MsCoreUtils/libs/x64
** testing if installed package can be loaded
* MD5 sums
packaged installation of 'MsCoreUtils' as MsCoreUtils_1.0.0.zip
* DONE (MsCoreUtils)
* installing to library 'C:/Users/biocbuild/bbs-3.11-bioc/R/library'
package 'MsCoreUtils' successfully unpacked and MD5 sums checked