| Back to Multiple platform build/check report for BioC 3.11 |
|
This page was generated on 2020-10-17 11:57:07 -0400 (Sat, 17 Oct 2020).
| TO THE DEVELOPERS/MAINTAINERS OF THE MiPP PACKAGE: Please make sure to use the following settings in order to reproduce any error or warning you see on this page. |
| Package 1087/1905 | Hostname | OS / Arch | INSTALL | BUILD | CHECK | BUILD BIN | ||||||
| MiPP 1.60.0 Sukwoo Kim
| malbec2 | Linux (Ubuntu 18.04.4 LTS) / x86_64 | OK | OK | OK | |||||||
| tokay2 | Windows Server 2012 R2 Standard / x64 | OK | OK | OK | [ OK ] | |||||||
| machv2 | macOS 10.14.6 Mojave / x86_64 | OK | OK | OK | OK |
| Package: MiPP |
| Version: 1.60.0 |
| Command: rm -rf MiPP.buildbin-libdir && mkdir MiPP.buildbin-libdir && C:\Users\biocbuild\bbs-3.11-bioc\R\bin\R.exe CMD INSTALL --merge-multiarch --build --library=MiPP.buildbin-libdir MiPP_1.60.0.tar.gz |
| StartedAt: 2020-10-17 11:02:18 -0400 (Sat, 17 Oct 2020) |
| EndedAt: 2020-10-17 11:02:58 -0400 (Sat, 17 Oct 2020) |
| EllapsedTime: 39.9 seconds |
| RetCode: 0 |
| Status: OK |
| PackageFile: MiPP_1.60.0.zip |
| PackageFileSize: 381 KiB |
##############################################################################
##############################################################################
###
### Running command:
###
### rm -rf MiPP.buildbin-libdir && mkdir MiPP.buildbin-libdir && C:\Users\biocbuild\bbs-3.11-bioc\R\bin\R.exe CMD INSTALL --merge-multiarch --build --library=MiPP.buildbin-libdir MiPP_1.60.0.tar.gz
###
##############################################################################
##############################################################################
install for i386
* installing *source* package 'MiPP' ...
** using staged installation
** R
** data
** inst
** byte-compile and prepare package for lazy loading
** help
*** installing help indices
converting help for package 'MiPP'
finding HTML links ... done
colon html
cv.mipp.rule html
get.mipp html
get.mipp.lda html
get.mipp.logistic html
get.mipp.qda html
get.mipp.svm.linear html
get.mipp.svm.rbf html
leuk1 html
leuk2 html
leukemia html
linearkernel.decision.function html
mipp html
mipp.preproc html
mipp.rule html
mipp.seq html
pre.select html
quant.normal html
quant.normal2 html
rbfkernel.decision.function html
** building package indices
** installing vignettes
** testing if installed package can be loaded from temporary location
** testing if installed package can be loaded from final location
** testing if installed package keeps a record of temporary installation path
install for x64
* installing *source* package 'MiPP' ...
** testing if installed package can be loaded
* MD5 sums
packaged installation of 'MiPP' as MiPP_1.60.0.zip
* DONE (MiPP)