| Back to Multiple platform build/check report for BioC 3.11 |
|
This page was generated on 2020-10-17 11:57:05 -0400 (Sat, 17 Oct 2020).
| TO THE DEVELOPERS/MAINTAINERS OF THE MiChip PACKAGE: Please make sure to use the following settings in order to reproduce any error or warning you see on this page. |
| Package 1075/1905 | Hostname | OS / Arch | INSTALL | BUILD | CHECK | BUILD BIN | ||||||
| MiChip 1.42.0 Jonathon Blake
| malbec2 | Linux (Ubuntu 18.04.4 LTS) / x86_64 | OK | OK | OK | |||||||
| tokay2 | Windows Server 2012 R2 Standard / x64 | OK | OK | OK | [ OK ] | |||||||
| machv2 | macOS 10.14.6 Mojave / x86_64 | OK | OK | OK | OK |
| Package: MiChip |
| Version: 1.42.0 |
| Command: rm -rf MiChip.buildbin-libdir && mkdir MiChip.buildbin-libdir && C:\Users\biocbuild\bbs-3.11-bioc\R\bin\R.exe CMD INSTALL --merge-multiarch --build --library=MiChip.buildbin-libdir MiChip_1.42.0.tar.gz |
| StartedAt: 2020-10-17 11:01:30 -0400 (Sat, 17 Oct 2020) |
| EndedAt: 2020-10-17 11:02:02 -0400 (Sat, 17 Oct 2020) |
| EllapsedTime: 32.0 seconds |
| RetCode: 0 |
| Status: OK |
| PackageFile: MiChip_1.42.0.zip |
| PackageFileSize: 660.6 KiB |
##############################################################################
##############################################################################
###
### Running command:
###
### rm -rf MiChip.buildbin-libdir && mkdir MiChip.buildbin-libdir && C:\Users\biocbuild\bbs-3.11-bioc\R\bin\R.exe CMD INSTALL --merge-multiarch --build --library=MiChip.buildbin-libdir MiChip_1.42.0.tar.gz
###
##############################################################################
##############################################################################
install for i386
* installing *source* package 'MiChip' ...
** using staged installation
** R
** inst
** byte-compile and prepare package for lazy loading
** help
*** installing help indices
converting help for package 'MiChip'
finding HTML links ... done
MiChip html
boxplotData html
boxplotDataNoFile html
correctForFlags html
myForgivingMedian html
naOmitMedian html
normalizePerChipMedian html
outputAnnotatedDataMatrix html
panelCor html
parseRawData html
plotIntensitiesScatter html
removeUnwantedRows html
returnAnnotatedDataMatrix html
setIntensityCutoff html
standardRemoveRows html
summarizeIntensitiesAsMedian html
workedExampleMedianNormalize html
workedExampleNotNormalizedData html
** building package indices
** installing vignettes
** testing if installed package can be loaded from temporary location
** testing if installed package can be loaded from final location
** testing if installed package keeps a record of temporary installation path
install for x64
* installing *source* package 'MiChip' ...
** testing if installed package can be loaded
* MD5 sums
packaged installation of 'MiChip' as MiChip_1.42.0.zip
* DONE (MiChip)