| Back to Multiple platform build/check report for BioC 3.11 |
|
This page was generated on 2020-10-17 11:57:02 -0400 (Sat, 17 Oct 2020).
| TO THE DEVELOPERS/MAINTAINERS OF THE Metab PACKAGE: Please make sure to use the following settings in order to reproduce any error or warning you see on this page. |
| Package 1030/1905 | Hostname | OS / Arch | INSTALL | BUILD | CHECK | BUILD BIN | ||||||
| Metab 1.22.0 Raphael Aggio
| malbec2 | Linux (Ubuntu 18.04.4 LTS) / x86_64 | OK | OK | OK | |||||||
| tokay2 | Windows Server 2012 R2 Standard / x64 | OK | OK | OK | [ OK ] | |||||||
| machv2 | macOS 10.14.6 Mojave / x86_64 | OK | OK | OK | OK |
| Package: Metab |
| Version: 1.22.0 |
| Command: rm -rf Metab.buildbin-libdir && mkdir Metab.buildbin-libdir && C:\Users\biocbuild\bbs-3.11-bioc\R\bin\R.exe CMD INSTALL --merge-multiarch --build --library=Metab.buildbin-libdir Metab_1.22.0.tar.gz |
| StartedAt: 2020-10-17 10:58:30 -0400 (Sat, 17 Oct 2020) |
| EndedAt: 2020-10-17 10:59:13 -0400 (Sat, 17 Oct 2020) |
| EllapsedTime: 43.2 seconds |
| RetCode: 0 |
| Status: OK |
| PackageFile: Metab_1.22.0.zip |
| PackageFileSize: 3.287 MiB |
##############################################################################
##############################################################################
###
### Running command:
###
### rm -rf Metab.buildbin-libdir && mkdir Metab.buildbin-libdir && C:\Users\biocbuild\bbs-3.11-bioc\R\bin\R.exe CMD INSTALL --merge-multiarch --build --library=Metab.buildbin-libdir Metab_1.22.0.tar.gz
###
##############################################################################
##############################################################################
install for i386
* installing *source* package 'Metab' ...
** using staged installation
** R
** data
** inst
** byte-compile and prepare package for lazy loading
** help
*** installing help indices
converting help for package 'Metab'
finding HTML links ... done
MetReport html
MetReportNames html
Metab-package html
buildLib html
exampleAMDISReport html
exampleBiomass html
exampleHtest html
exampleIonLib html
exampleMSLfile html
exampleMetReport html
htest html
normalizeByBiomass html
normalizeByInternalStandard html
removeFalsePositives html
** building package indices
** installing vignettes
** testing if installed package can be loaded from temporary location
** testing if installed package can be loaded from final location
** testing if installed package keeps a record of temporary installation path
install for x64
* installing *source* package 'Metab' ...
** testing if installed package can be loaded
* MD5 sums
packaged installation of 'Metab' as Metab_1.22.0.zip
* DONE (Metab)