| Back to Multiple platform build/check report for BioC 3.11 |
|
This page was generated on 2020-10-17 11:57:01 -0400 (Sat, 17 Oct 2020).
| TO THE DEVELOPERS/MAINTAINERS OF THE MatrixRider PACKAGE: Please make sure to use the following settings in order to reproduce any error or warning you see on this page. |
| Package 997/1905 | Hostname | OS / Arch | INSTALL | BUILD | CHECK | BUILD BIN | ||||||
| MatrixRider 1.20.0 Elena Grassi
| malbec2 | Linux (Ubuntu 18.04.4 LTS) / x86_64 | OK | OK | OK | |||||||
| tokay2 | Windows Server 2012 R2 Standard / x64 | OK | OK | OK | [ OK ] | |||||||
| machv2 | macOS 10.14.6 Mojave / x86_64 | OK | OK | OK | OK |
| Package: MatrixRider |
| Version: 1.20.0 |
| Command: rm -rf MatrixRider.buildbin-libdir && mkdir MatrixRider.buildbin-libdir && C:\Users\biocbuild\bbs-3.11-bioc\R\bin\R.exe CMD INSTALL --merge-multiarch --build --library=MatrixRider.buildbin-libdir MatrixRider_1.20.0.tar.gz |
| StartedAt: 2020-10-17 10:56:25 -0400 (Sat, 17 Oct 2020) |
| EndedAt: 2020-10-17 10:57:59 -0400 (Sat, 17 Oct 2020) |
| EllapsedTime: 93.9 seconds |
| RetCode: 0 |
| Status: OK |
| PackageFile: MatrixRider_1.20.0.zip |
| PackageFileSize: 298.3 KiB |
##############################################################################
##############################################################################
###
### Running command:
###
### rm -rf MatrixRider.buildbin-libdir && mkdir MatrixRider.buildbin-libdir && C:\Users\biocbuild\bbs-3.11-bioc\R\bin\R.exe CMD INSTALL --merge-multiarch --build --library=MatrixRider.buildbin-libdir MatrixRider_1.20.0.tar.gz
###
##############################################################################
##############################################################################
install for i386
* installing *source* package 'MatrixRider' ...
** using staged installation
** libs
"C:/rtools40/mingw32/bin/"gcc -I"C:/Users/BIOCBU~1/BBS-3~1.11-/R/include" -DNDEBUG -I'C:/Users/biocbuild/bbs-3.11-bioc/R/library/IRanges/include' -I'C:/Users/biocbuild/bbs-3.11-bioc/R/library/XVector/include' -I'C:/Users/biocbuild/bbs-3.11-bioc/R/library/Biostrings/include' -I'C:/Users/biocbuild/bbs-3.11-bioc/R/library/S4Vectors/include' -I"C:/extsoft/include" -O2 -Wall -std=gnu99 -mfpmath=sse -msse2 -mstackrealign -c Biostring_stubs.c -o Biostring_stubs.o
"C:/rtools40/mingw32/bin/"gcc -I"C:/Users/BIOCBU~1/BBS-3~1.11-/R/include" -DNDEBUG -I'C:/Users/biocbuild/bbs-3.11-bioc/R/library/IRanges/include' -I'C:/Users/biocbuild/bbs-3.11-bioc/R/library/XVector/include' -I'C:/Users/biocbuild/bbs-3.11-bioc/R/library/Biostrings/include' -I'C:/Users/biocbuild/bbs-3.11-bioc/R/library/S4Vectors/include' -I"C:/extsoft/include" -O2 -Wall -std=gnu99 -mfpmath=sse -msse2 -mstackrealign -c CuTest.c -o CuTest.o
"C:/rtools40/mingw32/bin/"gcc -I"C:/Users/BIOCBU~1/BBS-3~1.11-/R/include" -DNDEBUG -I'C:/Users/biocbuild/bbs-3.11-bioc/R/library/IRanges/include' -I'C:/Users/biocbuild/bbs-3.11-bioc/R/library/XVector/include' -I'C:/Users/biocbuild/bbs-3.11-bioc/R/library/Biostrings/include' -I'C:/Users/biocbuild/bbs-3.11-bioc/R/library/S4Vectors/include' -I"C:/extsoft/include" -O2 -Wall -std=gnu99 -mfpmath=sse -msse2 -mstackrealign -c R_init_MatrixRider.c -o R_init_MatrixRider.o
"C:/rtools40/mingw32/bin/"gcc -I"C:/Users/BIOCBU~1/BBS-3~1.11-/R/include" -DNDEBUG -I'C:/Users/biocbuild/bbs-3.11-bioc/R/library/IRanges/include' -I'C:/Users/biocbuild/bbs-3.11-bioc/R/library/XVector/include' -I'C:/Users/biocbuild/bbs-3.11-bioc/R/library/Biostrings/include' -I'C:/Users/biocbuild/bbs-3.11-bioc/R/library/S4Vectors/include' -I"C:/extsoft/include" -O2 -Wall -std=gnu99 -mfpmath=sse -msse2 -mstackrealign -c RunCuTest.c -o RunCuTest.o
"C:/rtools40/mingw32/bin/"gcc -I"C:/Users/BIOCBU~1/BBS-3~1.11-/R/include" -DNDEBUG -I'C:/Users/biocbuild/bbs-3.11-bioc/R/library/IRanges/include' -I'C:/Users/biocbuild/bbs-3.11-bioc/R/library/XVector/include' -I'C:/Users/biocbuild/bbs-3.11-bioc/R/library/Biostrings/include' -I'C:/Users/biocbuild/bbs-3.11-bioc/R/library/S4Vectors/include' -I"C:/extsoft/include" -O2 -Wall -std=gnu99 -mfpmath=sse -msse2 -mstackrealign -c XVector_stubs.c -o XVector_stubs.o
"C:/rtools40/mingw32/bin/"gcc -I"C:/Users/BIOCBU~1/BBS-3~1.11-/R/include" -DNDEBUG -I'C:/Users/biocbuild/bbs-3.11-bioc/R/library/IRanges/include' -I'C:/Users/biocbuild/bbs-3.11-bioc/R/library/XVector/include' -I'C:/Users/biocbuild/bbs-3.11-bioc/R/library/Biostrings/include' -I'C:/Users/biocbuild/bbs-3.11-bioc/R/library/S4Vectors/include' -I"C:/extsoft/include" -O2 -Wall -std=gnu99 -mfpmath=sse -msse2 -mstackrealign -c matrix_rider.c -o matrix_rider.o
C:/rtools40/mingw32/bin/gcc -shared -s -static-libgcc -o MatrixRider.dll tmp.def Biostring_stubs.o CuTest.o R_init_MatrixRider.o RunCuTest.o XVector_stubs.o matrix_rider.o -LC:/extsoft/lib/i386 -LC:/extsoft/lib -LC:/Users/BIOCBU~1/BBS-3~1.11-/R/bin/i386 -lR
installing to C:/Users/biocbuild/bbs-3.11-bioc/meat/MatrixRider.buildbin-libdir/00LOCK-MatrixRider/00new/MatrixRider/libs/i386
** R
** inst
** byte-compile and prepare package for lazy loading
** help
*** installing help indices
converting help for package 'MatrixRider'
finding HTML links ... done
MatrixRider-package html
getSeqOccupancy-method html
finding level-2 HTML links ... done
** building package indices
** installing vignettes
** testing if installed package can be loaded from temporary location
** testing if installed package can be loaded from final location
** testing if installed package keeps a record of temporary installation path
install for x64
* installing *source* package 'MatrixRider' ...
** libs
"C:/rtools40/mingw64/bin/"gcc -I"C:/Users/BIOCBU~1/BBS-3~1.11-/R/include" -DNDEBUG -I'C:/Users/biocbuild/bbs-3.11-bioc/R/library/IRanges/include' -I'C:/Users/biocbuild/bbs-3.11-bioc/R/library/XVector/include' -I'C:/Users/biocbuild/bbs-3.11-bioc/R/library/Biostrings/include' -I'C:/Users/biocbuild/bbs-3.11-bioc/R/library/S4Vectors/include' -I"C:/extsoft/include" -O2 -Wall -std=gnu99 -mfpmath=sse -msse2 -mstackrealign -c Biostring_stubs.c -o Biostring_stubs.o
"C:/rtools40/mingw64/bin/"gcc -I"C:/Users/BIOCBU~1/BBS-3~1.11-/R/include" -DNDEBUG -I'C:/Users/biocbuild/bbs-3.11-bioc/R/library/IRanges/include' -I'C:/Users/biocbuild/bbs-3.11-bioc/R/library/XVector/include' -I'C:/Users/biocbuild/bbs-3.11-bioc/R/library/Biostrings/include' -I'C:/Users/biocbuild/bbs-3.11-bioc/R/library/S4Vectors/include' -I"C:/extsoft/include" -O2 -Wall -std=gnu99 -mfpmath=sse -msse2 -mstackrealign -c CuTest.c -o CuTest.o
"C:/rtools40/mingw64/bin/"gcc -I"C:/Users/BIOCBU~1/BBS-3~1.11-/R/include" -DNDEBUG -I'C:/Users/biocbuild/bbs-3.11-bioc/R/library/IRanges/include' -I'C:/Users/biocbuild/bbs-3.11-bioc/R/library/XVector/include' -I'C:/Users/biocbuild/bbs-3.11-bioc/R/library/Biostrings/include' -I'C:/Users/biocbuild/bbs-3.11-bioc/R/library/S4Vectors/include' -I"C:/extsoft/include" -O2 -Wall -std=gnu99 -mfpmath=sse -msse2 -mstackrealign -c R_init_MatrixRider.c -o R_init_MatrixRider.o
"C:/rtools40/mingw64/bin/"gcc -I"C:/Users/BIOCBU~1/BBS-3~1.11-/R/include" -DNDEBUG -I'C:/Users/biocbuild/bbs-3.11-bioc/R/library/IRanges/include' -I'C:/Users/biocbuild/bbs-3.11-bioc/R/library/XVector/include' -I'C:/Users/biocbuild/bbs-3.11-bioc/R/library/Biostrings/include' -I'C:/Users/biocbuild/bbs-3.11-bioc/R/library/S4Vectors/include' -I"C:/extsoft/include" -O2 -Wall -std=gnu99 -mfpmath=sse -msse2 -mstackrealign -c RunCuTest.c -o RunCuTest.o
"C:/rtools40/mingw64/bin/"gcc -I"C:/Users/BIOCBU~1/BBS-3~1.11-/R/include" -DNDEBUG -I'C:/Users/biocbuild/bbs-3.11-bioc/R/library/IRanges/include' -I'C:/Users/biocbuild/bbs-3.11-bioc/R/library/XVector/include' -I'C:/Users/biocbuild/bbs-3.11-bioc/R/library/Biostrings/include' -I'C:/Users/biocbuild/bbs-3.11-bioc/R/library/S4Vectors/include' -I"C:/extsoft/include" -O2 -Wall -std=gnu99 -mfpmath=sse -msse2 -mstackrealign -c XVector_stubs.c -o XVector_stubs.o
"C:/rtools40/mingw64/bin/"gcc -I"C:/Users/BIOCBU~1/BBS-3~1.11-/R/include" -DNDEBUG -I'C:/Users/biocbuild/bbs-3.11-bioc/R/library/IRanges/include' -I'C:/Users/biocbuild/bbs-3.11-bioc/R/library/XVector/include' -I'C:/Users/biocbuild/bbs-3.11-bioc/R/library/Biostrings/include' -I'C:/Users/biocbuild/bbs-3.11-bioc/R/library/S4Vectors/include' -I"C:/extsoft/include" -O2 -Wall -std=gnu99 -mfpmath=sse -msse2 -mstackrealign -c matrix_rider.c -o matrix_rider.o
C:/rtools40/mingw64/bin/gcc -shared -s -static-libgcc -o MatrixRider.dll tmp.def Biostring_stubs.o CuTest.o R_init_MatrixRider.o RunCuTest.o XVector_stubs.o matrix_rider.o -LC:/extsoft/lib/x64 -LC:/extsoft/lib -LC:/Users/BIOCBU~1/BBS-3~1.11-/R/bin/x64 -lR
installing to C:/Users/biocbuild/bbs-3.11-bioc/meat/MatrixRider.buildbin-libdir/MatrixRider/libs/x64
** testing if installed package can be loaded
* MD5 sums
packaged installation of 'MatrixRider' as MatrixRider_1.20.0.zip
* DONE (MatrixRider)