| Back to Multiple platform build/check report for BioC 3.11 | 
 | 
This page was generated on 2020-10-17 11:57:00 -0400 (Sat, 17 Oct 2020).
| TO THE DEVELOPERS/MAINTAINERS OF THE MantelCorr PACKAGE: Please make sure to use the following settings in order to reproduce any error or warning you see on this page. | 
| Package 982/1905 | Hostname | OS / Arch | INSTALL | BUILD | CHECK | BUILD BIN | ||||||
| MantelCorr 1.58.0 Brian Steinmeyer 
 | malbec2 | Linux (Ubuntu 18.04.4 LTS) / x86_64 | OK | OK | OK |  | ||||||
| tokay2 | Windows Server 2012 R2 Standard / x64 | OK | OK | OK | [ OK ] |  | ||||||
| machv2 | macOS 10.14.6 Mojave / x86_64 | OK | OK | OK | OK |  | 
| Package: MantelCorr | 
| Version: 1.58.0 | 
| Command: rm -rf MantelCorr.buildbin-libdir && mkdir MantelCorr.buildbin-libdir && C:\Users\biocbuild\bbs-3.11-bioc\R\bin\R.exe CMD INSTALL --merge-multiarch --build --library=MantelCorr.buildbin-libdir MantelCorr_1.58.0.tar.gz | 
| StartedAt: 2020-10-17 10:55:26 -0400 (Sat, 17 Oct 2020) | 
| EndedAt: 2020-10-17 10:56:09 -0400 (Sat, 17 Oct 2020) | 
| EllapsedTime: 43.5 seconds | 
| RetCode: 0 | 
| Status: OK | 
| PackageFile: MantelCorr_1.58.0.zip | 
| PackageFileSize: 634.8 KiB | 
##############################################################################
##############################################################################
###
### Running command:
###
###   rm -rf MantelCorr.buildbin-libdir && mkdir MantelCorr.buildbin-libdir && C:\Users\biocbuild\bbs-3.11-bioc\R\bin\R.exe CMD INSTALL --merge-multiarch --build --library=MantelCorr.buildbin-libdir MantelCorr_1.58.0.tar.gz
###
##############################################################################
##############################################################################
install for i386
* installing *source* package 'MantelCorr' ...
** using staged installation
** R
** data
** inst
** byte-compile and prepare package for lazy loading
** help
*** installing help indices
  converting help for package 'MantelCorr'
    finding HTML links ... done
    ClusterGeneList                         html  
    ClusterList                             html  
    DistMatrices                            html  
    GetClusters                             html  
    GolubTrain                              html  
    MantelCorrs                             html  
    PermutationTest                         html  
** building package indices
** installing vignettes
** testing if installed package can be loaded from temporary location
** testing if installed package can be loaded from final location
** testing if installed package keeps a record of temporary installation path
install for x64
* installing *source* package 'MantelCorr' ...
** testing if installed package can be loaded
* MD5 sums
packaged installation of 'MantelCorr' as MantelCorr_1.58.0.zip
* DONE (MantelCorr)