| Back to Multiple platform build/check report for BioC 3.11 |
|
This page was generated on 2020-10-17 11:57:13 -0400 (Sat, 17 Oct 2020).
| TO THE DEVELOPERS/MAINTAINERS OF THE MSstatsSampleSize PACKAGE: Please make sure to use the following settings in order to reproduce any error or warning you see on this page. |
| Package 1147/1905 | Hostname | OS / Arch | INSTALL | BUILD | CHECK | BUILD BIN | ||||||
| MSstatsSampleSize 1.2.0 Ting Huang
| malbec2 | Linux (Ubuntu 18.04.4 LTS) / x86_64 | OK | OK | WARNINGS | |||||||
| tokay2 | Windows Server 2012 R2 Standard / x64 | OK | OK | WARNINGS | [ OK ] | |||||||
| machv2 | macOS 10.14.6 Mojave / x86_64 | OK | OK | WARNINGS | OK |
| Package: MSstatsSampleSize |
| Version: 1.2.0 |
| Command: rm -rf MSstatsSampleSize.buildbin-libdir && mkdir MSstatsSampleSize.buildbin-libdir && C:\Users\biocbuild\bbs-3.11-bioc\R\bin\R.exe CMD INSTALL --merge-multiarch --build --library=MSstatsSampleSize.buildbin-libdir MSstatsSampleSize_1.2.0.tar.gz |
| StartedAt: 2020-10-17 11:06:05 -0400 (Sat, 17 Oct 2020) |
| EndedAt: 2020-10-17 11:06:37 -0400 (Sat, 17 Oct 2020) |
| EllapsedTime: 31.8 seconds |
| RetCode: 0 |
| Status: OK |
| PackageFile: MSstatsSampleSize_1.2.0.zip |
| PackageFileSize: 3.22 MiB |
##############################################################################
##############################################################################
###
### Running command:
###
### rm -rf MSstatsSampleSize.buildbin-libdir && mkdir MSstatsSampleSize.buildbin-libdir && C:\Users\biocbuild\bbs-3.11-bioc\R\bin\R.exe CMD INSTALL --merge-multiarch --build --library=MSstatsSampleSize.buildbin-libdir MSstatsSampleSize_1.2.0.tar.gz
###
##############################################################################
##############################################################################
install for i386
* installing *source* package 'MSstatsSampleSize' ...
** using staged installation
** R
** data
*** moving datasets to lazyload DB
** inst
** byte-compile and prepare package for lazy loading
** help
*** installing help indices
converting help for package 'MSstatsSampleSize'
finding HTML links ... done
MSstatsSampleSize html
OV_SRM_train html
OV_SRM_train_annotation html
classification_results html
designSampleSizeClassification html
designSampleSizeClassificationPlots html
designSampleSizeHypothesisTestingPlot html
designSampleSizePCAplot html
dot-classification html
dot-classificationModel html
dot-classificationPerformance html
dot-logGeneration html
dot-randomImputation html
dot-sampleSimulation html
estimateVar html
meanSDplot html
simulateDataset html
simulated_datasets html
variance_estimation html
** building package indices
** installing vignettes
** testing if installed package can be loaded from temporary location
** testing if installed package can be loaded from final location
** testing if installed package keeps a record of temporary installation path
install for x64
* installing *source* package 'MSstatsSampleSize' ...
** testing if installed package can be loaded
* MD5 sums
packaged installation of 'MSstatsSampleSize' as MSstatsSampleSize_1.2.0.zip
* DONE (MSstatsSampleSize)